Workbook
Name JR_PAGE_ANCHOR_0_1: #REF!
Name а: #REF!

Sheet Таблица 1
R1: «УТВЕРЖДЕН
R3: постановлением Правительства
R4: Забайкальского края
R5: от 17 декабря 2025 года № 756
R6: (в редакции постановления Правительства
R7: Забайкальского края
R8: от ____________ № ____)
A11: Региональный краткосрочный план реализации Региональной программы капитального ремонта общего имущества в многоквартирных домах, расположенных на территории Забайкальского края, на период 2026-2028 годов
A12: Таблица 1. Адресный перечень и характеристика многоквартирных домов, расположенных на территории Забайкальского края, в отношении которых на период 2026-2028 годов планируется проведение капитального ремонта общего имущества в многоквартирных домах
A14: № п/п | B14: Адрес МКД | C14: Способ формирования фонда капитального ремонта | D14: Год | F14: Материал стен | G14: Количество этажей | H14: Количество подъездов | I14: общая площадь МКД, всего | J14: Площадь помещений МКД: | L14: Количество жителей, зарегистрированных в МКД на дату утверждения краткосрочного плана | M14: Стоимость капитального ремонта | T14: Удельная стоимость капитального ремонта 1 кв. м общей площади помещений МКД | U14: Предельная стоимость капитального ремонта 1 кв. м общей площади помещений МКД | V14: Плановая дата завершения работ
D15: ввода в эксплуатацию | E15: завершение последнего капитального ремонта | J15: всего: | K15: в том числе жилых помещений, находящихся в собственности граждан | M15: всего: | N15: в том числе:
N16: за счет средств бюджета Российской Федерации | O16: за счет средств бюджета субъекта Российской Федерации | P16: за счет средств местного бюджета | Q16: за счет средств собственников помещений в МКД | R16: за счет взносов собственников помещений в МКД, уплачиваемых исходя из установленного минимального размера взноса | S16: за счет взносов собственников помещений в МКД, уплачиваемых в размере, превышающем установленный минимальный размер взноса
I17: кв.м | J17: кв.м | K17: кв.м | L17: чел. | M17: руб. | N17: руб. | O17: руб. | P17: руб. | Q17: руб. | R17: руб. | S17: руб. | T17: руб./кв.м | U17: руб./кв.м
A18: 1 | B18: 2 | C18: 3 | D18: 4 | E18: 5 | F18: 6 | G18: 7 | H18: 8 | I18: 9 | J18: 10 | K18: 11 | L18: 12 | M18: 13 | N18: 14 | O18: 15 | P18: 16 | Q18: 17 | R18: 18 | S18: 19 | T18: 20 | U18: 21 | V18: 22
B19: 2026 год
A20: Итого по Забайкальскому краю: | C20: Х | D20: Х | E20: Х | F20: Х | G20: Х | H20: Х | I20: =I21+I223+I228+I237+I244+I266+I268+I276+I279+I295+I312+I315+I318+I324+I338+I344+I359+I370+I380+I386+I389+I395+I402+I407+I419 -> 1319026.3 | J20: =J21+J223+J228+J237+J244+J266+J268+J276+J279+J295+J312+J315+J318+J324+J338+J344+J359+J370+J380+J386+J389+J395+J402+J407+J419 -> 1109521.3 | K20: =K21+K223+K228+K237+K244+K266+K268+K276+K279+K295+K312+K315+K318+K324+K338+K344+K359+K370+K380+K386+K389+K395+K402+K407+K419 -> 967010.78 | L20: =L21+L223+L228+L237+L244+L266+L268+L276+L279+L295+L312+L315+L318+L324+L338+L344+L359+L370+L380+L386+L389+L395+L402+L407+L419 -> 40688 | M20: =M21+M223+M228+M237+M244+M266+M268+M276+M279+M295+M312+M315+M318+M324+M338+M344+M359+M370+M380+M386+M389+M395+M402+M407+M419 -> 1.4646165e+09 | N20: =N21+N223+N228+N237+N244+N266+N268+N276+N279+N295+N312+N315+N318+N324+N338+N344+N359+N370+N380+N386+N389+N395+N402+N407+N419 -> 0 | O20: =O21+O223+O228+O237+O244+O266+O268+O276+O279+O295+O312+O315+O318+O324+O338+O344+O359+O370+O380+O386+O389+O395+O402+O407+O419 -> 0 | P20: =P21+P223+P228+P237+P244+P266+P268+P276+P279+P295+P312+P315+P318+P324+P338+P344+P359+P370+P380+P386+P389+P395+P402+P407+P419 -> 0 | ... S20: =S21+S223+S228+S237+S244+S266+S268+S276+S279+S295+S312+S315+S318+S324+S338+S344+S359+S370+S380+S386+S389+S395+S402+S407+S419 -> 0 | T20: X | U20: X | V20: X
A21: Итого по городскому округу "Город Чита": | C21: Х | D21: Х | E21: Х | F21: Х | G21: Х | H21: Х | I21: =SUM(I22:I222) -> 804240.72 | J21: =SUM(J22:J222) -> 702082.39 | K21: =SUM(K22:K222) -> 613544.35 | L21: =SUM(L22:L222) -> 24560 | M21: =SUM(M22:M222) -> 8.8843731e+08 | N21: =SUM(N22:N222) -> 0 | O21: =SUM(O22:O222) -> 0 | P21: =SUM(P22:P222) -> 0 | ... S21: =SUM(S22:S222) -> 0 | T21: X | U21: X | V21: X
A22: 1 | B22: г. Чита, б-р Украинский, д. 1 | C22: общий счет регионального оператора | D22: 1971 | E22: Х | F22: Каменные, кирпичные | G22: 5 | H22: 4 | I22: 3387.4 | J22: 3357.8 | K22: 3209 | L22: 159 | M22: =SUM(N22:Q22) -> 314576.99 | N22: 0 | O22: 0 | P22: 0 | Q22: ='Таблица 3 '!C12 -> 314576.99 | R22: =Q22 -> 314576.99 | S22: 0 | T22: =M22/J22 -> 93.685446 | U22: =T22 -> 93.685446 | V22: 12.2026
A23: 2 | B23: г. Чита, б-р Украинский, д. 10 | C23: общий счет регионального оператора | D23: 1967 | E23: 2019 | F23: Панельные | G23: 5 | H23: 4 | I23: 3860.4 | J23: 3835.4 | K23: 3760.5 | L23: 128 | M23: =SUM(N23:Q23) -> 5950906.6 | N23: 0 | O23: 0 | P23: 0 | Q23: ='Таблица 3 '!C13 -> 5950906.6 | R23: =Q23 -> 5950906.6 | S23: 0 | T23: =M23/J23 -> 1551.5739 | U23: =T23 -> 1551.5739 | V23: 12.2026
A24: 3 | B24: г. Чита, б-р. Украинский, д. 14 | C24: общий счет регионального оператора | D24: 1961 | E24: 2023 | F24: Каменные, кирпичные | G24: 2 | H24: 1 | I24: 293.6 | J24: 292.1 | K24: 212.2 | L24: 22 | M24: =SUM(N24:Q24) -> 171672.69 | N24: 0 | O24: 0 | P24: 0 | Q24: ='Таблица 3 '!C14 -> 171672.69 | R24: =Q24 -> 171672.69 | S24: 0 | T24: =M24/J24 -> 587.7189 | U24: =T24 -> 587.7189 | V24: 12.2026
A25: 4 | B25: г. Чита, б-р Украинский, д. 18 | C25: общий счет регионального оператора | D25: 1967 | E25: 2023 | F25: Панельные | G25: 5 | H25: 3 | I25: 2574.6 | J25: 2566.7 | K25: 2355 | L25: 188 | M25: =SUM(N25:Q25) -> 5669424.5 | N25: 0 | O25: 0 | P25: 0 | Q25: ='Таблица 3 '!C15 -> 5669424.5 | R25: =Q25 -> 5669424.5 | S25: 0 | T25: =M25/J25 -> 2208.838 | U25: =T25 -> 2208.838 | V25: 12.2026
A26: 5 | B26: г. Чита, б-р Украинский, д. 22 | C26: общий счет регионального оператора | D26: 1972 | E26: Х | F26: Панельные | G26: 5 | H26: 5 | I26: 4453.9 | J26: 4448.1 | K26: 4389.7 | L26: 170 | M26: =SUM(N26:Q26) -> 6739721.1 | N26: 0 | O26: 0 | P26: 0 | Q26: ='Таблица 3 '!C16 -> 6739721.1 | R26: =Q26 -> 6739721.1 | S26: 0 | T26: =M26/J26 -> 1515.191 | U26: =T26 -> 1515.191 | V26: 12.2026
A27: 6 | B27: г. Чита, б-р Украинский, д. 24 | C27: общий счет регионального оператора | D27: 1972 | E27: Х | F27: Панельные | G27: 5 | H27: 5 | I27: 4474.8 | J27: 4452.1 | K27: 4261.3 | L27: 213 | M27: =SUM(N27:Q27) -> 16977504 | N27: 0 | O27: 0 | P27: 0 | Q27: ='Таблица 3 '!C17 -> 16977504 | R27: =Q27 -> 16977504 | S27: 0 | T27: =M27/J27 -> 3813.3698 | U27: =T27 -> 3813.3698 | V27: 12.2026
A28: 7 | B28: г. Чита, б-р Украинский, д. 28 | C28: общий счет регионального оператора | D28: 1972 | E28: Х | F28: Панельные | G28: 5 | H28: 4 | I28: 3881.6 | J28: 3857.9 | K28: 3756.7 | L28: 189 | M28: =SUM(N28:Q28) -> 15896527 | N28: 0 | O28: 0 | P28: 0 | Q28: ='Таблица 3 '!C18 -> 15896527 | R28: =Q28 -> 15896527 | S28: 0 | T28: =M28/J28 -> 4120.5129 | U28: =T28 -> 4120.5129 | V28: 12.2026
A29: 8 | B29: г. Чита, б-р Украинский, д. 3 | C29: общий счет регионального оператора | D29: 1971 | E29: Х | F29: Каменные, кирпичные | G29: 5 | H29: 4 | I29: 3387.4 | J29: 3357.8 | K29: 3209 | L29: 159 | M29: =SUM(N29:Q29) -> 16333474 | N29: 0 | O29: 0 | P29: 0 | Q29: ='Таблица 3 '!C19 -> 16333474 | R29: =Q29 -> 16333474 | S29: 0 | T29: =M29/J29 -> 4864.338 | U29: =T29 -> 4864.338 | V29: 12.2026
A30: 9 | B30: г. Чита, б-р. Украинский, д. 7 | C30: общий счет регионального оператора | D30: 1986 | E30: 2024 | F30: Панельные | G30: 5 | H30: 4 | I30: 3262 | J30: 2954.9 | K30: 2904.9 | L30: 140 | M30: =SUM(N30:Q30) -> 391899.61 | N30: 0 | O30: 0 | P30: 0 | Q30: ='Таблица 3 '!C20 -> 391899.61 | R30: =Q30 -> 391899.61 | S30: 0 | T30: =M30/J30 -> 132.62703 | U30: =T30 -> 132.62703 | V30: 12.2026
A31: 10 | B31: г. Чита, б-р Украинский, д. 8 | C31: общий счет регионального оператора | D31: 1967 | E31: Х | F31: Панельные | G31: 5 | H31: 3 | I31: 2580.8 | J31: 2557.6 | K31: 2371.5 | L31: 140 | M31: =SUM(N31:Q31) -> 10953603 | N31: 0 | O31: 0 | P31: 0 | Q31: ='Таблица 3 '!C21 -> 10953603 | R31: =Q31 -> 10953603 | S31: 0 | T31: =M31/J31 -> 4282.7664 | U31: =T31 -> 4282.7664 | V31: 12.2026
A32: 11 | B32: г. Чита, мкр. 1-й, д. 28 | C32: общий счет регионального оператора | D32: 1988 | E32: 2021 | F32: Панельные | G32: 5 | H32: 4 | I32: 3338.3 | J32: 3008 | K32: 2870.6 | L32: 117 | M32: =SUM(N32:Q32) -> 458721.95 | N32: 0 | O32: 0 | P32: 0 | Q32: ='Таблица 3 '!C22 -> 458721.95 | R32: =Q32 -> 458721.95 | S32: 0 | T32: =M32/J32 -> 152.50065 | U32: =T32 -> 152.50065 | V32: 12.2026
A33: 12 | B33: г. Чита, мкр. 1-й, д. 6 | C33: общий счет регионального оператора | D33: 1989 | E33: Х | F33: Панельные | G33: 5 | H33: 6 | I33: 5150.22 | J33: 4629 | K33: 4629 | L33: 202 | M33: =SUM(N33:Q33) -> 13855160 | N33: 0 | O33: 0 | P33: 0 | Q33: ='Таблица 3 '!C23 -> 13855160 | R33: =Q33 -> 13855160 | S33: 0 | T33: =M33/J33 -> 2993.1215 | U33: =T33 -> 2993.1215 | V33: 12.2026
... A46: 25 | B46: г. Чита, мкр. Геофизический, д. 7 | C46: общий счет регионального оператора | D46: 1994 | E46: Х | F46: Кирпичные, каменные | G46: 3 | H46: 1 | I46: 1295.2 | J46: 1193 | K46: 1193 | L46: 54 | M46: =SUM(N46:Q46) -> 260604.32 | N46: 0 | O46: 0 | P46: 0 | Q46: ='Таблица 3 '!C36 -> 260604.32 | R46: =Q46 -> 260604.32 | S46: 0 | T46: =M46/J46 -> 218.44453 | U46: =T46 -> 218.44453 | V46: 12.2026
A47: 26 | B47: г. Чита, мкр. Геофизический, д. 8 | C47: общий счет регионального оператора | D47: 1987 | E47: Х | F47: Каменные, кирпичные | G47: 3 | H47: 2 | I47: 1954.7 | J47: 1295.5 | K47: 1295.5 | L47: 23 | M47: =SUM(N47:Q47) -> 254122.85 | N47: 0 | O47: 0 | P47: 0 | Q47: ='Таблица 3 '!C37 -> 254122.85 | R47: =Q47 -> 254122.85 | S47: 0 | T47: =M47/J47 -> 196.15812 | U47: =T47 -> 196.15812 | V47: 12.2026
A48: 27 | B48: г. Чита, мкр. Осетровка, д. 12 | C48: общий счет регионального оператора | D48: 1989 | E48: Х | F48: Панельные | G48: 5 | H48: 4 | I48: 3947.2 | J48: 2813.4 | K48: 1942.5 | L48: 133 | M48: =SUM(N48:Q48) -> 9222818 | N48: 0 | O48: 0 | P48: 0 | Q48: ='Таблица 3 '!C38 -> 9222818 | R48: =Q48 -> 9222818 | S48: 0 | T48: =M48/J48 -> 3278.1752 | U48: =T48 -> 3278.1752 | V48: 12.2026
A49: 28 | B49: г. Чита, мкр. Осетровка, д. 19 | C49: общий счет регионального оператора | D49: 1990 | E49: Х | F49: Панельные | G49: 5 | H49: 4 | I49: 3897.4 | J49: 2832.3 | K49: 2023.8 | L49: 129 | M49: =SUM(N49:Q49) -> 15219490 | N49: 0 | O49: 0 | P49: 0 | Q49: ='Таблица 3 '!C39 -> 15219490 | R49: =Q49 -> 15219490 | S49: 0 | T49: =M49/J49 -> 5373.5444 | U49: =T49 -> 5373.5444 | V49: 12.2026
A50: 29 | B50: г. Чита, мкр. Северный, д. 13 | C50: общий счет регионального оператора | D50: 1977 | E50: Х | F50: Каменные, кирпичные | G50: 9 | H50: 1 | I50: 2485.5 | J50: 2402.1 | K50: 2198.9 | L50: 98 | M50: =SUM(N50:Q50) -> 2438379.8 | N50: 0 | O50: 0 | P50: 0 | Q50: ='Таблица 3 '!C40 -> 2438379.8 | R50: =Q50 -> 2438379.8 | S50: 0 | T50: =M50/J50 -> 1015.1034 | U50: =T50 -> 1015.1034 | V50: 12.2026
A51: 30 | B51: г. Чита, мкр. Северный, д. 40 | C51: специальный счет регионального оператора | D51: 1985 | E51: Х | F51: Панельные | G51: 5 | H51: 9 | I51: 6714.1 | J51: 6723 | K51: 6505.9 | L51: 285 | M51: =SUM(N51:Q51) -> 2126097.6 | N51: 0 | O51: 0 | P51: 0 | Q51: ='Таблица 3 '!C41 -> 2126097.6 | R51: =Q51 -> 2126097.6 | S51: 0 | T51: =M51/J51 -> 316.24239 | U51: =T51 -> 316.24239 | V51: 12.2026
A52: 31 | B52: г. Чита, мкр. Северный, д. 60 | C52: общий счет регионального оператора | D52: 1994 | E52: 2019 | F52: Панельные | G52: 10 | H52: 6 | I52: 19831 | J52: 14546.1 | K52: 14546.1 | L52: 605 | M52: =SUM(N52:Q52) -> 12828641 | N52: 0 | O52: 0 | P52: 0 | Q52: ='Таблица 3 '!C42 -> 12828641 | R52: =Q52 -> 12828641 | S52: 0 | T52: =M52/J52 -> 881.92993 | U52: =T52 -> 881.92993 | V52: 12.2026
A53: 32 | B53: г. Чита, мкр. Северный, д. 61 | C53: специальный счет управляющей организации | D53: 1991 | E53: Х | F53: Панельные | G53: 10 | H53: 3 | I53: 7240.3 | J53: 7240.3 | K53: 7240.3 | L53: 273 | M53: =SUM(N53:Q53) -> 8751660 | N53: 0 | O53: 0 | P53: 0 | Q53: ='Таблица 3 '!C43 -> 8751660 | R53: =Q53 -> 8751660 | S53: 0 | T53: =M53/J53 -> 1208.7427 | U53: =T53 -> 1208.7427 | V53: 12.2026
A54: 33 | B54: г. Чита, мкр. ТУСМ-4, д. 1 | C54: общий счет регионального оператора | D54: 1963 | E54: Х | F54: Каменные, кирпичные | G54: 2 | H54: 1 | I54: 322.3 | J54: 322.3 | K54: 213.5 | L54: 16 | M54: =SUM(N54:Q54) -> 265575.2 | N54: 0 | O54: 0 | P54: 0 | Q54: ='Таблица 3 '!C44 -> 265575.2 | R54: =Q54 -> 265575.2 | S54: 0 | T54: =M54/J54 -> 824 | U54: =T54 -> 824 | V54: 12.2026
A55: 34 | B55: г. Чита, п. Ясный, д. 1 | C55: общий счет регионального оператора | D55: 1991 | E55: Х | F55: Панельные | G55: 10 | H55: 3 | I55: 7213.2 | J55: 5771.4 | K55: 0 | L55: 20 | M55: =SUM(N55:Q55) -> 6058818.7 | N55: 0 | O55: 0 | P55: 0 | Q55: ='Таблица 3 '!C45 -> 6058818.7 | R55: =Q55 -> 6058818.7 | S55: 0 | T55: =M55/J55 -> 1049.8005 | U55: =T55 -> 1049.8005 | V55: 12.2026
A56: 35 | B56: г. Чита, п. Ясный, д. 17 | C56: общий счет регионального оператора | D56: 2011 | E56: Х | F56: Панельные | G56: 5 | H56: 5 | I56: 8137 | J56: 5829.1 | K56: 0 | L56: 2 | M56: =SUM(N56:Q56) -> 1301702.4 | N56: 0 | O56: 0 | P56: 0 | Q56: ='Таблица 3 '!C46 -> 1301702.4 | R56: =Q56 -> 1301702.4 | S56: 0 | T56: =M56/J56 -> 223.31104 | U56: =T56 -> 223.31104 | V56: 12.2026
...

Sheet Таблица 2
A2: Таблица 2. Планируемые показатели выполнения Регионального краткосрочного плана реализации Региональной программы капитального ремонта общего имущества в многоквартирных домах, расположенных на территории Забайкальского края, на период 2026-2028 годов
A4: № п/п | B4: Наименование МО | C4: общая площадь МКД, всего | D4: Количество жителей, зарегистрированных в МКД на дату утверждения плана | E4: Количество МКД | J4: Стоимость капитального ремонта
E5: I квартал | F5: II квартал | G5: III квартал | H5: IV квартал | I5: Всего : | J5: I квартал | K5: II квартал | L5: III квартал | M5: IV квартал | N5: Всего :
C6: кв.м | D6: чел. | E6: ед. | F6: ед. | G6: ед. | H6: ед. | I6: ед. | J6: руб. | K6: руб. | L6: руб. | M6: руб. | N6: руб.
A7: 1 | B7: 2 | C7: 3 | D7: 4 | E7: 5 | F7: 6 | G7: 7 | H7: 8 | I7: 9 | J7: 10 | K7: 11 | L7: 12 | M7: 13 | N7: 14
B8: 2026 год
B9: Итого по Забайкальскому краю | C9: =SUM(C10:C28)+SUM(C29:C34) -> 1319026.3 | D9: =SUM(D10:D28)+SUM(D29:D34) -> 40688 | E9: =SUM(E10:E28)+SUM(E29:E34) -> 0 | F9: =SUM(F10:F28)+SUM(F29:F34) -> 0 | G9: =SUM(G10:G28)+SUM(G29:G34) -> 0 | H9: =SUM(H10:H28)+SUM(H29:H34) -> 412 | I9: =SUM(I10:I28)+SUM(I29:I34) -> 412 | J9: =SUM(J10:J28)+SUM(J29:J34) -> 0 | ... N9: =SUM(N10:N28)+SUM(N29:N34) -> 1.4646165e+09
A10: 1 | B10: Городской округ "Город Чита" | C10: ='Таблица 1'!I21 -> 804240.72 | D10: ='Таблица 1'!L21 -> 24560 | E10: 0 | F10: 0 | G10: 0 | H10: 201 | I10: =H10 -> 201 | J10: 0 | K10: 0 | L10: 0 | M10: ='Таблица 1'!M21 -> 8.8843731e+08 | N10: =M10 -> 8.8843731e+08
A11: 2 | B11: Городской округ "Посёлок Агинское" | C11: ='Таблица 1'!I223 -> 4229.67 | D11: ='Таблица 1'!L223 -> 129 | E11: 0 | F11: 0 | G11: 0 | H11: 4 | I11: =H11 -> 4 | J11: 0 | K11: 0 | L11: 0 | M11: ='Таблица 1'!M223 -> 3857022.2 | N11: =M11 -> 3857022.2
A12: 3 | B12: Агинский муниципальный округ | C12: ='Таблица 1'!I228 -> 42614 | D12: ='Таблица 1'!L228 -> 1576 | E12: 0 | F12: 0 | G12: 0 | H12: 8 | I12: =H12 -> 8 | J12: 0 | K12: 0 | L12: 0 | M12: ='Таблица 1'!M228 -> 7365317.8 | N12: =M12 -> 7365317.8
A13: 4 | B13: Балейский муниципальный округ | C13: ='Таблица 1'!I237 -> 6364.63 | D13: ='Таблица 1'!L237 -> 175 | E13: 0 | F13: 0 | G13: 0 | H13: 6 | I13: =H13 -> 6 | J13: 0 | K13: 0 | L13: 0 | M13: ='Таблица 1'!M237 -> 9120712.9 | N13: =M13 -> 9120712.9
A14: 5 | B14: Борзинский муниципальный округ | C14: ='Таблица 1'!I244 -> 44219.39 | D14: ='Таблица 1'!L244 -> 1468 | E14: 0 | F14: 0 | G14: 0 | H14: 21 | I14: =H14 -> 21 | J14: 0 | K14: 0 | L14: 0 | M14: ='Таблица 1'!M244 -> 63007082 | N14: =M14 -> 63007082
A15: 6 | B15: Газимуро-Заводский муниципальный округ | C15: ='Таблица 1'!I266 -> 555.1 | D15: ='Таблица 1'!L266 -> 24 | E15: 0 | F15: 0 | G15: 0 | H15: 1 | I15: =H15 -> 1 | J15: 0 | K15: 0 | L15: 0 | M15: ='Таблица 1'!M266 -> 200729.9 | N15: =M15 -> 200729.9
A16: 7 | B16: Забайкальский муниципальный округ | C16: ='Таблица 1'!I268 -> 14777.3 | D16: ='Таблица 1'!L268 -> 414 | E16: 0 | F16: 0 | G16: 0 | H16: 7 | I16: =H16 -> 7 | J16: 0 | K16: 0 | L16: 0 | M16: ='Таблица 1'!M268 -> 15274966 | N16: =M16 -> 15274966
A17: 8 | B17: Каларский муниципальный округ | C17: ='Таблица 1'!I276 -> 5936.5 | D17: ='Таблица 1'!L276 -> 224 | E17: 0 | F17: 0 | G17: 0 | H17: 2 | I17: =H17 -> 2 | J17: 0 | K17: 0 | L17: 0 | M17: ='Таблица 1'!M276 -> 1025320.6 | N17: =M17 -> 1025320.6
A18: 9 | B18: Карымский муниципальный округ | C18: ='Таблица 1'!I279 -> 28248 | D18: ='Таблица 1'!L279 -> 785 | E18: 0 | F18: 0 | G18: 0 | H18: 15 | I18: =H18 -> 15 | J18: 0 | K18: 0 | L18: 0 | M18: ='Таблица 1'!M279 -> 45698775 | N18: =M18 -> 45698775
A19: 10 | B19: Краснокаменский муниципальный округ | C19: ='Таблица 1'!I295 -> 83437.17 | D19: ='Таблица 1'!L295 -> 2086 | E19: 0 | F19: 0 | G19: 0 | H19: 16 | I19: =H19 -> 16 | J19: 0 | K19: 0 | L19: 0 | M19: ='Таблица 1'!M295 -> 15563710 | N19: =M19 -> 15563710
A20: 11 | B20: Красночикойский муниципальный округ | C20: ='Таблица 1'!I312 -> 2077.59 | D20: ='Таблица 1'!L312 -> 57 | E20: 0 | F20: 0 | G20: 0 | H20: 2 | I20: =H20 -> 2 | J20: 0 | K20: 0 | L20: 0 | M20: ='Таблица 1'!M312 -> 2246915 | N20: =M20 -> 2246915
A21: 12 | B21: Кыринский муниципальный округ | C21: ='Таблица 1'!I315 -> 2507.6 | D21: ='Таблица 1'!L315 -> 62 | E21: 0 | F21: 0 | G21: 0 | H21: 2 | I21: =H21 -> 2 | J21: 0 | K21: 0 | L21: 0 | M21: ='Таблица 1'!M315 -> 1575708.7 | N21: =M21 -> 1575708.7
A22: 13 | B22: Могойтуйский муниципальный округ | C22: ='Таблица 1'!I318 -> 14553.2 | D22: ='Таблица 1'!L318 -> 200 | E22: 0 | F22: 0 | G22: 0 | H22: 5 | I22: =H22 -> 5 | J22: 0 | K22: 0 | L22: 0 | M22: ='Таблица 1'!M318 -> 70642856 | N22: =M22 -> 70642856
A23: 14 | B23: Могочинский муниципальный округ | C23: ='Таблица 1'!I324 -> 39328.3 | D23: ='Таблица 1'!L324 -> 1564 | E23: 0 | F23: 0 | G23: 0 | H23: 13 | I23: =H23 -> 13 | J23: 0 | K23: 0 | L23: 0 | M23: ='Таблица 1'!M324 -> 47136181 | N23: =M23 -> 47136181
A24: 15 | B24: Нерчинский муниципальный округ | C24: ='Таблица 1'!I338 -> 14979.04 | D24: ='Таблица 1'!L338 -> 576 | E24: 0 | F24: 0 | G24: 0 | H24: 5 | I24: =H24 -> 5 | J24: 0 | K24: 0 | L24: 0 | M24: ='Таблица 1'!M338 -> 9147092.1 | N24: =M24 -> 9147092.1
A25: 16 | B25: Оловяннинский муниципальный округ | C25: ='Таблица 1'!I344 -> 59411.9 | D25: ='Таблица 1'!L344 -> 1866 | E25: 0 | F25: 0 | G25: 0 | H25: 14 | I25: =H25 -> 14 | J25: 0 | K25: 0 | L25: 0 | M25: ='Таблица 1'!M344 -> 52497091 | N25: =M25 -> 52497091
A26: 17 | B26: Петровск-Забайкальский муниципальный округ | C26: ='Таблица 1'!I359 -> 23559.41 | D26: ='Таблица 1'!L359 -> 572 | E26: 0 | F26: 0 | G26: 0 | H26: 10 | I26: =H26 -> 10 | J26: 0 | K26: 0 | L26: 0 | M26: ='Таблица 1'!M359 -> 50131385 | N26: =M26 -> 50131385
A27: 18 | B27: Приаргунский муниципальный округ | C27: ='Таблица 1'!I370 -> 7035.55 | D27: ='Таблица 1'!L370 -> 234 | E27: 0 | F27: 0 | G27: 0 | H27: 9 | I27: =H27 -> 9 | J27: 0 | K27: 0 | L27: 0 | M27: ='Таблица 1'!M370 -> 14154042 | N27: =M27 -> 14154042
A28: 19 | B28: Сретенский муниципальный округ | C28: ='Таблица 1'!I380 -> 8247.1 | D28: ='Таблица 1'!L380 -> 272 | E28: 0 | F28: 0 | G28: 0 | H28: 5 | I28: =H28 -> 5 | J28: 0 | K28: 0 | L28: 0 | M28: ='Таблица 1'!M380 -> 5138679.3 | N28: =M28 -> 5138679.3
A29: 20 | B29: Тунгокоченский муниципальный округ | C29: ='Таблица 1'!I386 -> 2895.39 | D29: ='Таблица 1'!L386 -> 83 | E29: 0 | F29: 0 | G29: 0 | H29: 2 | I29: =H29 -> 2 | J29: 0 | K29: 0 | L29: 0 | M29: ='Таблица 1'!M386 -> 1845810.2 | N29: =M29 -> 1845810.2
A30: 21 | B30: Улётовский муниципальный округ | C30: ='Таблица 1'!I389 -> 5352.3 | D30: ='Таблица 1'!L389 -> 198 | E30: 0 | F30: 0 | G30: 0 | H30: 5 | I30: =H30 -> 5 | J30: 0 | K30: 0 | L30: 0 | M30: ='Таблица 1'!M389 -> 7888827 | N30: =M30 -> 7888827
A31: 22 | B31: Хилокский муниципальный округ | C31: ='Таблица 1'!I395 -> 8524.72 | D31: ='Таблица 1'!L395 -> 251 | E31: 0 | F31: 0 | G31: 0 | H31: 6 | I31: =H31 -> 6 | J31: 0 | K31: 0 | L31: 0 | M31: ='Таблица 1'!M395 -> 6915654.7 | N31: =M31 -> 6915654.7
A32: 23 | B32: Чернышевский муниципальный округ | C32: ='Таблица 1'!I402 -> 4318.8 | D32: ='Таблица 1'!L402 -> 144 | E32: 0 | F32: 0 | G32: 0 | H32: 4 | I32: =H32 -> 4 | J32: 0 | K32: 0 | L32: 0 | M32: ='Таблица 1'!M402 -> 21689586 | N32: =M32 -> 21689586
A33: 24 | B33: Читинский муниципальный округ | C33: ='Таблица 1'!I407 -> 31911.3 | D33: ='Таблица 1'!L407 -> 847 | E33: 0 | F33: 0 | G33: 0 | H33: 11 | I33: =H33 -> 11 | J33: 0 | K33: 0 | L33: 0 | M33: ='Таблица 1'!M407 -> 54513547 | N33: =M33 -> 54513547
A34: 25 | B34: Миниципальный район "Шилкинский район", том числе: | C34: =SUM(C35:C38) -> 59701.66 | D34: =SUM(D35:D38) -> 2321 | E34: =SUM(E35:E38) -> 0 | F34: =SUM(F35:F38) -> 0 | G34: =SUM(G35:G38) -> 0 | H34: =SUM(H35:H38) -> 38 | I34: =SUM(I35:I38) -> 38 | J34: =SUM(J35:J38) -> 0 | ... N34: =SUM(N35:N38) -> 69542225
B35: по городскому поселению "Шилкинское" | C35: ='Таблица 1'!I420 -> 32944.7 | D35: ='Таблица 1'!L420 -> 1289 | E35: =SUM(E36:E39) -> 0 | F35: =SUM(F36:F39) -> 0 | G35: =SUM(G36:G39) -> 0 | H35: 17 | I35: =H35 -> 17 | J35: =SUM(J36:J39) -> 0 | K35: =SUM(K36:K39) -> 0 | L35: =SUM(L36:L39) -> 0 | M35: ='Таблица 1'!M420 -> 21333311 | N35: =M35 -> 21333311
B36: по городскому поселению "Первомайское" | C36: ='Таблица 1'!I438 -> 23170.7 | D36: ='Таблица 1'!L438 -> 905 | E36: =SUM(E37:E40) -> 0 | F36: =SUM(F37:F40) -> 0 | G36: =SUM(G37:G40) -> 0 | H36: 17 | I36: =H36 -> 17 | J36: =SUM(J37:J40) -> 0 | K36: =SUM(K37:K40) -> 0 | L36: =SUM(L37:L40) -> 0 | M36: ='Таблица 1'!M438 -> 39254210 | N36: =M36 -> 39254210
B37: по городскому поселению "Холбонское" | C37: ='Таблица 1'!I456 -> 1529.26 | D37: ='Таблица 1'!L456 -> 72 | E37: =SUM(E38:E41) -> 0 | F37: =SUM(F38:F41) -> 0 | G37: =SUM(G38:G41) -> 0 | H37: 2 | I37: =H37 -> 2 | J37: =SUM(J38:J41) -> 0 | K37: =SUM(K38:K41) -> 0 | L37: =SUM(L38:L41) -> 0 | M37: ='Таблица 1'!M456 -> 5523218.7 | N37: =M37 -> 5523218.7
B38: по сельскому поселению "Размахнинское"" | C38: ='Таблица 1'!I460 -> 2057 | D38: ='Таблица 1'!L460 -> 55 | E38: =SUM(E39:E41) -> 0 | F38: =SUM(F39:F41) -> 0 | G38: =SUM(G39:G41) -> 0 | H38: 2 | I38: =H38 -> 2 | J38: =SUM(J39:J41) -> 0 | K38: =SUM(K39:K41) -> 0 | L38: =SUM(L39:L41) -> 0 | M38: ='Таблица 1'!M460 -> 3431485.7 | N38: =M38 -> 3431485.7
B39: 2027 год
B40: Итого по Забайкальскому краю | C40: =SUM(C41:C66) -> 1031990.3 | D40: =SUM(D41:D66) -> 29899 | E40: =SUM(E41:E66) -> 0 | F40: =SUM(F41:F66) -> 0 | G40: =SUM(G41:G66) -> 0 | H40: =SUM(H41:H66) -> 331 | I40: =SUM(I41:I66) -> 331 | J40: =SUM(J41:J66) -> 0 | ... N40: =SUM(N41:N66) -> 3.217491e+09
A41: 1 | B41: Городской округ "Город Чита" | C41: ='Таблица 1'!I465 -> 696978.04 | D41: ='Таблица 1'!L465 -> 19926 | E41: 0 | F41: 0 | G41: 0 | H41: 171 | I41: =H41 -> 171 | J41: 0 | K41: 0 | L41: 0 | M41: ='Таблица 1'!M465 -> 2.0115673e+09 | N41: =M41 -> 2.0115673e+09
A42: 2 | B42: Городской округ "Посёлок Агинское" | C42: ='Таблица 1'!I637 -> 1106.2 | D42: ='Таблица 1'!L637 -> 33 | E42: 0 | F42: 0 | G42: 0 | H42: 1 | I42: =H42 -> 1 | J42: 0 | K42: 0 | L42: 0 | M42: ='Таблица 1'!M637 -> 4801450.9 | N42: =M42 -> 4801450.9
...

Sheet Таблица 3 
A2: Таблица 3. Адресный перечень многоквартирных домов, расположенных на территории Забайкальского края, в отношении которых на период 2026-2028 годов планируется проведение капитального ремонта общего имущества, по видам работ по капитальному ремонту
A4: № п/п | B4: Адрес МКД | C4: Стоимость капитального ремонта ВСЕГО | D4: Виды, установленные частью 1 статьи 166 Жилищного Кодекса Российской Федерации | P4: Виды, установленные нормативным правовым актом Забайкальского края | T4: Виды, установленные частью 3 статьи 166 Жилищного Кодекса Российской Федерации
D5: ремонт внутридомовых инженерных систем электро-, тепло-, газо-, водоснабжения, водоотведения | E5: в том числе: | J5: Ремонт, замена, модернизация лифтов, ремонт лифтовых шахт, машинных и блочных помещений | L5: Ремонт крыши | M5: Ремонт подвальных помещений, относящихся к общему имуществу в многоквартирном доме | N5: Ремонт фасада | O5: Ремонт фундамента многоквартирного дома | P5: услуги и (или) работы по оценке технического состояния, разработке проектной документации на проведение капитального ремонта общего имущества многоквартирных домов | Q5: услуги и (или) работы по оценке технического состояния, разработке проектной документации на проведение капитального ремонта общего имущества многоквартирных домов, являющихся объектами культурного наследия, выявленными объектами культурного наследия | R5: услуги по осуществлению строительного контроля | S5: услуги и (или) работы по переустройству невентилируемой крыши на вентилируемую крышу, устройству выходов на кровлю
E6: электроснабжения | F6: теплоснабжения | G6: горячего водоснабжения | H6: холодного водоснабжения | I6: водоотведения
C7: руб. | D7: руб. | E7: руб. | F7: руб. | G7: руб. | H7: руб. | I7: руб. | J7: ед. | K7: руб. | L7: руб. | M7: руб. | N7: руб. | O7: руб. | P7: руб. | Q7: руб. | R7: руб. | S7: руб. | T7: руб.
A8: 1 | B8: 2 | C8: 3 | D8: 4 | E8: 5 | F8: 6 | G8: 7 | H8: 8 | I8: 9 | J8: 10 | K8: 11 | L8: 12 | M8: 13 | N8: 14 | O8: 15 | P8: 16 | Q8: 17 | R8: 18 | S8: 19 | T8: 20
A9: 2026 год
A10: Итого по Забайкальскому краю: | C10: =C11+C213+C218+C227+C234+C256+C258+C266+C269+C285+C302+C305+C308+C314+C328+C334+C349+C360+C370+C376+C379+C385+C392+C397+C409 -> 1.4646165e+09 | D10: =D11+D213+D218+D227+D234+D256+D258+D266+D269+D285+D302+D305+D308+D314+D328+D334+D349+D360+D370+D376+D379+D385+D392+D397+D409 -> 4.347717e+08 | E10: =E11+E213+E218+E227+E234+E256+E258+E266+E269+E285+E302+E305+E308+E314+E328+E334+E349+E360+E370+E376+E379+E385+E392+E397+E409 -> 1.3781504e+08 | F10: =F11+F213+F218+F227+F234+F256+F258+F266+F269+F285+F302+F305+F308+F314+F328+F334+F349+F360+F370+F376+F379+F385+F392+F397+F409 -> 1.9545108e+08 | G10: =G11+G213+G218+G227+G234+G256+G258+G266+G269+G285+G302+G305+G308+G314+G328+G334+G349+G360+G370+G376+G379+G385+G392+G397+G409 -> 38268354 | H10: =H11+H213+H218+H227+H234+H256+H258+H266+H269+H285+H302+H305+H308+H314+H328+H334+H349+H360+H370+H376+H379+H385+H392+H397+H409 -> 30565161 | I10: =I11+I213+I218+I227+I234+I256+I258+I266+I269+I285+I302+I305+I308+I314+I328+I334+I349+I360+I370+I376+I379+I385+I392+I397+I409 -> 32672066 | J10: =J11+J213+J218+J227+J234+J256+J258+J266+J269+J285+J302+J305+J308+J314+J328+J334+J349+J360+J370+J376+J379+J385+J392+J397+J409 -> 27 | ... T10: =T11+T213+T218+T227+T234+T256+T258+T266+T269+T285+T302+T305+T308+T314+T328+T334+T349+T360+T370+T376+T379+T385+T392+T397+T409 -> 0
A11: Итого по городскому округу "Город Чита": | C11: =SUM(C12:C212) -> 8.8843731e+08 | D11: =SUM(D12:D212) -> 2.4071567e+08 | E11: =SUM(E12:E212) -> 78379232 | F11: =SUM(F12:F212) -> 1.1529781e+08 | G11: =SUM(G12:G212) -> 29732906 | H11: =SUM(H12:H212) -> 9778836.8 | I11: =SUM(I12:I212) -> 7526880.9 | J11: =SUM(J12:J212) -> 27 | ... T11: =SUM(T12:T212) -> 0
A12: 1 | B12: г. Чита, б-р. Украинский, д. 1(1) | C12: =D12+K12+L12+M12+N12+O12+P12+Q12+R12+S12+T12 -> 314576.99 | D12: =SUM(E12:I12) -> 0 | E12: 0 | F12: 0 | G12: 0 | H12: 0 | I12: 0 | J12: 0 | K12: 0 | L12: 0 | M12: 0 | N12: 0 | O12: 0 | P12: 314576.99 | Q12: 0 | R12: 0 | S12: 0 | T12: 0
A13: 2 | B13: г. Чита, б-р. Украинский, д. 10(4) | C13: =D13+K13+L13+M13+N13+O13+P13+Q13+R13+S13+T13 -> 5950906.6 | D13: =SUM(E13:I13) -> 5675335.3 | E13: 0 | F13: 5675335.3 | G13: 0 | H13: 0 | I13: 0 | J13: 0 | K13: 0 | L13: 0 | M13: 0 | N13: 0 | O13: 0 | P13: 275571.27 | Q13: 0 | R13: 0 | S13: 0 | T13: 0
A14: 3 | B14: г. Чита, б-р. Украинский, д. 14(8) | C14: =D14+K14+L14+M14+N14+O14+P14+Q14+R14+S14+T14 -> 171672.69 | D14: =SUM(E14:I14) -> 0 | E14: 0 | F14: 0 | G14: 0 | H14: 0 | I14: 0 | J14: 0 | K14: 0 | L14: 0 | M14: 0 | N14: 0 | O14: 0 | P14: 171672.69 | Q14: 0 | R14: 0 | S14: 0 | T14: 0
A15: 4 | B15: г. Чита, б-р. Украинский, д. 18(2) | C15: =D15+K15+L15+M15+N15+O15+P15+Q15+R15+S15+T15 -> 5669424.5 | D15: =SUM(E15:I15) -> 0 | E15: 0 | F15: 0 | G15: 0 | H15: 0 | I15: 0 | J15: 0 | K15: 0 | L15: 0 | M15: 0 | N15: 5391200.8 | O15: 0 | P15: 278223.67 | Q15: 0 | R15: 0 | S15: 0 | T15: 0
A16: 5 | B16: г. Чита, б-р. Украинский, д. 22(1,4) | C16: =D16+K16+L16+M16+N16+O16+P16+Q16+R16+S16+T16 -> 6739721.1 | D16: =SUM(E16:I16) -> 6165882.9 | E16: 0 | F16: 6165882.9 | G16: 0 | H16: 0 | I16: 0 | J16: 0 | K16: 0 | L16: 0 | M16: 0 | N16: 0 | O16: 0 | P16: 573838.19 | Q16: 0 | R16: 0 | S16: 0 | T16: 0
A17: 6 | B17: г. Чита, б-р. Украинский, д. 24(1) | C17: =D17+K17+L17+M17+N17+O17+P17+Q17+R17+S17+T17 -> 16977504 | D17: =SUM(E17:I17) -> 4547938.8 | E17: 0 | F17: 4547938.8 | G17: 0 | H17: 0 | I17: 0 | J17: 0 | K17: 0 | L17: 12140761 | M17: 0 | N17: 0 | O17: 0 | P17: 288803.93 | Q17: 0 | R17: 0 | S17: 0 | T17: 0
A18: 7 | B18: г. Чита, б-р. Украинский, д. 28(1,4) | C18: =D18+K18+L18+M18+N18+O18+P18+Q18+R18+S18+T18 -> 15896527 | D18: =SUM(E18:I18) -> 5686206.4 | E18: 0 | F18: 5686206.4 | G18: 0 | H18: 0 | I18: 0 | J18: 0 | K18: 0 | L18: 9662889.4 | M18: 0 | N18: 0 | O18: 0 | P18: 547430.76 | Q18: 0 | R18: 0 | S18: 0 | T18: 0
A19: 8 | B19: г. Чита, б-р. Украинский, д. 3(4) | C19: =D19+K19+L19+M19+N19+O19+P19+Q19+R19+S19+T19 -> 16333474 | D19: =SUM(E19:I19) -> 4821190 | E19: 0 | F19: 4821190 | G19: 0 | H19: 0 | I19: 0 | J19: 0 | K19: 0 | L19: 11246005 | M19: 0 | N19: 0 | O19: 0 | P19: 266278.92 | Q19: 0 | R19: 0 | S19: 0 | T19: 0
A20: 9 | B20: г. Чита, б-р Украинский, д. 7 | C20: =D20+K20+L20+M20+N20+O20+P20+Q20+R20+S20+T20 -> 391899.61 | D20: =SUM(E20:I20) -> 391899.61 | E20: 0 | F20: 0 | G20: 0 | H20: 0 | I20: 391899.61 | J20: 0 | K20: 0 | L20: 0 | M20: 0 | N20: 0 | O20: 0 | P20: 0 | Q20: 0 | R20: 0 | S20: 0 | T20: 0
A21: 10 | B21: г. Чита, б-р. Украинский, д. 8(1) | C21: =D21+K21+L21+M21+N21+O21+P21+Q21+R21+S21+T21 -> 10953603 | D21: =SUM(E21:I21) -> 3170574 | E21: 0 | F21: 3170574 | G21: 0 | H21: 0 | I21: 0 | J21: 0 | K21: 0 | L21: 7516156.3 | M21: 0 | N21: 0 | O21: 0 | P21: 266873.14 | Q21: 0 | R21: 0 | S21: 0 | T21: 0
A22: 11 | B22: г. Чита, мкр. 1-й, д. 28 | C22: =D22+K22+L22+M22+N22+O22+P22+Q22+R22+S22+T22 -> 458721.95 | D22: =SUM(E22:I22) -> 458721.95 | E22: 0 | F22: 0 | G22: 0 | H22: 0 | I22: 458721.95 | J22: 0 | K22: 0 | L22: 0 | M22: 0 | N22: 0 | O22: 0 | P22: 0 | Q22: 0 | R22: 0 | S22: 0 | T22: 0
A23: 12 | B23: г. Чита, мкр. 1-й, д. 6(2) | C23: =D23+K23+L23+M23+N23+O23+P23+Q23+R23+S23+T23 -> 13855160 | D23: =SUM(E23:I23) -> 4061635.2 | E23: 4061635.2 | F23: 0 | G23: 0 | H23: 0 | I23: 0 | J23: 0 | K23: 0 | L23: 0 | M23: 0 | N23: 9504063 | O23: 0 | P23: 289461.42 | Q23: 0 | R23: 0 | S23: 0 | T23: 0
... A26: 15 | B26: г. Чита, мкр. 5-й, д. 29(2) | C26: =D26+K26+L26+M26+N26+O26+P26+Q26+R26+S26+T26 -> 9757581 | D26: =SUM(E26:I26) -> 0 | E26: 0 | F26: 0 | G26: 0 | H26: 0 | I26: 0 | J26: 0 | K26: 0 | L26: 0 | M26: 0 | N26: 9458188.7 | O26: 0 | P26: 299392.3 | Q26: 0 | R26: 0 | S26: 0 | T26: 0
A27: 16 | B27: г. Чита, мкр. 6-й, д. 15(2,8) | C27: =D27+K27+L27+M27+N27+O27+P27+Q27+R27+S27+T27 -> 4739370.8 | D27: =SUM(E27:I27) -> 4271871.6 | E27: 4271871.6 | F27: 0 | G27: 0 | H27: 0 | I27: 0 | J27: 0 | K27: 0 | L27: 0 | M27: 0 | N27: 0 | O27: 0 | P27: =207661.14+259838.08 -> 467499.22 | Q27: 0 | R27: 0 | S27: 0 | T27: 0
A28: 17 | B28: г. Чита, мкр. Агрогородок Опытный, д. 3 | C28: =D28+K28+L28+M28+N28+O28+P28+Q28+R28+S28+T28 -> 2859484.8 | D28: =SUM(E28:I28) -> 2859484.8 | E28: 2859484.8 | F28: 0 | G28: 0 | H28: 0 | I28: 0 | J28: 0 | K28: 0 | L28: 0 | M28: 0 | N28: 0 | O28: 0 | P28: 0 | Q28: 0 | R28: 0 | S28: 0 | T28: 0
A29: 18 | B29: г. Чита, мкр. Батарейный, д. 11(8) | C29: =D29+K29+L29+M29+N29+O29+P29+Q29+R29+S29+T29 -> 5306725.6 | D29: =SUM(E29:I29) -> 5008368.1 | E29: 1861308.7 | F29: 0 | G29: 2703427.4 | H29: 443631.98 | I29: 0 | J29: 0 | K29: 0 | L29: 0 | M29: 0 | N29: 0 | O29: 0 | P29: 298357.49 | Q29: 0 | R29: 0 | S29: 0 | T29: 0
A30: 19 | B30: г. Чита, мкр. Батарейный, д. 4 | C30: =D30+K30+L30+M30+N30+O30+P30+Q30+R30+S30+T30 -> 2477673.8 | D30: =SUM(E30:I30) -> 2477673.8 | E30: 2477673.8 | F30: 0 | G30: 0 | H30: 0 | I30: 0 | J30: 0 | K30: 0 | L30: 0 | M30: 0 | N30: 0 | O30: 0 | P30: 0 | Q30: 0 | R30: 0 | S30: 0 | T30: 0
A31: 20 | B31: г. Чита, мкр. Батарейный, д. 5(2,6) | C31: =D31+K31+L31+M31+N31+O31+P31+Q31+R31+S31+T31 -> 2207923.4 | D31: =SUM(E31:I31) -> 1565714.4 | E31: 1565714.4 | F31: 0 | G31: 0 | H31: 0 | I31: 0 | J31: 0 | K31: 0 | L31: 0 | M31: 0 | N31: 0 | O31: 0 | P31: 642209.03 | Q31: 0 | R31: 0 | S31: 0 | T31: 0
A32: 21 | B32: г. Чита, мкр. Батарейный, д. 7(2,4) | C32: =D32+K32+L32+M32+N32+O32+P32+Q32+R32+S32+T32 -> 21520750 | D32: =SUM(E32:I32) -> 9102267.1 | E32: 0 | F32: 9102267.1 | G32: 0 | H32: 0 | I32: 0 | J32: 0 | K32: 0 | L32: 0 | M32: 0 | N32: 11782164 | O32: 0 | P32: =325603.07+310716.05 -> 636319.12 | Q32: 0 | R32: 0 | S32: 0 | T32: 0
A33: 22 | B33: г. Чита, мкр. Гвардейский, д. 12 | C33: =D33+K33+L33+M33+N33+O33+P33+Q33+R33+S33+T33 -> 2497643.8 | D33: =SUM(E33:I33) -> 2497643.8 | E33: 2497643.8 | F33: 0 | G33: 0 | H33: 0 | I33: 0 | J33: 0 | K33: 0 | L33: 0 | M33: 0 | N33: 0 | O33: 0 | P33: 0 | Q33: 0 | R33: 0 | S33: 0 | T33: 0
A34: 23 | B34: г. Чита, мкр. Гвардейский, д. 7(2) | C34: =D34+K34+L34+M34+N34+O34+P34+Q34+R34+S34+T34 -> 210912.43 | D34: =SUM(E34:I34) -> 0 | E34: 0 | F34: 0 | G34: 0 | H34: 0 | I34: 0 | J34: 0 | K34: 0 | L34: 0 | M34: 0 | N34: 0 | O34: 0 | P34: 210912.43 | Q34: 0 | R34: 0 | S34: 0 | T34: 0
A35: 24 | B35: г. Чита, мкр. Геофизический, д. 5(1) | C35: =D35+K35+L35+M35+N35+O35+P35+Q35+R35+S35+T35 -> 257335.74 | D35: =SUM(E35:I35) -> 0 | E35: 0 | F35: 0 | G35: 0 | H35: 0 | I35: 0 | J35: 0 | K35: 0 | L35: 0 | M35: 0 | N35: 0 | O35: 0 | P35: 257335.74 | Q35: 0 | R35: 0 | S35: 0 | T35: 0
A36: 25 | B36: г. Чита, мкр. Геофизический, д. 7(2) | C36: =D36+K36+L36+M36+N36+O36+P36+Q36+R36+S36+T36 -> 260604.32 | D36: =SUM(E36:I36) -> 0 | E36: 0 | F36: 0 | G36: 0 | H36: 0 | I36: 0 | J36: 0 | K36: 0 | L36: 0 | M36: 0 | N36: 0 | O36: 0 | P36: 260604.32 | Q36: 0 | R36: 0 | S36: 0 | T36: 0
A37: 26 | B37: г. Чита, мкр. Геофизический, д. 8(1/1) | C37: =D37+K37+L37+M37+N37+O37+P37+Q37+R37+S37+T37 -> 254122.85 | D37: =SUM(E37:I37) -> 0 | E37: 0 | F37: 0 | G37: 0 | H37: 0 | I37: 0 | J37: 0 | K37: 0 | L37: 0 | M37: 0 | N37: 0 | O37: 0 | P37: 254122.85 | Q37: 0 | R37: 0 | S37: 0 | T37: 0
A38: 27 | B38: г. Чита, мкр. Осетровка, д. 12(1,4) | C38: =D38+K38+L38+M38+N38+O38+P38+Q38+R38+S38+T38 -> 9222818 | D38: =SUM(E38:I38) -> 0 | E38: 0 | F38: 0 | G38: 0 | H38: 0 | I38: 0 | J38: 0 | K38: 0 | L38: 8755801.4 | M38: 0 | N38: 0 | O38: 0 | P38: =275867.2+191149.4 -> 467016.6 | Q38: 0 | R38: 0 | S38: 0 | T38: 0
A39: 28 | B39: г. Чита, мкр. Осетровка, д. 19(1,4) | C39: =D39+K39+L39+M39+N39+O39+P39+Q39+R39+S39+T39 -> 15219490 | D39: =SUM(E39:I39) -> 5167955.6 | E39: 0 | F39: 5167955.6 | G39: 0 | H39: 0 | I39: 0 | J39: 0 | K39: 0 | L39: 9478378.5 | M39: 0 | N39: 0 | O39: 0 | P39: =296289.41+276866.31 -> 573155.72 | Q39: 0 | R39: 0 | S39: 0 | T39: 0
A40: 29 | B40: г. Чита, мкр. Северный, д. 13(4) | C40: =D40+K40+L40+M40+N40+O40+P40+Q40+R40+S40+T40 -> 2438379.8 | D40: =SUM(E40:I40) -> 2177283.8 | E40: 2177283.8 | F40: 0 | G40: 0 | H40: 0 | I40: 0 | J40: 0 | K40: 0 | L40: 0 | M40: 0 | N40: 0 | O40: 0 | P40: 261095.97 | Q40: 0 | R40: 0 | S40: 0 | T40: 0
A41: 30 | B41: г. Чита, мкр. Северный, д. 40 | C41: =D41+K41+L41+M41+N41+O41+P41+Q41+R41+S41+T41 -> 2126097.6 | D41: =SUM(E41:I41) -> 2126097.6 | E41: 2126097.6 | F41: 0 | G41: 0 | H41: 0 | I41: 0 | J41: 0 | K41: 0 | L41: 0 | M41: 0 | N41: 0 | O41: 0 | P41: 0 | Q41: 0 | R41: 0 | S41: 0 | T41: 0
A42: 31 | B42: г. Чита, мкр. Северный, д. 60 | C42: =D42+K42+L42+M42+N42+O42+P42+Q42+R42+S42+T42 -> 12828641 | D42: =SUM(E42:I42) -> 0 | E42: 0 | F42: 0 | G42: 0 | H42: 0 | I42: 0 | J42: 4 | K42: 12828641 | L42: 0 | M42: 0 | N42: 0 | O42: 0 | P42: 0 | Q42: 0 | R42: 0 | S42: 0 | T42: 0
A43: 32 | B43: г. Чита, мкр. Северный, д. 61 | C43: =D43+K43+L43+M43+N43+O43+P43+Q43+R43+S43+T43 -> 8751660 | D43: =SUM(E43:I43) -> 0 | E43: 0 | F43: 0 | G43: 0 | H43: 0 | I43: 0 | J43: 3 | K43: 8751660 | L43: 0 | M43: 0 | N43: 0 | O43: 0 | P43: 0 | Q43: 0 | R43: 0 | S43: 0 | T43: 0
A44: 33 | B44: г. Чита, мкр. ТУСМ-4, д. 1(6) | C44: =D44+K44+L44+M44+N44+O44+P44+Q44+R44+S44+T44 -> 265575.2 | D44: =SUM(E44:I44) -> 0 | E44: 0 | F44: 0 | G44: 0 | H44: 0 | I44: 0 | J44: 0 | K44: 0 | L44: 0 | M44: 0 | N44: 0 | O44: 0 | P44: 265575.2 | Q44: 0 | R44: 0 | S44: 0 | T44: 0
...
