Workbook
Name JR_PAGE_ANCHOR_0_1: #REF!
Name а: #REF!

Sheet Таблица 1
R1: «УТВЕРЖДЕН
R3: постановлением Правительства
R4: Забайкальского края
R5: от 17 декабря 2025 года № 756
R6: (в редакции постановления Правительства
R7: Забайкальского края
R8: от ____________ № ____)
A11: Региональный краткосрочный план реализации Региональной программы капитального ремонта общего имущества в многоквартирных домах, расположенных на территории Забайкальского края, на период 2026-2028 годов
A12: Таблица 1. Адресный перечень и характеристика многоквартирных домов, расположенных на территории Забайкальского края, в отношении которых на период 2026-2028 годов планируется проведение капитального ремонта общего имущества в многоквартирных домах
A14: № п/п | B14: Адрес МКД | C14: Способ формирования фонда капитального ремонта | D14: Год | F14: Материал стен | G14: Количество этажей | H14: Количество подъездов | I14: общая площадь МКД, всего | J14: Площадь помещений МКД: | L14: Количество жителей, зарегистрированных в МКД на дату утверждения краткосрочного плана | M14: Стоимость капитального ремонта | T14: Удельная стоимость капитального ремонта 1 кв. м общей площади помещений МКД | U14: Предельная стоимость капитального ремонта 1 кв. м общей площади помещений МКД | V14: Плановая дата завершения работ
D15: ввода в эксплуатацию | E15: завершение последнего капитального ремонта | J15: всего: | K15: в том числе жилых помещений, находящихся в собственности граждан | M15: всего: | N15: в том числе:
N16: за счет средств бюджета Российской Федерации | O16: за счет средств бюджета субъекта Российской Федерации | P16: за счет средств местного бюджета | Q16: за счет средств собственников помещений в МКД | R16: за счет взносов собственников помещений в МКД, уплачиваемых исходя из установленного минимального размера взноса | S16: за счет взносов собственников помещений в МКД, уплачиваемых в размере, превышающем установленный минимальный размер взноса
I17: кв.м | J17: кв.м | K17: кв.м | L17: чел. | M17: руб. | N17: руб. | O17: руб. | P17: руб. | Q17: руб. | R17: руб. | S17: руб. | T17: руб./кв.м | U17: руб./кв.м
A18: 1 | B18: 2 | C18: 3 | D18: 4 | E18: 5 | F18: 6 | G18: 7 | H18: 8 | I18: 9 | J18: 10 | K18: 11 | L18: 12 | M18: 13 | N18: 14 | O18: 15 | P18: 16 | Q18: 17 | R18: 18 | S18: 19 | T18: 20 | U18: 21 | V18: 22
B19: 2026 год
A20: Итого по Забайкальскому краю: | C20: Х | D20: Х | E20: Х | F20: Х | G20: Х | H20: Х | I20: =I21+I223+I228+I237+I244+I266+I268+I276+I279+I295+I312+I315+I318+I324+I338+I344+I359+I370+I380+I386+I389+I395+I402+I407+I419 -> 1319026.3 | J20: =J21+J223+J228+J237+J244+J266+J268+J276+J279+J295+J312+J315+J318+J324+J338+J344+J359+J370+J380+J386+J389+J395+J402+J407+J419 -> 1109521.3 | K20: =K21+K223+K228+K237+K244+K266+K268+K276+K279+K295+K312+K315+K318+K324+K338+K344+K359+K370+K380+K386+K389+K395+K402+K407+K419 -> 967010.78 | L20: =L21+L223+L228+L237+L244+L266+L268+L276+L279+L295+L312+L315+L318+L324+L338+L344+L359+L370+L380+L386+L389+L395+L402+L407+L419 -> 40688 | M20: =M21+M223+M228+M237+M244+M266+M268+M276+M279+M295+M312+M315+M318+M324+M338+M344+M359+M370+M380+M386+M389+M395+M402+M407+M419 -> 1.4646165e+09 | N20: =N21+N223+N228+N237+N244+N266+N268+N276+N279+N295+N312+N315+N318+N324+N338+N344+N359+N370+N380+N386+N389+N395+N402+N407+N419 -> 0 | O20: =O21+O223+O228+O237+O244+O266+O268+O276+O279+O295+O312+O315+O318+O324+O338+O344+O359+O370+O380+O386+O389+O395+O402+O407+O419 -> 0 | P20: =P21+P223+P228+P237+P244+P266+P268+P276+P279+P295+P312+P315+P318+P324+P338+P344+P359+P370+P380+P386+P389+P395+P402+P407+P419 -> 0 | ... S20: =S21+S223+S228+S237+S244+S266+S268+S276+S279+S295+S312+S315+S318+S324+S338+S344+S359+S370+S380+S386+S389+S395+S402+S407+S419 -> 0 | T20: X | U20: X | V20: X
A21: Итого по городскому округу "Город Чита": | C21: Х | D21: Х | E21: Х | F21: Х | G21: Х | H21: Х | I21: =SUM(I22:I222) -> 804240.72 | J21: =SUM(J22:J222) -> 702082.39 | K21: =SUM(K22:K222) -> 613544.35 | L21: =SUM(L22:L222) -> 24560 | M21: =SUM(M22:M222) -> 8.8843731e+08 | N21: =SUM(N22:N222) -> 0 | O21: =SUM(O22:O222) -> 0 | P21: =SUM(P22:P222) -> 0 | ... S21: =SUM(S22:S222) -> 0 | T21: X | U21: X | V21: X
A22: 1 | B22: г. Чита, б-р Украинский, д. 1 | C22: общий счет регионального оператора | D22: 1971 | E22: Х | F22: Каменные, кирпичные | G22: 5 | H22: 4 | I22: 3387.4 | J22: 3357.8 | K22: 3209 | L22: 159 | M22: =SUM(N22:Q22) -> 314576.99 | N22: 0 | O22: 0 | P22: 0 | Q22: ='Таблица 3 '!C12 -> 314576.99 | R22: =Q22 -> 314576.99 | S22: 0 | T22: =M22/J22 -> 93.685446 | U22: =T22 -> 93.685446 | V22: 12.2026
A23: 2 | B23: г. Чита, б-р Украинский, д. 10 | C23: общий счет регионального оператора | D23: 1967 | E23: 2019 | F23: Панельные | G23: 5 | H23: 4 | I23: 3860.4 | J23: 3835.4 | K23: 3760.5 | L23: 128 | M23: =SUM(N23:Q23) -> 5950906.6 | N23: 0 | O23: 0 | P23: 0 | Q23: ='Таблица 3 '!C13 -> 5950906.6 | R23: =Q23 -> 5950906.6 | S23: 0 | T23: =M23/J23 -> 1551.5739 | U23: =T23 -> 1551.5739 | V23: 12.2026
A24: 3 | B24: г. Чита, б-р. Украинский, д. 14 | C24: общий счет регионального оператора | D24: 1961 | E24: 2023 | F24: Каменные, кирпичные | G24: 2 | H24: 1 | I24: 293.6 | J24: 292.1 | K24: 212.2 | L24: 22 | M24: =SUM(N24:Q24) -> 171672.69 | N24: 0 | O24: 0 | P24: 0 | Q24: ='Таблица 3 '!C14 -> 171672.69 | R24: =Q24 -> 171672.69 | S24: 0 | T24: =M24/J24 -> 587.7189 | U24: =T24 -> 587.7189 | V24: 12.2026
A25: 4 | B25: г. Чита, б-р Украинский, д. 18 | C25: общий счет регионального оператора | D25: 1967 | E25: 2023 | F25: Панельные | G25: 5 | H25: 3 | I25: 2574.6 | J25: 2566.7 | K25: 2355 | L25: 188 | M25: =SUM(N25:Q25) -> 5669424.5 | N25: 0 | O25: 0 | P25: 0 | Q25: ='Таблица 3 '!C15 -> 5669424.5 | R25: =Q25 -> 5669424.5 | S25: 0 | T25: =M25/J25 -> 2208.838 | U25: =T25 -> 2208.838 | V25: 12.2026
A26: 5 | B26: г. Чита, б-р Украинский, д. 22 | C26: общий счет регионального оператора | D26: 1972 | E26: Х | F26: Панельные | G26: 5 | H26: 5 | I26: 4453.9 | J26: 4448.1 | K26: 4389.7 | L26: 170 | M26: =SUM(N26:Q26) -> 6739721.1 | N26: 0 | O26: 0 | P26: 0 | Q26: ='Таблица 3 '!C16 -> 6739721.1 | R26: =Q26 -> 6739721.1 | S26: 0 | T26: =M26/J26 -> 1515.191 | U26: =T26 -> 1515.191 | V26: 12.2026
A27: 6 | B27: г. Чита, б-р Украинский, д. 24 | C27: общий счет регионального оператора | D27: 1972 | E27: Х | F27: Панельные | G27: 5 | H27: 5 | I27: 4474.8 | J27: 4452.1 | K27: 4261.3 | L27: 213 | M27: =SUM(N27:Q27) -> 16977504 | N27: 0 | O27: 0 | P27: 0 | Q27: ='Таблица 3 '!C17 -> 16977504 | R27: =Q27 -> 16977504 | S27: 0 | T27: =M27/J27 -> 3813.3698 | U27: =T27 -> 3813.3698 | V27: 12.2026
A28: 7 | B28: г. Чита, б-р Украинский, д. 28 | C28: общий счет регионального оператора | D28: 1972 | E28: Х | F28: Панельные | G28: 5 | H28: 4 | I28: 3881.6 | J28: 3857.9 | K28: 3756.7 | L28: 189 | M28: =SUM(N28:Q28) -> 15896527 | N28: 0 | O28: 0 | P28: 0 | Q28: ='Таблица 3 '!C18 -> 15896527 | R28: =Q28 -> 15896527 | S28: 0 | T28: =M28/J28 -> 4120.5129 | U28: =T28 -> 4120.5129 | V28: 12.2026
A29: 8 | B29: г. Чита, б-р Украинский, д. 3 | C29: общий счет регионального оператора | D29: 1971 | E29: Х | F29: Каменные, кирпичные | G29: 5 | H29: 4 | I29: 3387.4 | J29: 3357.8 | K29: 3209 | L29: 159 | M29: =SUM(N29:Q29) -> 16333474 | N29: 0 | O29: 0 | P29: 0 | Q29: ='Таблица 3 '!C19 -> 16333474 | R29: =Q29 -> 16333474 | S29: 0 | T29: =M29/J29 -> 4864.338 | U29: =T29 -> 4864.338 | V29: 12.2026
A30: 9 | B30: г. Чита, б-р. Украинский, д. 7 | C30: общий счет регионального оператора | D30: 1986 | E30: 2024 | F30: Панельные | G30: 5 | H30: 4 | I30: 3262 | J30: 2954.9 | K30: 2904.9 | L30: 140 | M30: =SUM(N30:Q30) -> 391899.61 | N30: 0 | O30: 0 | P30: 0 | Q30: ='Таблица 3 '!C20 -> 391899.61 | R30: =Q30 -> 391899.61 | S30: 0 | T30: =M30/J30 -> 132.62703 | U30: =T30 -> 132.62703 | V30: 12.2026
A31: 10 | B31: г. Чита, б-р Украинский, д. 8 | C31: общий счет регионального оператора | D31: 1967 | E31: Х | F31: Панельные | G31: 5 | H31: 3 | I31: 2580.8 | J31: 2557.6 | K31: 2371.5 | L31: 140 | M31: =SUM(N31:Q31) -> 10953603 | N31: 0 | O31: 0 | P31: 0 | Q31: ='Таблица 3 '!C21 -> 10953603 | R31: =Q31 -> 10953603 | S31: 0 | T31: =M31/J31 -> 4282.7664 | U31: =T31 -> 4282.7664 | V31: 12.2026
A32: 11 | B32: г. Чита, мкр. 1-й, д. 28 | C32: общий счет регионального оператора | D32: 1988 | E32: 2021 | F32: Панельные | G32: 5 | H32: 4 | I32: 3338.3 | J32: 3008 | K32: 2870.6 | L32: 117 | M32: =SUM(N32:Q32) -> 458721.95 | N32: 0 | O32: 0 | P32: 0 | Q32: ='Таблица 3 '!C22 -> 458721.95 | R32: =Q32 -> 458721.95 | S32: 0 | T32: =M32/J32 -> 152.50065 | U32: =T32 -> 152.50065 | V32: 12.2026
A33: 12 | B33: г. Чита, мкр. 1-й, д. 6 | C33: общий счет регионального оператора | D33: 1989 | E33: Х | F33: Панельные | G33: 5 | H33: 6 | I33: 5150.22 | J33: 4629 | K33: 4629 | L33: 202 | M33: =SUM(N33:Q33) -> 13855160 | N33: 0 | O33: 0 | P33: 0 | Q33: ='Таблица 3 '!C23 -> 13855160 | R33: =Q33 -> 13855160 | S33: 0 | T33: =M33/J33 -> 2993.1215 | U33: =T33 -> 2993.1215 | V33: 12.2026
... A46: 25 | B46: г. Чита, мкр. Геофизический, д. 7 | C46: общий счет регионального оператора | D46: 1994 | E46: Х | F46: Кирпичные, каменные | G46: 3 | H46: 1 | I46: 1295.2 | J46: 1193 | K46: 1193 | L46: 54 | M46: =SUM(N46:Q46) -> 260604.32 | N46: 0 | O46: 0 | P46: 0 | Q46: ='Таблица 3 '!C36 -> 260604.32 | R46: =Q46 -> 260604.32 | S46: 0 | T46: =M46/J46 -> 218.44453 | U46: =T46 -> 218.44453 | V46: 12.2026
A47: 26 | B47: г. Чита, мкр. Геофизический, д. 8 | C47: общий счет регионального оператора | D47: 1987 | E47: Х | F47: Каменные, кирпичные | G47: 3 | H47: 2 | I47: 1954.7 | J47: 1295.5 | K47: 1295.5 | L47: 23 | M47: =SUM(N47:Q47) -> 254122.85 | N47: 0 | O47: 0 | P47: 0 | Q47: ='Таблица 3 '!C37 -> 254122.85 | R47: =Q47 -> 254122.85 | S47: 0 | T47: =M47/J47 -> 196.15812 | U47: =T47 -> 196.15812 | V47: 12.2026
A48: 27 | B48: г. Чита, мкр. Осетровка, д. 12 | C48: общий счет регионального оператора | D48: 1989 | E48: Х | F48: Панельные | G48: 5 | H48: 4 | I48: 3947.2 | J48: 2813.4 | K48: 1942.5 | L48: 133 | M48: =SUM(N48:Q48) -> 9222818 | N48: 0 | O48: 0 | P48: 0 | Q48: ='Таблица 3 '!C38 -> 9222818 | R48: =Q48 -> 9222818 | S48: 0 | T48: =M48/J48 -> 3278.1752 | U48: =T48 -> 3278.1752 | V48: 12.2026
A49: 28 | B49: г. Чита, мкр. Осетровка, д. 19 | C49: общий счет регионального оператора | D49: 1990 | E49: Х | F49: Панельные | G49: 5 | H49: 4 | I49: 3897.4 | J49: 2832.3 | K49: 2023.8 | L49: 129 | M49: =SUM(N49:Q49) -> 15219490 | N49: 0 | O49: 0 | P49: 0 | Q49: ='Таблица 3 '!C39 -> 15219490 | R49: =Q49 -> 15219490 | S49: 0 | T49: =M49/J49 -> 5373.5444 | U49: =T49 -> 5373.5444 | V49: 12.2026
A50: 29 | B50: г. Чита, мкр. Северный, д. 13 | C50: общий счет регионального оператора | D50: 1977 | E50: Х | F50: Каменные, кирпичные | G50: 9 | H50: 1 | I50: 2485.5 | J50: 2402.1 | K50: 2198.9 | L50: 98 | M50: =SUM(N50:Q50) -> 2438379.8 | N50: 0 | O50: 0 | P50: 0 | Q50: ='Таблица 3 '!C40 -> 2438379.8 | R50: =Q50 -> 2438379.8 | S50: 0 | T50: =M50/J50 -> 1015.1034 | U50: =T50 -> 1015.1034 | V50: 12.2026
A51: 30 | B51: г. Чита, мкр. Северный, д. 40 | C51: специальный счет регионального оператора | D51: 1985 | E51: Х | F51: Панельные | G51: 5 | H51: 9 | I51: 6714.1 | J51: 6723 | K51: 6505.9 | L51: 285 | M51: =SUM(N51:Q51) -> 2126097.6 | N51: 0 | O51: 0 | P51: 0 | Q51: ='Таблица 3 '!C41 -> 2126097.6 | R51: =Q51 -> 2126097.6 | S51: 0 | T51: =M51/J51 -> 316.24239 | U51: =T51 -> 316.24239 | V51: 12.2026
A52: 31 | B52: г. Чита, мкр. Северный, д. 60 | C52: общий счет регионального оператора | D52: 1994 | E52: 2019 | F52: Панельные | G52: 10 | H52: 6 | I52: 19831 | J52: 14546.1 | K52: 14546.1 | L52: 605 | M52: =SUM(N52:Q52) -> 12828641 | N52: 0 | O52: 0 | P52: 0 | Q52: ='Таблица 3 '!C42 -> 12828641 | R52: =Q52 -> 12828641 | S52: 0 | T52: =M52/J52 -> 881.92993 | U52: =T52 -> 881.92993 | V52: 12.2026
A53: 32 | B53: г. Чита, мкр. Северный, д. 61 | C53: специальный счет управляющей организации | D53: 1991 | E53: Х | F53: Панельные | G53: 10 | H53: 3 | I53: 7240.3 | J53: 7240.3 | K53: 7240.3 | L53: 273 | M53: =SUM(N53:Q53) -> 8751660 | N53: 0 | O53: 0 | P53: 0 | Q53: ='Таблица 3 '!C43 -> 8751660 | R53: =Q53 -> 8751660 | S53: 0 | T53: =M53/J53 -> 1208.7427 | U53: =T53 -> 1208.7427 | V53: 12.2026
A54: 33 | B54: г. Чита, мкр. ТУСМ-4, д. 1 | C54: общий счет регионального оператора | D54: 1963 | E54: Х | F54: Каменные, кирпичные | G54: 2 | H54: 1 | I54: 322.3 | J54: 322.3 | K54: 213.5 | L54: 16 | M54: =SUM(N54:Q54) -> 265575.2 | N54: 0 | O54: 0 | P54: 0 | Q54: ='Таблица 3 '!C44 -> 265575.2 | R54: =Q54 -> 265575.2 | S54: 0 | T54: =M54/J54 -> 824 | U54: =T54 -> 824 | V54: 12.2026
A55: 34 | B55: г. Чита, п. Ясный, д. 1 | C55: общий счет регионального оператора | D55: 1991 | E55: Х | F55: Панельные | G55: 10 | H55: 3 | I55: 7213.2 | J55: 5771.4 | K55: 0 | L55: 20 | M55: =SUM(N55:Q55) -> 6058818.7 | N55: 0 | O55: 0 | P55: 0 | Q55: ='Таблица 3 '!C45 -> 6058818.7 | R55: =Q55 -> 6058818.7 | S55: 0 | T55: =M55/J55 -> 1049.8005 | U55: =T55 -> 1049.8005 | V55: 12.2026
A56: 35 | B56: г. Чита, п. Ясный, д. 17 | C56: общий счет регионального оператора | D56: 2011 | E56: Х | F56: Панельные | G56: 5 | H56: 5 | I56: 8137 | J56: 5829.1 | K56: 0 | L56: 2 | M56: =SUM(N56:Q56) -> 1301702.4 | N56: 0 | O56: 0 | P56: 0 | Q56: ='Таблица 3 '!C46 -> 1301702.4 | R56: =Q56 -> 1301702.4 | S56: 0 | T56: =M56/J56 -> 223.31104 | U56: =T56 -> 223.31104 | V56: 12.2026
A57: 36 | B57: г. Чита, п. Ясный, д. 3 | C57: общий счет регионального оператора | D57: 1984 | E57: Х | F57: Панельные | G57: 5 | H57: 4 | I57: 7213 | J57: 2963.5 | K57: 0 | L57: 20 | M57: =SUM(N57:Q57) -> 2742180 | N57: 0 | O57: 0 | P57: 0 | Q57: ='Таблица 3 '!C47 -> 2742180 | R57: =Q57 -> 2742180 | S57: 0 | T57: =M57/J57 -> 925.31804 | U57: =T57 -> 925.31804 | V57: 12.2026
A58: 37 | B58: г. Чита, п. Ясный, д. 4 | C58: общий счет регионального оператора | D58: 1952 | E58: Х | F58: Панельные | G58: 2 | H58: 1 | I58: 546 | J58: 385.1 | K58: 0 | L58: 12 | M58: =SUM(N58:Q58) -> 473467.08 | N58: 0 | O58: 0 | P58: 0 | Q58: ='Таблица 3 '!C48 -> 473467.08 | R58: =Q58 -> 473467.08 | S58: 0 | T58: =M58/J58 -> 1229.4653 | U58: =T58 -> 1229.4653 | V58: 12.2026
A59: 38 | B59: г. Чита, п. Ясный, д. 5 | C59: общий счет регионального оператора | D59: 1952 | E59: Х | F59: Панельные | G59: 2 | H59: 1 | I59: 389 | J59: 389 | K59: 0 | L59: 2 | M59: =SUM(N59:Q59) -> 423649.33 | N59: 0 | O59: 0 | P59: 0 | Q59: ='Таблица 3 '!C49 -> 423649.33 | R59: =Q59 -> 423649.33 | S59: 0 | T59: =M59/J59 -> 1089.0728 | U59: =T59 -> 1089.0728 | V59: 12.2026
A60: 39 | B60: г. Чита, п. Ясный, д. 6 | C60: общий счет регионального оператора | D60: 1952 | E60: Х | F60: Панельные | G60: 2 | H60: 1 | I60: 426.6 | J60: 391 | K60: 0 | L60: 2 | M60: =SUM(N60:Q60) -> 426814.43 | N60: 0 | O60: 0 | P60: 0 | Q60: ='Таблица 3 '!C50 -> 426814.43 | R60: =Q60 -> 426814.43 | S60: 0 | T60: =M60/J60 -> 1091.597 | U60: =T60 -> 1091.597 | V60: 12.2026
A61: 40 | B61: г. Чита, п. Ясный, д. 7 | C61: общий счет регионального оператора | D61: 1965 | E61: Х | F61: Панельные | G61: 2 | H61: 2 | I61: 162.1 | J61: 637.9 | K61: 0 | L61: 2 | M61: =SUM(N61:Q61) -> 487666.6 | N61: 0 | O61: 0 | P61: 0 | Q61: ='Таблица 3 '!C51 -> 487666.6 | R61: =Q61 -> 487666.6 | S61: 0 | T61: =M61/J61 -> 764.48754 | U61: =T61 -> 764.48754 | V61: 12.2026
A62: 41 | B62: г. Чита, п. Ясный, д. 8 | C62: общий счет регионального оператора | D62: 1972 | E62: Х | F62: Панельные | G62: 2 | H62: 2 | I62: 589 | J62: 633.3 | K62: 0 | L62: 2 | M62: =SUM(N62:Q62) -> 478271.48 | N62: 0 | O62: 0 | P62: 0 | Q62: ='Таблица 3 '!C52 -> 478271.48 | R62: =Q62 -> 478271.48 | S62: 0 | T62: =M62/J62 -> 755.20524 | U62: =T62 -> 755.20524 | V62: 12.2026
A63: 42 | B63: г. Чита, п. Ясный, д. 9 | C63: общий счет регионального оператора | D63: 1978 | E63: Х | F63: Панельные | G63: 2 | H63: 2 | I63: 698 | J63: 738 | K63: 0 | L63: 2 | M63: =SUM(N63:Q63) -> 559664 | N63: 0 | O63: 0 | P63: 0 | Q63: ='Таблица 3 '!C53 -> 559664 | R63: =Q63 -> 559664 | S63: 0 | T63: =M63/J63 -> 758.3523 | U63: =T63 -> 758.3523 | V63: 12.2026
A64: 43 | B64: г. Чита, пер. Железобетонный, д. 14 | C64: общий счет регионального оператора | D64: 1989 | E64: Х | F64: Панельные | G64: 5 | H64: 6 | I64: 4143.5 | J64: 4156.2 | K64: 3763.7 | L64: 198 | M64: =SUM(N64:Q64) -> 34052018 | N64: 0 | O64: 0 | P64: 0 | Q64: ='Таблица 3 '!C54 -> 34052018 | R64: =Q64 -> 34052018 | S64: 0 | T64: =M64/J64 -> 8193.0654 | U64: =T64 -> 8193.0654 | V64: 12.2026
A65: 44 | B65: г. Чита, пер. Парковый, д. 18 | C65: общий счет регионального оператора | D65: 1974 | E65: Х | F65: Каменные, кирпичные | G65: 5 | H65: 3 | I65: 2776 | J65: 2757.6 | K65: 2632.8 | L65: 144 | M65: =SUM(N65:Q65) -> 9410331.1 | N65: 0 | O65: 0 | P65: 0 | Q65: ='Таблица 3 '!C55 -> 9410331.1 | R65: =Q65 -> 9410331.1 | S65: 0 | T65: =M65/J65 -> 3412.5077 | U65: =T65 -> 3412.5077 | V65: 12.2026
A66: 45 | B66: г. Чита, пер. Промышленный, д. 5 | C66: общий счет регионального оператора | D66: 1956 | E66: Х | F66: Каменные, кирпичные | G66: 2 | H66: 1 | I66: 368.1 | J66: 336.2 | K66: 368.9 | L66: 12 | M66: =SUM(N66:Q66) -> 166822.21 | N66: 0 | O66: 0 | P66: 0 | Q66: ='Таблица 3 '!C56 -> 166822.21 | R66: =Q66 -> 166822.21 | S66: 0 | T66: =M66/J66 -> 496.19932 | U66: =T66 -> 496.19932 | V66: 12.2026
A67: 46 | B67: г. Чита, пр-кт. Советов, д. 5 | C67: общий счет регионального оператора | D67: 1986 | E67: 2020 | F67: Каменные, кирпичные | G67: 9 | H67: 1 | I67: 4246.6 | J67: 4020.8 | K67: 3025.7 | L67: 139 | M67: =SUM(N67:Q67) -> 3206846.2 | N67: 0 | O67: 0 | P67: 0 | Q67: ='Таблица 3 '!C57 -> 3206846.2 | R67: =Q67 -> 3206846.2 | S67: 0 | T67: =M67/J67 -> 797.56422 | U67: =T67 -> 797.56422 | V67: 12.2026
A68: 47 | B68: г. Чита, пр-кт. Фадеева, д. 24 | C68: общий счет регионального оператора | D68: 1992 | E68: Х | F68: Панельные | G68: 9 | H68: 2 | I68: 3528.2 | J68: 3528.2 | K68: 3528.2 | L68: 126 | M68: =SUM(N68:Q68) -> 134171 | N68: 0 | O68: 0 | P68: 0 | Q68: ='Таблица 3 '!C58 -> 134171 | R68: =Q68 -> 134171 | S68: 0 | T68: =M68/J68 -> 38.028173 | U68: =T68 -> 38.028173 | V68: 12.2026
A69: 48 | B69: г. Чита, проезд Александра Булгакова, д. 50 | C69: общий счет регионального оператора | D69: 1973 | E69: 2024 | F69: Каменные, кирпичные | G69: 2 | H69: 2 | I69: 744.5 | J69: 730.7 | K69: 646.1 | L69: 37 | M69: =SUM(N69:Q69) -> 219362.54 | N69: 0 | O69: 0 | P69: 0 | Q69: ='Таблица 3 '!C59 -> 219362.54 | R69: =Q69 -> 219362.54 | S69: 0 | T69: =M69/J69 -> 300.20876 | U69: =T69 -> 300.20876 | V69: 12.2026
A70: 49 | B70: г. Чита, тр-кт. Молоковский, д. 114 | C70: общий счет регионального оператора | D70: 1971 | E70: Х | F70: Панельные | G70: 2 | H70: 2 | I70: 653.2 | J70: 639.9 | K70: 357.8 | L70: 41 | M70: =SUM(N70:Q70) -> 377981.1 | N70: 0 | O70: 0 | P70: 0 | Q70: ='Таблица 3 '!C60 -> 377981.1 | R70: =Q70 -> 377981.1 | S70: 0 | T70: =M70/J70 -> 590.68776 | U70: =T70 -> 590.68776 | V70: 12.2026
A71: 50 | B71: г. Чита, ул. 1-я Московская, д. 56 | C71: специальный счет управляющей организации | D71: 1976 | E71: Х | F71: Каменные, кирпичные | G71: 5 | H71: 6 | I71: 4322.8 | J71: 3857.2 | K71: 3857.2 | L71: 168 | M71: =SUM(N71:Q71) -> 1546459.7 | N71: 0 | O71: 0 | P71: 0 | Q71: ='Таблица 3 '!C61 -> 1546459.7 | R71: =Q71 -> 1546459.7 | S71: 0 | T71: =M71/J71 -> 400.92806 | U71: =T71 -> 400.92806 | V71: 12.2026
A72: 51 | B72: г. Чита, ул. 2-я Коммунальная, д. 39 | C72: общий счет регионального оператора | D72: 1963 | E72: Х | F72: Каменные, кирпичные | G72: 4 | H72: 3 | I72: 2018.7 | J72: 2012.9 | K72: 1808.5 | L72: 99 | M72: =SUM(N72:Q72) -> 11659431 | N72: 0 | O72: 0 | P72: 0 | Q72: ='Таблица 3 '!C62 -> 11659431 | R72: =Q72 -> 11659431 | S72: 0 | T72: =M72/J72 -> 5792.3549 | U72: =T72 -> 5792.3549 | V72: 12.2026
A73: 52 | B73: г. Чита, ул. 2-я Коммунальная, д. 45 | C73: специальный счет регионального оператора | D73: 1963 | E73: Х | F73: Каменные, кирпичные | G73: 4 | H73: 2 | I73: 1289.2 | J73: 1272.9 | K73: 1209.4 | L73: 62 | M73: =SUM(N73:Q73) -> 379523.8 | N73: 0 | O73: 0 | P73: 0 | Q73: ='Таблица 3 '!C63 -> 379523.8 | R73: =Q73 -> 379523.8 | S73: 0 | T73: =M73/J73 -> 298.15681 | U73: =T73 -> 298.15681 | V73: 12.2026
A74: 53 | B74: г. Чита, ул. 2-я Малая, д. 10 | C74: общий счет регионального оператора | D74: 1959 | E74: Х | F74: Каменные, кирпичные | G74: 2 | H74: 1 | I74: 268.9 | J74: 273 | K74: 190.7 | L74: 20 | M74: =SUM(N74:Q74) -> 145370.03 | N74: 0 | O74: 0 | P74: 0 | Q74: ='Таблица 3 '!C64 -> 145370.03 | R74: =Q74 -> 145370.03 | S74: 0 | T74: =M74/J74 -> 532.49095 | U74: =T74 -> 532.49095 | V74: 12.2026
A75: 54 | B75: г. Чита, ул. 5-я Малая, д. 1а | C75: общий счет регионального оператора | D75: 1960 | E75: Х | F75: Каменные, кирпичные | G75: 2 | H75: 1 | I75: 284.7 | J75: 272.5 | K75: 237.6 | L75: 16 | M75: =SUM(N75:Q75) -> 147350.51 | N75: 0 | O75: 0 | P75: 0 | Q75: ='Таблица 3 '!C65 -> 147350.51 | R75: =Q75 -> 147350.51 | S75: 0 | T75: =M75/J75 -> 540.73582 | U75: =T75 -> 540.73582 | V75: 12.2026
A76: 55 | B76: г. Чита, ул. 5-я Малая, д. 1б | C76: общий счет регионального оператора | D76: 1958 | E76: Х | F76: Каменные, кирпичные | G76: 2 | H76: 1 | I76: 261.8 | J76: 273.4 | K76: 273.4 | L76: 8 | M76: =SUM(N76:Q76) -> 140658.88 | N76: 0 | O76: 0 | P76: 0 | Q76: ='Таблица 3 '!C66 -> 140658.88 | R76: =Q76 -> 140658.88 | S76: 0 | T76: =M76/J76 -> 514.48018 | U76: =T76 -> 514.48018 | V76: 12.2026
A77: 56 | B77: г. Чита, ул. 9 Января, д. 55 | C77: общий счет регионального оператора | D77: 1975 | E77: 2024 | F77: Кирпичные, каменные | G77: 5 | H77: 3 | I77: 2805.1 | J77: 3154.6 | K77: 2713.5 | L77: 72 | M77: =SUM(N77:Q77) -> 292575.33 | N77: 0 | O77: 0 | P77: 0 | Q77: ='Таблица 3 '!C67 -> 292575.33 | R77: =Q77 -> 292575.33 | S77: 0 | T77: =M77/J77 -> 92.745619 | U77: =T77 -> 92.745619 | V77: 12.2026
A78: 57 | B78: г. Чита, ул. 40 лет Октября, д. 13 | C78: общий счет регионального оператора | D78: 1963 | E78: Х | F78: Каменные, кирпичные | G78: 2 | H78: 2 | I78: 775.9 | J78: 676.7 | K78: 107 | L78: 49 | M78: =SUM(N78:Q78) -> 1650674 | N78: 0 | O78: 0 | P78: 0 | Q78: ='Таблица 3 '!C68 -> 1650674 | R78: =Q78 -> 1650674 | S78: 0 | T78: =M78/J78 -> 2439.2996 | U78: =T78 -> 2439.2996 | V78: 12.2026
A79: 58 | B79: г. Чита, ул. Автогенная, д. 19 | C79: специальный счет управляющей организации | D79: 1989 | E79: Х | F79: Панельные | G79: 5 | H79: 4 | I79: 3829.2 | J79: 2816.4 | K79: 2816.4 | L79: 127 | M79: =SUM(N79:Q79) -> 1658604.5 | N79: 0 | O79: 0 | P79: 0 | Q79: ='Таблица 3 '!C69 -> 1658604.5 | R79: =Q79 -> 1658604.5 | S79: 0 | T79: =M79/J79 -> 588.90943 | U79: =T79 -> 588.90943 | V79: 12.2026
A80: 59 | B80: г. Чита, ул. Автогенная, д. 5 | C80: общий счет регионального оператора | D80: 1987 | E80: 2024 | F80: Панельные | G80: 5 | H80: 4 | I80: 4753.1 | J80: 4005.4 | K80: 3883.2 | L80: 169 | M80: =SUM(N80:Q80) -> 997039.41 | N80: 0 | O80: 0 | P80: 0 | Q80: ='Таблица 3 '!C70 -> 997039.41 | R80: =Q80 -> 997039.41 | S80: 0 | T80: =M80/J80 -> 248.92381 | U80: =T80 -> 248.92381 | V80: 12.2026
A81: 60 | B81: г. Чита, ул. Автозаводская, д. 7 | C81: общий счет регионального оператора | D81: 1976 | E81: Х | F81: Каменные, кирпичные | G81: 5 | H81: 4 | I81: 3355.8 | J81: 3363.3 | K81: 3175.9 | L81: 174 | M81: =SUM(N81:Q81) -> 419368.34 | N81: 0 | O81: 0 | P81: 0 | Q81: ='Таблица 3 '!C71 -> 419368.34 | R81: =Q81 -> 419368.34 | S81: 0 | T81: =M81/J81 -> 124.68954 | U81: =T81 -> 124.68954 | V81: 12.2026
A82: 61 | B82: г. Чита, ул. Александро-Заводская, д. 13 | C82: общий счет регионального оператора | D82: 1961 | E82: Х | F82: Каменные, кирпичные | G82: 4 | H82: 1 | I82: 869.9 | J82: 847.1 | K82: 642.7 | L82: 52 | M82: =SUM(N82:Q82) -> 259180.81 | N82: 0 | O82: 0 | P82: 0 | Q82: ='Таблица 3 '!C72 -> 259180.81 | R82: =Q82 -> 259180.81 | S82: 0 | T82: =M82/J82 -> 305.96247 | U82: =T82 -> 305.96247 | V82: 12.2026
A83: 62 | B83: г. Чита, ул. Амурская, д. 48 | C83: общий счет регионального оператора | D83: 1935 | E83: 2025 | F83: Каменные, кирпичные | G83: 4 | H83: 7 | I83: 4718.5 | J83: 2825.1 | K83: 2427.3 | L83: 98 | M83: =SUM(N83:Q83) -> 11751749 | N83: 0 | O83: 0 | P83: 0 | Q83: ='Таблица 3 '!C73 -> 11751749 | R83: =Q83 -> 11751749 | S83: 0 | T83: =M83/J83 -> 4159.7638 | U83: =T83 -> 4159.7638 | V83: 12.2026
A84: 63 | B84: г. Чита, ул. Амурская, д. 82 | C84: общий счет регионального оператора | D84: 1940 | E84: 2016 | F84: Каменные, кирпичные | G84: 4 | H84: 6 | I84: 4579.7 | J84: 4405.5 | K84: 4234.4 | L84: 67 | M84: =SUM(N84:Q84) -> 198651.11 | N84: 0 | O84: 0 | P84: 0 | Q84: ='Таблица 3 '!C74 -> 198651.11 | R84: =Q84 -> 198651.11 | S84: 0 | T84: =M84/J84 -> 45.091615 | U84: =T84 -> 45.091615 | V84: 12.2026
A85: 64 | B85: г. Чита, ул. Анохина, д. 3 | C85: общий счет регионального оператора | D85: 1971 | E85: Х | F85: Каменные, кирпичные | G85: 5 | H85: 2 | I85: 1789.4 | J85: 1785.3 | K85: 1785.3 | L85: 77 | M85: =SUM(N85:Q85) -> 4521682.2 | N85: 0 | O85: 0 | P85: 0 | Q85: ='Таблица 3 '!C75 -> 4521682.2 | R85: =Q85 -> 4521682.2 | S85: 0 | T85: =M85/J85 -> 2532.7296 | U85: =T85 -> 2532.7296 | V85: 12.2026
A86: 65 | B86: г. Чита, ул. Анохина, д. 43 | C86: общий счет регионального оператора | D86: 1961 | E86: 2019 | F86: Кирпичные, каменные | G86: 4 | H86: 2 | I86: 1679.4 | J86: 1187.8 | K86: 880.2 | L86: 51 | M86: =SUM(N86:Q86) -> 1190490.9 | N86: 0 | O86: 0 | P86: 0 | Q86: ='Таблица 3 '!C76 -> 1190490.9 | R86: =Q86 -> 1190490.9 | S86: 0 | T86: =M86/J86 -> 1002.2655 | U86: =T86 -> 1002.2655 | V86: 12.2026
A87: 66 | B87: г. Чита, ул. Анохина, д. 96 | C87: общий счет регионального оператора | D87: 1972 | E87: Х | F87: Панельные | G87: 5 | H87: 2 | I87: 2558.3 | J87: 1950.5 | K87: 1630.3 | L87: 54 | M87: =SUM(N87:Q87) -> 6511803.1 | N87: 0 | O87: 0 | P87: 0 | Q87: ='Таблица 3 '!C77 -> 6511803.1 | R87: =Q87 -> 6511803.1 | S87: 0 | T87: =M87/J87 -> 3338.5302 | U87: =T87 -> 3338.5302 | V87: 12.2026
A88: 67 | B88: г. Чита, ул. Бабушкина, д. 11 | C88: общий счет регионального оператора | D88: 1978 | E88: 2020 | F88: Каменные, кирпичные | G88: 9 | H88: 1 | I88: 2776.7 | J88: 2774.4 | K88: 2139.6 | L88: 84 | M88: =SUM(N88:Q88) -> 372048.24 | N88: 0 | O88: 0 | P88: 0 | Q88: ='Таблица 3 '!C78 -> 372048.24 | R88: =Q88 -> 372048.24 | S88: 0 | T88: =M88/J88 -> 134.10043 | U88: =T88 -> 134.10043 | V88: 12.2026
A89: 68 | B89: г. Чита, ул. Бабушкина, д. 30 | C89: общий счет регионального оператора | D89: 1961 | E89: Х | F89: Каменные, кирпичные | G89: 4 | H89: 2 | I89: 1259.7 | J89: 1266.6 | K89: 1213.1 | L89: 47 | M89: =SUM(N89:Q89) -> 557624.08 | N89: 0 | O89: 0 | P89: 0 | Q89: ='Таблица 3 '!C79 -> 557624.08 | R89: =Q89 -> 557624.08 | S89: 0 | T89: =M89/J89 -> 440.25271 | U89: =T89 -> 440.25271 | V89: 12.2026
A90: 69 | B90: г. Чита, ул. Бабушкина, д. 32 | C90: общий счет регионального оператора | D90: 1962 | E90: 2018 | F90: Кирпичные, каменные | G90: 3 | H90: 2 | I90: 1265.4 | J90: 1266.2 | K90: 1266.4 | L90: 47 | M90: =SUM(N90:Q90) -> 292381.36 | N90: 0 | O90: 0 | P90: 0 | Q90: ='Таблица 3 '!C80 -> 292381.36 | R90: =Q90 -> 292381.36 | S90: 0 | T90: =M90/J90 -> 230.91246 | U90: =T90 -> 230.91246 | V90: 12.2026
A91: 70 | B91: г. Чита, ул. Бабушкина, д. 34 | C91: общий счет регионального оператора | D91: 1989 | E91: 2022 | F91: Панельные | G91: 9 | H91: 3 | I91: 5926.7 | J91: 5814.4 | K91: 5416.6 | L91: 197 | M91: =SUM(N91:Q91) -> 10820678 | N91: 0 | O91: 0 | P91: 0 | Q91: ='Таблица 3 '!C81 -> 10820678 | R91: =Q91 -> 10820678 | S91: 0 | T91: =M91/J91 -> 1861.0137 | U91: =T91 -> 1861.0137 | V91: 12.2026
A92: 71 | B92: г. Чита, ул. Бабушкина, д. 36 | C92: общий счет регионального оператора | D92: 1991 | E92: 2024 | F92: Кирпичные, каменные | G92: 5 | H92: 4 | I92: 2884.6 | J92: 2831 | K92: 2831 | L92: 113 | M92: =SUM(N92:Q92) -> 1270282.4 | N92: 0 | O92: 0 | P92: 0 | Q92: ='Таблица 3 '!C82 -> 1270282.4 | R92: =Q92 -> 1270282.4 | S92: 0 | T92: =M92/J92 -> 448.7045 | U92: =T92 -> 448.7045 | V92: 12.2026
A93: 72 | B93: г. Чита, ул. Бабушкина, д. 5 | C93: общий счет регионального оператора | D93: 1971 | E93: Х | F93: Панельные | G93: 5 | H93: 4 | I93: 4222.6 | J93: 3268.5 | K93: 3206 | L93: 138 | M93: =SUM(N93:Q93) -> 16876022 | N93: 0 | O93: 0 | P93: 0 | Q93: ='Таблица 3 '!C83 -> 16876022 | R93: =Q93 -> 16876022 | S93: 0 | T93: =M93/J93 -> 5163.2315 | U93: =T93 -> 5163.2315 | V93: 12.2026
A94: 73 | B94: г. Чита, ул. Байкальская, д. 15 | C94: общий счет регионального оператора | D94: 1983 | E94: 2021 | F94: Каменные, кирпичные | G94: 5 | H94: 4 | I94: 2807 | J94: 2730.1 | K94: 2698.1 | L94: 119 | M94: =SUM(N94:Q94) -> 5205688.4 | N94: 0 | O94: 0 | P94: 0 | Q94: ='Таблица 3 '!C84 -> 5205688.4 | R94: =Q94 -> 5205688.4 | S94: 0 | T94: =M94/J94 -> 1906.7757 | U94: =T94 -> 1906.7757 | V94: 12.2026
A95: 74 | B95: г. Чита, ул. Балябина, д. 45 | C95: общий счет регионального оператора | D95: 1967 | E95: Х | F95: Каменные, кирпичные | G95: 5 | H95: 6 | I95: 4515.7 | J95: 4469.6 | K95: 4332.4 | L95: 184 | M95: =SUM(N95:Q95) -> 312220.88 | N95: 0 | O95: 0 | P95: 0 | Q95: ='Таблица 3 '!C85 -> 312220.88 | R95: =Q95 -> 312220.88 | S95: 0 | T95: =M95/J95 -> 69.854323 | U95: =T95 -> 69.854323 | V95: 12.2026
A96: 75 | B96: г. Чита, ул. Баргузинская, д. 12 | C96: общий счет регионального оператора | D96: 1976 | E96: 2025 | F96: Каменные, кирпичные | G96: 5 | H96: 6 | I96: 4546.1 | J96: 4505.4 | K96: 4458.5 | L96: 177 | M96: =SUM(N96:Q96) -> 200481.33 | N96: 0 | O96: 0 | P96: 0 | Q96: ='Таблица 3 '!C86 -> 200481.33 | R96: =Q96 -> 200481.33 | S96: 0 | T96: =M96/J96 -> 44.498009 | U96: =T96 -> 44.498009 | V96: 12.2026
A97: 76 | B97: г. Чита, ул. Бекетова, д. 38 | C97: общий счет регионального оператора | D97: 1983 | E97: Х | F97: Кирпичные, каменные | G97: 5 | H97: 1 | I97: 2402.6 | J97: 2111.2 | K97: 2111.2 | L97: 32 | M97: =SUM(N97:Q97) -> 6117132.2 | N97: 0 | O97: 0 | P97: 0 | Q97: ='Таблица 3 '!C87 -> 6117132.2 | R97: =Q97 -> 6117132.2 | S97: 0 | T97: =M97/J97 -> 2897.4669 | U97: =T97 -> 2897.4669 | V97: 12.2026
A98: 77 | B98: г. Чита, ул. Бекетова, д. 46 | C98: общий счет регионального оператора | D98: 1974 | E98: Х | F98: Каменные, кирпичные | G98: 5 | H98: 4 | I98: 3181.9 | J98: 3152.5 | K98: 3094 | L98: 71 | M98: =SUM(N98:Q98) -> 4621315.2 | N98: 0 | O98: 0 | P98: 0 | Q98: ='Таблица 3 '!C88 -> 4621315.2 | R98: =Q98 -> 4621315.2 | S98: 0 | T98: =M98/J98 -> 1465.9208 | U98: =T98 -> 1465.9208 | V98: 12.2026
A99: 78 | B99: г. Чита, ул. Белорусская, д. 11а | C99: общий счет регионального оператора | D99: 1966 | E99: Х | F99: Панельные | G99: 5 | H99: 6 | I99: 5714.7 | J99: 5731.2 | K99: 4448.56 | L99: 277 | M99: =SUM(N99:Q99) -> 21347944 | N99: 0 | O99: 0 | P99: 0 | Q99: ='Таблица 3 '!C89 -> 21347944 | R99: =Q99 -> 21347944 | S99: 0 | T99: =M99/J99 -> 3724.8647 | U99: =T99 -> 3724.8647 | V99: 12.2026
A100: 79 | B100: г. Чита, ул. Белорусская, д. 48 | C100: общий счет регионального оператора | D100: 1979 | E100: 2025 | F100: Панельные | G100: 5 | H100: 5 | I100: 5140.6 | J100: 4624.6 | K100: 4538.9 | L100: 205 | M100: =SUM(N100:Q100) -> 1158255.4 | N100: 0 | O100: 0 | P100: 0 | Q100: ='Таблица 3 '!C90 -> 1158255.4 | R100: =Q100 -> 1158255.4 | S100: 0 | T100: =M100/J100 -> 250.45525 | U100: =T100 -> 250.45525 | V100: 12.2026
A101: 80 | B101: г. Чита, ул. Богдана Хмельницкого, д. 24, корп. 3 | C101: общий счет регионального оператора | D101: 1997 | E101: Х | F101: Кирпичные, каменные | G101: 9 | H101: 1 | I101: 6925.2 | J101: 4721.4 | K101: 3305.8 | L101: 116 | M101: =SUM(N101:Q101) -> 328778.56 | N101: 0 | O101: 0 | P101: 0 | Q101: ='Таблица 3 '!C91 -> 328778.56 | R101: =Q101 -> 328778.56 | S101: 0 | T101: =M101/J101 -> 69.63582 | U101: =T101 -> 69.63582 | V101: 12.2026
A102: 81 | B102: г. Чита, ул. Боровая, д. 4 | C102: специальный счет управляющей организации | D102: 1984 | E102: Х | F102: Кирпичные, каменные | G102: 5 | H102: 4 | I102: 3047.3 | J102: 2437.84 | K102: 2437.84 | L102: 132 | M102: =SUM(N102:Q102) -> 2601192.1 | N102: 0 | O102: 0 | P102: 0 | Q102: ='Таблица 3 '!C92 -> 2601192.1 | R102: =Q102 -> 2601192.1 | S102: 0 | T102: =M102/J102 -> 1067.0069 | U102: =T102 -> 1067.0069 | V102: 12.2026
A103: 82 | B103: г. Чита, ул. Бутина, д. 101 | C103: общий счет регионального оператора | D103: 1948 | E103: 2015 | F103: Кирпичные, каменные | G103: 2 | H103: 2 | I103: 893.5 | J103: 778.8 | K103: 546.3 | L103: 23 | M103: =SUM(N103:Q103) -> 201141.47 | N103: 0 | O103: 0 | P103: 0 | Q103: ='Таблица 3 '!C93 -> 201141.47 | R103: =Q103 -> 201141.47 | S103: 0 | T103: =M103/J103 -> 258.27102 | U103: =T103 -> 258.27102 | V103: 12.2026
A104: 83 | B104: г. Чита, ул. Бутина, д. 73 | C104: общий счет регионального оператора | D104: 1987 | E104: 2022 | F104: Каменные, кирпичные | G104: 9 | H104: 8 | I104: 5087.7 | J104: 7642.7 | K104: 6843.1 | L104: 243 | M104: =SUM(N104:Q104) -> 352229.03 | N104: 0 | O104: 0 | P104: 0 | Q104: ='Таблица 3 '!C94 -> 352229.03 | R104: =Q104 -> 352229.03 | S104: 0 | T104: =M104/J104 -> 46.086989 | U104: =T104 -> 46.086989 | V104: 12.2026
A105: 84 | B105: г. Чита, ул. Бутина, д. 82 | C105: общий счет регионального оператора | D105: 1962 | E105: Х | F105: Каменные, кирпичные | G105: 3 | H105: 2 | I105: 1323.6 | J105: 1087.9 | K105: 812.35 | L105: 49 | M105: =SUM(N105:Q105) -> 5453022.4 | N105: 0 | O105: 0 | P105: 0 | Q105: ='Таблица 3 '!C95 -> 5453022.4 | R105: =Q105 -> 5453022.4 | S105: 0 | T105: =M105/J105 -> 5012.4298 | U105: =T105 -> 5012.4298 | V105: 12.2026
A106: 85 | B106: г. Чита, ул. Весенняя, д. 4 | C106: общий счет регионального оператора | D106: 1975 | E106: Х | F106: Каменные, кирпичные | G106: 5 | H106: 4 | I106: 3345.5 | J106: 3294.1 | K106: 3267.4 | L106: 168 | M106: =SUM(N106:Q106) -> 6923682.1 | N106: 0 | O106: 0 | P106: 0 | Q106: ='Таблица 3 '!C96 -> 6923682.1 | R106: =Q106 -> 6923682.1 | S106: 0 | T106: =M106/J106 -> 2101.8433 | U106: =T106 -> 2101.8433 | V106: 12.2026
A107: 86 | B107: г. Чита, ул. Весенняя, д. 40 | C107: общий счет регионального оператора | D107: 1995 | E107: Х | F107: Панельные | G107: 5 | H107: 2 | I107: 3251.9 | J107: 3251.8 | K107: 2699.7 | L107: 168 | M107: =SUM(N107:Q107) -> 251204.61 | N107: 0 | O107: 0 | P107: 0 | Q107: ='Таблица 3 '!C97 -> 251204.61 | R107: =Q107 -> 251204.61 | S107: 0 | T107: =M107/J107 -> 77.250941 | U107: =T107 -> 77.250941 | V107: 12.2026
A108: 87 | B108: г. Чита, ул. Весенняя, д. 8 | C108: общий счет регионального оператора | D108: 1973 | E108: Х | F108: Панельные | G108: 5 | H108: 4 | I108: 3549 | J108: 3519.7 | K108: 3419.1 | L108: 190 | M108: =SUM(N108:Q108) -> 222611.13 | N108: 0 | O108: 0 | P108: 0 | Q108: ='Таблица 3 '!C98 -> 222611.13 | R108: =Q108 -> 222611.13 | S108: 0 | T108: =M108/J108 -> 63.247189 | U108: =T108 -> 63.247189 | V108: 12.2026
A109: 88 | B109: г. Чита, ул. Гагарина, д. 17 | C109: общий счет регионального оператора | D109: 1969 | E109: 2024 | F109: Панельные | G109: 5 | H109: 6 | I109: 5767.5 | J109: 5746.7 | K109: 5568 | L109: 229 | M109: =SUM(N109:Q109) -> 13161132 | N109: 0 | O109: 0 | P109: 0 | Q109: ='Таблица 3 '!C99 -> 13161132 | R109: =Q109 -> 13161132 | S109: 0 | T109: =M109/J109 -> 2290.2069 | U109: =T109 -> 2290.2069 | V109: 12.2026
A110: 89 | B110: г. Чита, ул. Гагарина, д. 5 | C110: общий счет регионального оператора | D110: 1970 | E110: Х | F110: Панельные | G110: 5 | H110: 6 | I110: 6841.4 | J110: 6127.9 | K110: 5500.6 | L110: 242 | M110: =SUM(N110:Q110) -> 26573381 | N110: 0 | O110: 0 | P110: 0 | Q110: ='Таблица 3 '!C100 -> 26573381 | R110: =Q110 -> 26573381 | S110: 0 | T110: =M110/J110 -> 4336.458 | U110: =T110 -> 4336.458 | V110: 12.2026
A111: 90 | B111: г. Чита, ул. Гагарина, д. 8 | C111: общий счет регионального оператора | D111: 1969 | E111: Х | F111: Панельные | G111: 5 | H111: 6 | I111: 5866.4 | J111: 5742.8 | K111: 5272.3 | L111: 262 | M111: =SUM(N111:Q111) -> 9264336 | N111: 0 | O111: 0 | P111: 0 | Q111: ='Таблица 3 '!C101 -> 9264336 | R111: =Q111 -> 9264336 | S111: 0 | T111: =M111/J111 -> 1613.2089 | U111: =T111 -> 1613.2089 | V111: 12.2026
A112: 91 | B112: г. Чита, ул. Гагарина, д. 9 | C112: общий счет регионального оператора | D112: 1968 | E112: Х | F112: Панельные | G112: 5 | H112: 4 | I112: 3829.3 | J112: 3827.9 | K112: 3677.7 | L112: 171 | M112: =SUM(N112:Q112) -> 5782289.3 | N112: 0 | O112: 0 | P112: 0 | Q112: ='Таблица 3 '!C102 -> 5782289.3 | R112: =Q112 -> 5782289.3 | S112: 0 | T112: =M112/J112 -> 1510.5644 | U112: =T112 -> 1510.5644 | V112: 12.2026
A113: 92 | B113: г. Чита, ул. Горького, д. 38 | C113: общий счет регионального оператора | D113: 1978 | E113: Х | F113: Кирпичные, каменные | G113: 5 | H113: 4 | I113: 3312.2 | J113: 3374 | K113: 3160.4 | L113: 124 | M113: =SUM(N113:Q113) -> 1377774.7 | N113: 0 | O113: 0 | P113: 0 | Q113: ='Таблица 3 '!C103 -> 1377774.7 | R113: =Q113 -> 1377774.7 | S113: 0 | T113: =M113/J113 -> 408.35053 | U113: =T113 -> 408.35053 | V113: 12.2026
A114: 93 | B114: г. Чита, ул. Дивизионная, д. 4 | C114: общий счет регионального оператора | D114: 1995 | E114: 2024 | F114: Панельные | G114: 5 | H114: 4 | I114: 6254.5 | J114: 4492.7 | K114: 2712 | L114: 208 | M114: =SUM(N114:Q114) -> 14706691 | N114: 0 | O114: 0 | P114: 0 | Q114: ='Таблица 3 '!C104 -> 14706691 | R114: =Q114 -> 14706691 | S114: 0 | T114: =M114/J114 -> 3273.464 | U114: =T114 -> 3273.464 | V114: 12.2026
A115: 94 | B115: г. Чита, ул. Дивизионная, д. 8а | C115: общий счет регионального оператора | D115: 1979 | E115: Х | F115: Панельные | G115: 5 | H115: 4 | I115: 4731.9 | J115: 3440.9 | K115: 3396.4 | L115: 172 | M115: =SUM(N115:Q115) -> 249341.12 | N115: 0 | O115: 0 | P115: 0 | Q115: ='Таблица 3 '!C105 -> 249341.12 | R115: =Q115 -> 249341.12 | S115: 0 | T115: =M115/J115 -> 72.463925 | U115: =T115 -> 72.463925 | V115: 12.2026
A116: 95 | B116: г. Чита, ул. Евгения Гаюсана, д. 28 | C116: общий счет регионального оператора | D116: 1977 | E116: 2022 | F116: Панельные | G116: 5 | H116: 4 | I116: 4698.3 | J116: 3682.8 | K116: 3587.1 | L116: 86 | M116: =SUM(N116:Q116) -> 2901295.6 | N116: 0 | O116: 0 | P116: 0 | Q116: ='Таблица 3 '!C106 -> 2901295.6 | R116: =Q116 -> 2901295.6 | S116: 0 | T116: =M116/J116 -> 787.79614 | U116: =T116 -> 787.79614 | V116: 12.2026
...

Sheet Таблица 2
A2: Таблица 2. Планируемые показатели выполнения Регионального краткосрочного плана реализации Региональной программы капитального ремонта общего имущества в многоквартирных домах, расположенных на территории Забайкальского края, на период 2026-2028 годов
A4: № п/п | B4: Наименование МО | C4: общая площадь МКД, всего | D4: Количество жителей, зарегистрированных в МКД на дату утверждения плана | E4: Количество МКД | J4: Стоимость капитального ремонта
E5: I квартал | F5: II квартал | G5: III квартал | H5: IV квартал | I5: Всего : | J5: I квартал | K5: II квартал | L5: III квартал | M5: IV квартал | N5: Всего :
C6: кв.м | D6: чел. | E6: ед. | F6: ед. | G6: ед. | H6: ед. | I6: ед. | J6: руб. | K6: руб. | L6: руб. | M6: руб. | N6: руб.
A7: 1 | B7: 2 | C7: 3 | D7: 4 | E7: 5 | F7: 6 | G7: 7 | H7: 8 | I7: 9 | J7: 10 | K7: 11 | L7: 12 | M7: 13 | N7: 14
B8: 2026 год
B9: Итого по Забайкальскому краю | C9: =SUM(C10:C28)+SUM(C29:C34) -> 1319026.3 | D9: =SUM(D10:D28)+SUM(D29:D34) -> 40688 | E9: =SUM(E10:E28)+SUM(E29:E34) -> 0 | F9: =SUM(F10:F28)+SUM(F29:F34) -> 0 | G9: =SUM(G10:G28)+SUM(G29:G34) -> 0 | H9: =SUM(H10:H28)+SUM(H29:H34) -> 412 | I9: =SUM(I10:I28)+SUM(I29:I34) -> 412 | J9: =SUM(J10:J28)+SUM(J29:J34) -> 0 | ... N9: =SUM(N10:N28)+SUM(N29:N34) -> 1.4646165e+09
A10: 1 | B10: Городской округ "Город Чита" | C10: ='Таблица 1'!I21 -> 804240.72 | D10: ='Таблица 1'!L21 -> 24560 | E10: 0 | F10: 0 | G10: 0 | H10: 201 | I10: =H10 -> 201 | J10: 0 | K10: 0 | L10: 0 | M10: ='Таблица 1'!M21 -> 8.8843731e+08 | N10: =M10 -> 8.8843731e+08
A11: 2 | B11: Городской округ "Посёлок Агинское" | C11: ='Таблица 1'!I223 -> 4229.67 | D11: ='Таблица 1'!L223 -> 129 | E11: 0 | F11: 0 | G11: 0 | H11: 4 | I11: =H11 -> 4 | J11: 0 | K11: 0 | L11: 0 | M11: ='Таблица 1'!M223 -> 3857022.2 | N11: =M11 -> 3857022.2
A12: 3 | B12: Агинский муниципальный округ | C12: ='Таблица 1'!I228 -> 42614 | D12: ='Таблица 1'!L228 -> 1576 | E12: 0 | F12: 0 | G12: 0 | H12: 8 | I12: =H12 -> 8 | J12: 0 | K12: 0 | L12: 0 | M12: ='Таблица 1'!M228 -> 7365317.8 | N12: =M12 -> 7365317.8
A13: 4 | B13: Балейский муниципальный округ | C13: ='Таблица 1'!I237 -> 6364.63 | D13: ='Таблица 1'!L237 -> 175 | E13: 0 | F13: 0 | G13: 0 | H13: 6 | I13: =H13 -> 6 | J13: 0 | K13: 0 | L13: 0 | M13: ='Таблица 1'!M237 -> 9120712.9 | N13: =M13 -> 9120712.9
A14: 5 | B14: Борзинский муниципальный округ | C14: ='Таблица 1'!I244 -> 44219.39 | D14: ='Таблица 1'!L244 -> 1468 | E14: 0 | F14: 0 | G14: 0 | H14: 21 | I14: =H14 -> 21 | J14: 0 | K14: 0 | L14: 0 | M14: ='Таблица 1'!M244 -> 63007082 | N14: =M14 -> 63007082
A15: 6 | B15: Газимуро-Заводский муниципальный округ | C15: ='Таблица 1'!I266 -> 555.1 | D15: ='Таблица 1'!L266 -> 24 | E15: 0 | F15: 0 | G15: 0 | H15: 1 | I15: =H15 -> 1 | J15: 0 | K15: 0 | L15: 0 | M15: ='Таблица 1'!M266 -> 200729.9 | N15: =M15 -> 200729.9
A16: 7 | B16: Забайкальский муниципальный округ | C16: ='Таблица 1'!I268 -> 14777.3 | D16: ='Таблица 1'!L268 -> 414 | E16: 0 | F16: 0 | G16: 0 | H16: 7 | I16: =H16 -> 7 | J16: 0 | K16: 0 | L16: 0 | M16: ='Таблица 1'!M268 -> 15274966 | N16: =M16 -> 15274966
A17: 8 | B17: Каларский муниципальный округ | C17: ='Таблица 1'!I276 -> 5936.5 | D17: ='Таблица 1'!L276 -> 224 | E17: 0 | F17: 0 | G17: 0 | H17: 2 | I17: =H17 -> 2 | J17: 0 | K17: 0 | L17: 0 | M17: ='Таблица 1'!M276 -> 1025320.6 | N17: =M17 -> 1025320.6
A18: 9 | B18: Карымский муниципальный округ | C18: ='Таблица 1'!I279 -> 28248 | D18: ='Таблица 1'!L279 -> 785 | E18: 0 | F18: 0 | G18: 0 | H18: 15 | I18: =H18 -> 15 | J18: 0 | K18: 0 | L18: 0 | M18: ='Таблица 1'!M279 -> 45698775 | N18: =M18 -> 45698775
A19: 10 | B19: Краснокаменский муниципальный округ | C19: ='Таблица 1'!I295 -> 83437.17 | D19: ='Таблица 1'!L295 -> 2086 | E19: 0 | F19: 0 | G19: 0 | H19: 16 | I19: =H19 -> 16 | J19: 0 | K19: 0 | L19: 0 | M19: ='Таблица 1'!M295 -> 15563710 | N19: =M19 -> 15563710
A20: 11 | B20: Красночикойский муниципальный округ | C20: ='Таблица 1'!I312 -> 2077.59 | D20: ='Таблица 1'!L312 -> 57 | E20: 0 | F20: 0 | G20: 0 | H20: 2 | I20: =H20 -> 2 | J20: 0 | K20: 0 | L20: 0 | M20: ='Таблица 1'!M312 -> 2246915 | N20: =M20 -> 2246915
A21: 12 | B21: Кыринский муниципальный округ | C21: ='Таблица 1'!I315 -> 2507.6 | D21: ='Таблица 1'!L315 -> 62 | E21: 0 | F21: 0 | G21: 0 | H21: 2 | I21: =H21 -> 2 | J21: 0 | K21: 0 | L21: 0 | M21: ='Таблица 1'!M315 -> 1575708.7 | N21: =M21 -> 1575708.7
A22: 13 | B22: Могойтуйский муниципальный округ | C22: ='Таблица 1'!I318 -> 14553.2 | D22: ='Таблица 1'!L318 -> 200 | E22: 0 | F22: 0 | G22: 0 | H22: 5 | I22: =H22 -> 5 | J22: 0 | K22: 0 | L22: 0 | M22: ='Таблица 1'!M318 -> 70642856 | N22: =M22 -> 70642856
A23: 14 | B23: Могочинский муниципальный округ | C23: ='Таблица 1'!I324 -> 39328.3 | D23: ='Таблица 1'!L324 -> 1564 | E23: 0 | F23: 0 | G23: 0 | H23: 13 | I23: =H23 -> 13 | J23: 0 | K23: 0 | L23: 0 | M23: ='Таблица 1'!M324 -> 47136181 | N23: =M23 -> 47136181
A24: 15 | B24: Нерчинский муниципальный округ | C24: ='Таблица 1'!I338 -> 14979.04 | D24: ='Таблица 1'!L338 -> 576 | E24: 0 | F24: 0 | G24: 0 | H24: 5 | I24: =H24 -> 5 | J24: 0 | K24: 0 | L24: 0 | M24: ='Таблица 1'!M338 -> 9147092.1 | N24: =M24 -> 9147092.1
A25: 16 | B25: Оловяннинский муниципальный округ | C25: ='Таблица 1'!I344 -> 59411.9 | D25: ='Таблица 1'!L344 -> 1866 | E25: 0 | F25: 0 | G25: 0 | H25: 14 | I25: =H25 -> 14 | J25: 0 | K25: 0 | L25: 0 | M25: ='Таблица 1'!M344 -> 52497091 | N25: =M25 -> 52497091
A26: 17 | B26: Петровск-Забайкальский муниципальный округ | C26: ='Таблица 1'!I359 -> 23559.41 | D26: ='Таблица 1'!L359 -> 572 | E26: 0 | F26: 0 | G26: 0 | H26: 10 | I26: =H26 -> 10 | J26: 0 | K26: 0 | L26: 0 | M26: ='Таблица 1'!M359 -> 50131385 | N26: =M26 -> 50131385
A27: 18 | B27: Приаргунский муниципальный округ | C27: ='Таблица 1'!I370 -> 7035.55 | D27: ='Таблица 1'!L370 -> 234 | E27: 0 | F27: 0 | G27: 0 | H27: 9 | I27: =H27 -> 9 | J27: 0 | K27: 0 | L27: 0 | M27: ='Таблица 1'!M370 -> 14154042 | N27: =M27 -> 14154042
A28: 19 | B28: Сретенский муниципальный округ | C28: ='Таблица 1'!I380 -> 8247.1 | D28: ='Таблица 1'!L380 -> 272 | E28: 0 | F28: 0 | G28: 0 | H28: 5 | I28: =H28 -> 5 | J28: 0 | K28: 0 | L28: 0 | M28: ='Таблица 1'!M380 -> 5138679.3 | N28: =M28 -> 5138679.3
A29: 20 | B29: Тунгокоченский муниципальный округ | C29: ='Таблица 1'!I386 -> 2895.39 | D29: ='Таблица 1'!L386 -> 83 | E29: 0 | F29: 0 | G29: 0 | H29: 2 | I29: =H29 -> 2 | J29: 0 | K29: 0 | L29: 0 | M29: ='Таблица 1'!M386 -> 1845810.2 | N29: =M29 -> 1845810.2
A30: 21 | B30: Улётовский муниципальный округ | C30: ='Таблица 1'!I389 -> 5352.3 | D30: ='Таблица 1'!L389 -> 198 | E30: 0 | F30: 0 | G30: 0 | H30: 5 | I30: =H30 -> 5 | J30: 0 | K30: 0 | L30: 0 | M30: ='Таблица 1'!M389 -> 7888827 | N30: =M30 -> 7888827
A31: 22 | B31: Хилокский муниципальный округ | C31: ='Таблица 1'!I395 -> 8524.72 | D31: ='Таблица 1'!L395 -> 251 | E31: 0 | F31: 0 | G31: 0 | H31: 6 | I31: =H31 -> 6 | J31: 0 | K31: 0 | L31: 0 | M31: ='Таблица 1'!M395 -> 6915654.7 | N31: =M31 -> 6915654.7
A32: 23 | B32: Чернышевский муниципальный округ | C32: ='Таблица 1'!I402 -> 4318.8 | D32: ='Таблица 1'!L402 -> 144 | E32: 0 | F32: 0 | G32: 0 | H32: 4 | I32: =H32 -> 4 | J32: 0 | K32: 0 | L32: 0 | M32: ='Таблица 1'!M402 -> 21689586 | N32: =M32 -> 21689586
A33: 24 | B33: Читинский муниципальный округ | C33: ='Таблица 1'!I407 -> 31911.3 | D33: ='Таблица 1'!L407 -> 847 | E33: 0 | F33: 0 | G33: 0 | H33: 11 | I33: =H33 -> 11 | J33: 0 | K33: 0 | L33: 0 | M33: ='Таблица 1'!M407 -> 54513547 | N33: =M33 -> 54513547
A34: 25 | B34: Миниципальный район "Шилкинский район", том числе: | C34: =SUM(C35:C38) -> 59701.66 | D34: =SUM(D35:D38) -> 2321 | E34: =SUM(E35:E38) -> 0 | F34: =SUM(F35:F38) -> 0 | G34: =SUM(G35:G38) -> 0 | H34: =SUM(H35:H38) -> 38 | I34: =SUM(I35:I38) -> 38 | J34: =SUM(J35:J38) -> 0 | ... N34: =SUM(N35:N38) -> 69542225
B35: по городскому поселению "Шилкинское" | C35: ='Таблица 1'!I420 -> 32944.7 | D35: ='Таблица 1'!L420 -> 1289 | E35: =SUM(E36:E39) -> 0 | F35: =SUM(F36:F39) -> 0 | G35: =SUM(G36:G39) -> 0 | H35: 17 | I35: =H35 -> 17 | J35: =SUM(J36:J39) -> 0 | K35: =SUM(K36:K39) -> 0 | L35: =SUM(L36:L39) -> 0 | M35: ='Таблица 1'!M420 -> 21333311 | N35: =M35 -> 21333311
B36: по городскому поселению "Первомайское" | C36: ='Таблица 1'!I438 -> 23170.7 | D36: ='Таблица 1'!L438 -> 905 | E36: =SUM(E37:E40) -> 0 | F36: =SUM(F37:F40) -> 0 | G36: =SUM(G37:G40) -> 0 | H36: 17 | I36: =H36 -> 17 | J36: =SUM(J37:J40) -> 0 | K36: =SUM(K37:K40) -> 0 | L36: =SUM(L37:L40) -> 0 | M36: ='Таблица 1'!M438 -> 39254210 | N36: =M36 -> 39254210
B37: по городскому поселению "Холбонское" | C37: ='Таблица 1'!I456 -> 1529.26 | D37: ='Таблица 1'!L456 -> 72 | E37: =SUM(E38:E41) -> 0 | F37: =SUM(F38:F41) -> 0 | G37: =SUM(G38:G41) -> 0 | H37: 2 | I37: =H37 -> 2 | J37: =SUM(J38:J41) -> 0 | K37: =SUM(K38:K41) -> 0 | L37: =SUM(L38:L41) -> 0 | M37: ='Таблица 1'!M456 -> 5523218.7 | N37: =M37 -> 5523218.7
B38: по сельскому поселению "Размахнинское"" | C38: ='Таблица 1'!I460 -> 2057 | D38: ='Таблица 1'!L460 -> 55 | E38: =SUM(E39:E41) -> 0 | F38: =SUM(F39:F41) -> 0 | G38: =SUM(G39:G41) -> 0 | H38: 2 | I38: =H38 -> 2 | J38: =SUM(J39:J41) -> 0 | K38: =SUM(K39:K41) -> 0 | L38: =SUM(L39:L41) -> 0 | M38: ='Таблица 1'!M460 -> 3431485.7 | N38: =M38 -> 3431485.7
B39: 2027 год
B40: Итого по Забайкальскому краю | C40: =SUM(C41:C66) -> 1031990.3 | D40: =SUM(D41:D66) -> 29899 | E40: =SUM(E41:E66) -> 0 | F40: =SUM(F41:F66) -> 0 | G40: =SUM(G41:G66) -> 0 | H40: =SUM(H41:H66) -> 331 | I40: =SUM(I41:I66) -> 331 | J40: =SUM(J41:J66) -> 0 | ... N40: =SUM(N41:N66) -> 3.217491e+09
A41: 1 | B41: Городской округ "Город Чита" | C41: ='Таблица 1'!I465 -> 696978.04 | D41: ='Таблица 1'!L465 -> 19926 | E41: 0 | F41: 0 | G41: 0 | H41: 171 | I41: =H41 -> 171 | J41: 0 | K41: 0 | L41: 0 | M41: ='Таблица 1'!M465 -> 2.0115673e+09 | N41: =M41 -> 2.0115673e+09
A42: 2 | B42: Городской округ "Посёлок Агинское" | C42: ='Таблица 1'!I637 -> 1106.2 | D42: ='Таблица 1'!L637 -> 33 | E42: 0 | F42: 0 | G42: 0 | H42: 1 | I42: =H42 -> 1 | J42: 0 | K42: 0 | L42: 0 | M42: ='Таблица 1'!M637 -> 4801450.9 | N42: =M42 -> 4801450.9
A43: 3 | B43: Агинский муниципальный округ | C43: ='Таблица 1'!I639 -> 11786 | D43: ='Таблица 1'!L639 -> 417 | E43: 0 | F43: 0 | G43: 0 | H43: 3 | I43: =H43 -> 3 | J43: 0 | K43: 0 | L43: 0 | M43: ='Таблица 1'!M639 -> 26413494 | N43: =M43 -> 26413494
A44: 4 | B44: Балейский муниципальный округ | C44: ='Таблица 1'!I643 -> 8795.78 | D44: ='Таблица 1'!L643 -> 305 | E44: 0 | F44: 0 | G44: 0 | H44: 8 | I44: =H44 -> 8 | J44: 0 | K44: 0 | L44: 0 | M44: ='Таблица 1'!M643 -> 32293446 | N44: =M44 -> 32293446
A45: 5 | B45: Борзинский муниципальный район | C45: ='Таблица 1'!I652 -> 19037.8 | D45: ='Таблица 1'!L652 -> 616 | E45: 0 | F45: 0 | G45: 0 | H45: 9 | I45: =H45 -> 9 | J45: 0 | K45: 0 | L45: 0 | M45: ='Таблица 1'!M652 -> 21549705 | N45: =M45 -> 21549705
A46: 6 | B46: Газимуро-Заводский муниципальный округ | C46: ='Таблица 1'!I662 -> 4083.1 | D46: ='Таблица 1'!L662 -> 138 | E46: 0 | F46: 0 | G46: 0 | H46: 4 | I46: =H46 -> 4 | J46: 0 | K46: 0 | L46: 0 | M46: ='Таблица 1'!M662 -> 24627491 | N46: =M46 -> 24627491
A47: 7 | B47: Забайкальский муниципальный округ | C47: ='Таблица 1'!I667 -> 16337.7 | D47: ='Таблица 1'!L667 -> 464 | E47: 0 | F47: 0 | G47: 0 | H47: 6 | I47: =H47 -> 6 | J47: 0 | K47: 0 | L47: 0 | M47: ='Таблица 1'!M667 -> 49733577 | N47: =M47 -> 49733577
A48: 8 | B48: Каларский муниципальный округ | C48: ='Таблица 1'!I674 -> 4592.8 | D48: ='Таблица 1'!L674 -> 142 | E48: 0 | F48: 0 | G48: 0 | H48: 3 | I48: =H48 -> 3 | J48: 0 | K48: 0 | L48: 0 | M48: ='Таблица 1'!M674 -> 15570338 | N48: =M48 -> 15570338
A49: 9 | B49: Калганский муниципальный округ | C49: ='Таблица 1'!I678 -> 1148.3 | D49: ='Таблица 1'!L678 -> 60 | E49: 0 | F49: 0 | G49: 0 | H49: 2 | I49: =H49 -> 2 | J49: 0 | K49: 0 | L49: 0 | M49: ='Таблица 1'!M678 -> 1522073.7 | N49: =M49 -> 1522073.7
A50: 10 | B50: Карымский муниципальный округ | C50: ='Таблица 1'!I681 -> 45650.28 | D50: ='Таблица 1'!L681 -> 1185 | E50: 0 | F50: 0 | G50: 0 | H50: 15 | I50: =H50 -> 15 | J50: 0 | K50: 0 | L50: 0 | M50: ='Таблица 1'!M681 -> 1.4419462e+08 | N50: =M50 -> 1.4419462e+08
A51: 11 | B51: Краснокаменский муниципальный округ | C51: ='Таблица 1'!I697 -> 8941.38 | D51: ='Таблица 1'!L697 -> 377 | E51: 0 | F51: 0 | G51: 0 | H51: 3 | I51: =H51 -> 3 | J51: 0 | K51: 0 | L51: 0 | M51: ='Таблица 1'!M697 -> 14479098 | N51: =M51 -> 14479098
A52: 12 | B52: Красночикойский муниципальный округ | C52: ='Таблица 1'!I701 -> 404.35 | D52: ='Таблица 1'!L701 -> 21 | E52: 0 | F52: 0 | G52: 0 | H52: 1 | I52: =H52 -> 1 | J52: 0 | K52: 0 | L52: 0 | M52: ='Таблица 1'!M701 -> 265594 | N52: =M52 -> 265594
A53: 13 | B53: Могойтуйский муниципальный округ | C53: ='Таблица 1'!I703 -> 6046 | D53: ='Таблица 1'!L703 -> 50 | E53: 0 | F53: 0 | G53: 0 | H53: 2 | I53: =H53 -> 2 | J53: 0 | K53: 0 | L53: 0 | M53: ='Таблица 1'!M703 -> 15146126 | N53: =M53 -> 15146126
A54: 14 | B54: Могочинский муниципальный округ | C54: ='Таблица 1'!I706 -> 2925.3 | D54: ='Таблица 1'!L706 -> 126 | E54: 0 | F54: 0 | G54: 0 | H54: 2 | I54: =H54 -> 2 | J54: 0 | K54: 0 | L54: 0 | M54: ='Таблица 1'!M706 -> 18966694 | N54: =M54 -> 18966694
A55: 15 | B55: Нерчинский муниципальный округ | C55: ='Таблица 1'!I709 -> 20425.71 | D55: ='Таблица 1'!L709 -> 732 | E55: 0 | F55: 0 | G55: 0 | H55: 7 | I55: =H55 -> 7 | J55: 0 | K55: 0 | L55: 0 | M55: ='Таблица 1'!M709 -> 69476167 | N55: =M55 -> 69476167
A56: 16 | B56: Оловяннинский муниципальный округ | C56: ='Таблица 1'!I717 -> 67707.86 | D56: ='Таблица 1'!L717 -> 2032 | E56: 0 | F56: 0 | G56: 0 | H56: 23 | I56: =H56 -> 23 | J56: 0 | K56: 0 | L56: 0 | M56: ='Таблица 1'!M717 -> 3.0343523e+08 | N56: =M56 -> 3.0343523e+08
A57: 17 | B57: Петровск-Забайкальский муниципальный округ | C57: ='Таблица 1'!I741 -> 14114.2 | D57: ='Таблица 1'!L741 -> 317 | E57: 0 | F57: 0 | G57: 0 | H57: 6 | I57: =H57 -> 6 | J57: 0 | K57: 0 | L57: 0 | M57: ='Таблица 1'!M741 -> 35065782 | N57: =M57 -> 35065782
A58: 18 | B58: Приаргунский муниципальный округ | C58: ='Таблица 1'!I748 -> 6651.79 | D58: ='Таблица 1'!L748 -> 184 | E58: 0 | F58: 0 | G58: 0 | H58: 8 | I58: =H58 -> 8 | J58: 0 | K58: 0 | L58: 0 | M58: ='Таблица 1'!M748 -> 32736579 | N58: =M58 -> 32736579
A59: 19 | B59: Сретенский муниципальный округ | C59: ='Таблица 1'!I757 -> 3126.6 | D59: ='Таблица 1'!L757 -> 91 | E59: 0 | F59: 0 | G59: 0 | H59: 4 | I59: =H59 -> 4 | J59: 0 | K59: 0 | L59: 0 | M59: ='Таблица 1'!M757 -> 7923893.7 | N59: =M59 -> 7923893.7
A60: 20 | B60: Тунгокоченский муниципальный округ | C60: ='Таблица 1'!I762 -> 3132.61 | D60: ='Таблица 1'!L762 -> 126 | E60: 0 | F60: 0 | G60: 0 | H60: 2 | I60: =H60 -> 2 | J60: 0 | K60: 0 | L60: 0 | M60: ='Таблица 1'!M762 -> 13882209 | N60: =M60 -> 13882209
A61: 21 | B61: Улётовский муниципальный округ | C61: ='Таблица 1'!I765 -> 1741.1 | D61: ='Таблица 1'!L765 -> 39 | E61: 0 | F61: 0 | G61: 0 | H61: 1 | I61: =H61 -> 1 | J61: 0 | K61: 0 | L61: 0 | M61: ='Таблица 1'!M765 -> 14216901 | N61: =M61 -> 14216901
A62: 22 | B62: Хилокский муниципальный округ | C62: ='Таблица 1'!I767 -> 10702.9 | D62: ='Таблица 1'!L767 -> 257 | E62: 0 | F62: 0 | G62: 0 | H62: 3 | I62: =H62 -> 3 | J62: 0 | K62: 0 | L62: 0 | M62: ='Таблица 1'!M767 -> 48332778 | N62: =M62 -> 48332778
A63: 23 | B63: Чернышевский муниципальный округ | C63: ='Таблица 1'!I771 -> 10202.7 | D63: ='Таблица 1'!L771 -> 451 | E63: 0 | F63: 0 | G63: 0 | H63: 8 | I63: =H63 -> 8 | J63: 0 | K63: 0 | L63: 0 | M63: ='Таблица 1'!M771 -> 64213883 | N63: =M63 -> 64213883
A64: 24 | B64: Читинский муниципальный округ | C64: ='Таблица 1'!I780 -> 43090.82 | D64: ='Таблица 1'!L780 -> 805 | E64: 0 | F64: 0 | G64: 0 | H64: 18 | I64: =H64 -> 18 | J64: 0 | K64: 0 | L64: 0 | M64: ='Таблица 1'!M780 -> 1.5348937e+08 | N64: =M64 -> 1.5348937e+08
A65: 25 | B65: Шелопугинский муниципальный округ | C65: ='Таблица 1'!I799 -> 1156.4 | D65: ='Таблица 1'!L799 -> 26 | E65: 0 | F65: 0 | G65: 0 | H65: 1 | I65: =H65 -> 1 | J65: 0 | K65: 0 | L65: 0 | M65: ='Таблица 1'!M799 -> 7386044.9 | N65: =M65 -> 7386044.9
A66: 26 | B66: Шилкинский муниципальный округ | C66: ='Таблица 1'!I801 -> 22104.56 | D66: ='Таблица 1'!L801 -> 979 | E66: 0 | F66: 0 | G66: 0 | H66: 20 | I66: =H66 -> 20 | J66: 0 | K66: 0 | L66: 0 | M66: ='Таблица 1'!M801 -> 86201099 | N66: =M66 -> 86201099
B67: 2028 год
B68: Итого по Забайкальскому краю | C68: =SUM(C69:C87) -> 292457.15 | D68: =SUM(D69:D87) -> 9049 | E68: =SUM(E69:E87) -> 0 | F68: =SUM(F69:F87) -> 0 | G68: =SUM(G69:G87) -> 0 | H68: =SUM(H69:H87) -> 114 | I68: =SUM(I69:I87) -> 114 | J68: =SUM(J69:J87) -> 0 | ... N68: =SUM(N69:N87) -> 8.3379002e+08
A69: 1 | B69: Городской округ "Город Чита" | C69: ='Таблица 1'!I824 -> 110593.03 | D69: ='Таблица 1'!L824 -> 3615 | E69: 0 | F69: 0 | G69: 0 | H69: 29 | I69: =H69 -> 29 | J69: 0 | K69: 0 | L69: 0 | M69: ='Таблица 1'!M824 -> 2.803058e+08 | N69: =M69 -> 2.803058e+08
A70: 2 | B70: Агинский муниципальный округ | C70: ='Таблица 1'!I854 -> 774.58 | D70: ='Таблица 1'!L854 -> 34 | E70: 0 | F70: 0 | G70: 0 | H70: 1 | I70: =H70 -> 1 | J70: 0 | K70: 0 | L70: 0 | M70: ='Таблица 1'!M854 -> 365117.1 | N70: =M70 -> 365117.1
A71: 3 | B71: Балейский муниципальный округ | C71: ='Таблица 1'!I856 -> 1570.86 | D71: ='Таблица 1'!L856 -> 58 | E71: 0 | F71: 0 | G71: 0 | H71: 1 | I71: =H71 -> 1 | J71: 0 | K71: 0 | L71: 0 | M71: ='Таблица 1'!M856 -> 14015315 | N71: =M71 -> 14015315
A72: 4 | B72: Борзинский муниципальный округ | C72: ='Таблица 1'!I858 -> 35572.4 | D72: ='Таблица 1'!L858 -> 1440 | E72: 0 | F72: 0 | G72: 0 | H72: 16 | I72: =H72 -> 16 | J72: 0 | K72: 0 | L72: 0 | M72: ='Таблица 1'!M858 -> 58316525 | N72: =M72 -> 58316525
A73: 5 | B73: Газимуро-Заводский муниципальный округ | C73: ='Таблица 1'!I875 -> 767 | D73: ='Таблица 1'!L875 -> 45 | E73: 0 | F73: 0 | G73: 0 | H73: 1 | I73: =H73 -> 1 | J73: 0 | K73: 0 | L73: 0 | M73: ='Таблица 1'!M875 -> 6418309.9 | N73: =M73 -> 6418309.9
A74: 6 | B74: Каларский муниципальный округ | C74: ='Таблица 1'!I877 -> 28034.3 | D74: ='Таблица 1'!L877 -> 652 | E74: 0 | F74: 0 | G74: 0 | H74: 8 | I74: =H74 -> 8 | J74: 0 | K74: 0 | L74: 0 | M74: ='Таблица 1'!M877 -> 82973910 | N74: =M74 -> 82973910
A75: 7 | B75: Калганский муниципальный округ | C75: ='Таблица 1'!I886 -> 402 | D75: ='Таблица 1'!L886 -> 18 | E75: 0 | F75: 0 | G75: 0 | H75: 1 | I75: =H75 -> 1 | J75: 0 | K75: 0 | L75: 0 | M75: ='Таблица 1'!M886 -> 671818.55 | N75: =M75 -> 671818.55
A76: 8 | B76: Карымский муниципальный округ | C76: ='Таблица 1'!I888 -> 8374.08 | D76: ='Таблица 1'!L888 -> 200 | E76: 0 | F76: 0 | G76: 0 | H76: 5 | I76: =H76 -> 5 | J76: 0 | K76: 0 | L76: 0 | M76: ='Таблица 1'!M888 -> 21229740 | N76: =M76 -> 21229740
A77: 9 | B77: Могочинский муниципальный округ | C77: ='Таблица 1'!I894 -> 13535.3 | D77: ='Таблица 1'!L894 -> 475 | E77: 0 | F77: 0 | G77: 0 | H77: 6 | I77: =H77 -> 6 | J77: 0 | K77: 0 | L77: 0 | M77: ='Таблица 1'!M894 -> 44705347 | N77: =M77 -> 44705347
A78: 10 | B78: Нерчинский муниципальный округ | C78: ='Таблица 1'!I901 -> 4823.7 | D78: ='Таблица 1'!L901 -> 129 | E78: 0 | F78: 0 | G78: 0 | H78: 4 | I78: =H78 -> 4 | J78: 0 | K78: 0 | L78: 0 | M78: ='Таблица 1'!M901 -> 23241981 | N78: =M78 -> 23241981
A79: 11 | B79: Оловяннинский муниципальный округ | C79: ='Таблица 1'!I906 -> 9193.7 | D79: ='Таблица 1'!L906 -> 297 | E79: 0 | F79: 0 | G79: 0 | H79: 3 | I79: =H79 -> 3 | J79: 0 | K79: 0 | L79: 0 | M79: ='Таблица 1'!M906 -> 27271196 | N79: =M79 -> 27271196
A80: 12 | B80: Петровск-Забайкальский муниципальный округ | C80: ='Таблица 1'!I910 -> 8764.7 | D80: ='Таблица 1'!L910 -> 193 | E80: 0 | F80: 0 | G80: 0 | H80: 2 | I80: =H80 -> 2 | J80: 0 | K80: 0 | L80: 0 | M80: ='Таблица 1'!M910 -> 21320759 | N80: =M80 -> 21320759
A81: 13 | B81: Приаргунский муниципальный округ | C81: ='Таблица 1'!I913 -> 2974.89 | D81: ='Таблица 1'!L913 -> 76 | E81: 0 | F81: 0 | G81: 0 | H81: 4 | I81: =H81 -> 4 | J81: 0 | K81: 0 | L81: 0 | M81: ='Таблица 1'!M913 -> 21365652 | N81: =M81 -> 21365652
A82: 14 | B82: Сретенский муниципальный округ | C82: ='Таблица 1'!I918 -> 2476 | D82: ='Таблица 1'!L918 -> 62 | E82: 0 | F82: 0 | G82: 0 | H82: 3 | I82: =H82 -> 3 | J82: 0 | K82: 0 | L82: 0 | M82: ='Таблица 1'!M918 -> 12270983 | N82: =M82 -> 12270983
A83: 15 | B83: Тунгокоченский муниципальный округ | C83: ='Таблица 1'!I922 -> 3160.39 | D83: ='Таблица 1'!L922 -> 121 | E83: 0 | F83: 0 | G83: 0 | H83: 2 | I83: =H83 -> 2 | J83: 0 | K83: 0 | L83: 0 | M83: ='Таблица 1'!M922 -> 2374096.3 | N83: =M83 -> 2374096.3
A84: 16 | B84: Хилокский муниципальный округ | C84: ='Таблица 1'!I925 -> 10950.8 | D84: ='Таблица 1'!L925 -> 241 | E84: 0 | F84: 0 | G84: 0 | H84: 5 | I84: =H84 -> 5 | J84: 0 | K84: 0 | L84: 0 | M84: ='Таблица 1'!M925 -> 40900714 | N84: =M84 -> 40900714
A85: 17 | B85: Чернышевский муниципальный округ | C85: ='Таблица 1'!I931 -> 1755 | D85: ='Таблица 1'!L931 -> 74 | E85: 0 | F85: 0 | G85: 0 | H85: 2 | I85: =H85 -> 2 | J85: 0 | K85: 0 | L85: 0 | M85: ='Таблица 1'!M931 -> 8917767.8 | N85: =M85 -> 8917767.8
A86: 18 | B86: Читинский муниципальный округ | C86: ='Таблица 1'!I934 -> 34397.42 | D86: ='Таблица 1'!L934 -> 660 | E86: 0 | F86: 0 | G86: 0 | H86: 14 | I86: =H86 -> 14 | J86: 0 | K86: 0 | L86: 0 | M86: ='Таблица 1'!M934 -> 1.2763173e+08 | N86: =M86 -> 1.2763173e+08
A87: 19 | B87: Шилкинский муниципальный округ | C87: ='Таблица 1'!I949 -> 14337 | D87: ='Таблица 1'!L949 -> 659 | E87: 0 | F87: 0 | G87: 0 | H87: 7 | I87: =H87 -> 7 | J87: 0 | K87: 0 | L87: 0 | M87: ='Таблица 1'!M949 -> 39493254 | N87: =M87 -> 39493254
A89: СПРАВОЧНО:
A90: Перечень многоквартирных домов, сменивших способ формирования фонда капитального ремонта, в которых в период 2017-2025 годов выполнены работы по капитальному ремонту, и многоквартирных домов, в которых работы выполнены, но не учтены ранее
B91: Итого по Забайкальскому краю | C91: =SUM(C92:C103) -> 256000.87 | D91: =SUM(D92:D103) -> 7758 | E91: =SUM(E92:E103) -> 0 | F91: =SUM(F92:F103) -> 0 | G91: =SUM(G92:G103) -> 0 | H91: =SUM(H92:H103) -> 53 | I91: =SUM(I92:I103) -> 53 | J91: =SUM(J92:J103) -> 0 | ... N91: =SUM(N92:N103) -> 48590542
A92: 1 | B92: Городской округ "Город Чита" | C92: ='Таблица 1'!I962 -> 129718.6 | D92: ='Таблица 1'!L962 -> 3343 | E92: 0 | F92: 0 | G92: 0 | H92: 24 | I92: =H92 -> 24 | J92: 0 | K92: 0 | L92: 0 | M92: ='Таблица 1'!M962 -> 28775439 | N92: =M92 -> 28775439
A93: 2 | B93: Балейский муниципальный округ | C93: ='Таблица 1'!I1000 -> 3068.23 | D93: ='Таблица 1'!L1000 -> 118 | E93: 0 | F93: 0 | G93: 0 | H93: 1 | I93: =H93 -> 1 | J93: 0 | K93: 0 | L93: 0 | M93: ='Таблица 1'!M1000 -> 106040 | N93: =M93 -> 106040
A94: 3 | B94: Борзинский муниципальный округ | C94: ='Таблица 1'!I1002 -> 6946.3 | D94: ='Таблица 1'!L1002 -> 224 | E94: 0 | F94: 0 | G94: 0 | H94: 1 | I94: =H94 -> 1 | J94: 0 | K94: 0 | L94: 0 | M94: ='Таблица 1'!M1002 -> 5313438.4 | N94: =M94 -> 5313438.4
A95: 4 | B95: Забайкальский муниципальный округ | C95: ='Таблица 1'!I1004 -> 4707.5 | D95: ='Таблица 1'!L1004 -> 120 | E95: 0 | F95: 0 | G95: 0 | H95: 1 | I95: =H95 -> 1 | J95: 0 | K95: 0 | L95: 0 | M95: ='Таблица 1'!M1004 -> 1132951.5 | N95: =M95 -> 1132951.5
A96: 5 | B96: Карымский муниципальный округ | C96: ='Таблица 1'!I1006 -> 3754.11 | D96: ='Таблица 1'!L1006 -> 98 | E96: 0 | F96: 0 | G96: 0 | H96: 1 | I96: =H96 -> 1 | J96: 0 | K96: 0 | L96: 0 | M96: ='Таблица 1'!M1006 -> 40 | N96: =M96 -> 40
A97: 6 | B97: Краснокаменский муниципальный округ | C97: ='Таблица 1'!I1009 -> 74550.174 | D97: ='Таблица 1'!L1009 -> 2656 | E97: 0 | F97: 0 | G97: 0 | H97: 14 | I97: =H97 -> 14 | J97: 0 | K97: 0 | L97: 0 | M97: ='Таблица 1'!Q1009 -> 10233716 | N97: =M97 -> 10233716
A98: 7 | B98: Могочинский муниципальный округ | C98: ='Таблица 1'!I1024 -> 6094.3 | D98: ='Таблица 1'!L1024 -> 209 | E98: 0 | F98: 0 | G98: 0 | H98: 2 | I98: =H98 -> 2 | J98: 0 | K98: 0 | L98: 0 | M98: ='Таблица 1'!M1024 -> -2057903.4 | N98: =M98 -> -2057903.4
A99: 8 | B99: Оловяннинский муниципальный округ | C99: ='Таблица 1'!I1029 -> 923 | D99: ='Таблица 1'!L1029 -> 51 | E99: 0 | F99: 0 | G99: 0 | H99: 1 | I99: =H99 -> 1 | J99: 0 | K99: 0 | L99: 0 | M99: ='Таблица 1'!M1029 -> -0.5 | N99: =M99 -> -0.5
A100: 9 | B100: Муниципальгый район "Сретенский район", в том числе: | C100: =C101 -> 10265.78 | D100: =D101 -> 378 | E100: =E101 -> 0 | F100: =F101 -> 0 | G100: =G101 -> 0 | H100: =H101 -> 3 | I100: =I101 -> 3 | J100: =J101 -> 0 | ... N100: =N101 -> 2202112.4
B101: по городскому поселению "Сретенское" | C101: ='Таблица 1'!I1033 -> 10265.78 | D101: ='Таблица 1'!L1033 -> 378 | E101: 0 | F101: 0 | G101: 0 | H101: 3 | I101: =H101 -> 3 | J101: 0 | K101: 0 | L101: 0 | M101: ='Таблица 1'!M1033 -> 2202112.4 | N101: =M101 -> 2202112.4
A102: 10 | B102: Тунгокоченский муниципальный округ | C102: ='Таблица 1'!I1037 -> 631.5 | D102: ='Таблица 1'!L1037 -> 23 | E102: 0 | F102: 0 | G102: 0 | H102: 1 | I102: =H102 -> 1 | J102: 0 | K102: 0 | L102: 0 | M102: ='Таблица 1'!M1037 -> -157403.88 | N102: =M102 -> -157403.88
A103: 11 | B103: Читинский муниципальный округ | C103: ='Таблица 1'!I1040 -> 5075.6 | D103: ='Таблица 1'!L1040 -> 160 | E103: 0 | F103: 0 | G103: 0 | H103: 1 | I103: =H103 -> 1 | J103: 0 | K103: 0 | L103: 0 | M103: ='Таблица 1'!M1040 -> 840000 | N103: =M103 -> 840000

Sheet Таблица 3 
A2: Таблица 3. Адресный перечень многоквартирных домов, расположенных на территории Забайкальского края, в отношении которых на период 2026-2028 годов планируется проведение капитального ремонта общего имущества, по видам работ по капитальному ремонту
A4: № п/п | B4: Адрес МКД | C4: Стоимость капитального ремонта ВСЕГО | D4: Виды, установленные частью 1 статьи 166 Жилищного Кодекса Российской Федерации | P4: Виды, установленные нормативным правовым актом Забайкальского края | T4: Виды, установленные частью 3 статьи 166 Жилищного Кодекса Российской Федерации
D5: ремонт внутридомовых инженерных систем электро-, тепло-, газо-, водоснабжения, водоотведения | E5: в том числе: | J5: Ремонт, замена, модернизация лифтов, ремонт лифтовых шахт, машинных и блочных помещений | L5: Ремонт крыши | M5: Ремонт подвальных помещений, относящихся к общему имуществу в многоквартирном доме | N5: Ремонт фасада | O5: Ремонт фундамента многоквартирного дома | P5: услуги и (или) работы по оценке технического состояния, разработке проектной документации на проведение капитального ремонта общего имущества многоквартирных домов | Q5: услуги и (или) работы по оценке технического состояния, разработке проектной документации на проведение капитального ремонта общего имущества многоквартирных домов, являющихся объектами культурного наследия, выявленными объектами культурного наследия | R5: услуги по осуществлению строительного контроля | S5: услуги и (или) работы по переустройству невентилируемой крыши на вентилируемую крышу, устройству выходов на кровлю
E6: электроснабжения | F6: теплоснабжения | G6: горячего водоснабжения | H6: холодного водоснабжения | I6: водоотведения
C7: руб. | D7: руб. | E7: руб. | F7: руб. | G7: руб. | H7: руб. | I7: руб. | J7: ед. | K7: руб. | L7: руб. | M7: руб. | N7: руб. | O7: руб. | P7: руб. | Q7: руб. | R7: руб. | S7: руб. | T7: руб.
A8: 1 | B8: 2 | C8: 3 | D8: 4 | E8: 5 | F8: 6 | G8: 7 | H8: 8 | I8: 9 | J8: 10 | K8: 11 | L8: 12 | M8: 13 | N8: 14 | O8: 15 | P8: 16 | Q8: 17 | R8: 18 | S8: 19 | T8: 20
A9: 2026 год
A10: Итого по Забайкальскому краю: | C10: =C11+C213+C218+C227+C234+C256+C258+C266+C269+C285+C302+C305+C308+C314+C328+C334+C349+C360+C370+C376+C379+C385+C392+C397+C409 -> 1.4646165e+09 | D10: =D11+D213+D218+D227+D234+D256+D258+D266+D269+D285+D302+D305+D308+D314+D328+D334+D349+D360+D370+D376+D379+D385+D392+D397+D409 -> 4.347717e+08 | E10: =E11+E213+E218+E227+E234+E256+E258+E266+E269+E285+E302+E305+E308+E314+E328+E334+E349+E360+E370+E376+E379+E385+E392+E397+E409 -> 1.3781504e+08 | F10: =F11+F213+F218+F227+F234+F256+F258+F266+F269+F285+F302+F305+F308+F314+F328+F334+F349+F360+F370+F376+F379+F385+F392+F397+F409 -> 1.9545108e+08 | G10: =G11+G213+G218+G227+G234+G256+G258+G266+G269+G285+G302+G305+G308+G314+G328+G334+G349+G360+G370+G376+G379+G385+G392+G397+G409 -> 38268354 | H10: =H11+H213+H218+H227+H234+H256+H258+H266+H269+H285+H302+H305+H308+H314+H328+H334+H349+H360+H370+H376+H379+H385+H392+H397+H409 -> 30565161 | I10: =I11+I213+I218+I227+I234+I256+I258+I266+I269+I285+I302+I305+I308+I314+I328+I334+I349+I360+I370+I376+I379+I385+I392+I397+I409 -> 32672066 | J10: =J11+J213+J218+J227+J234+J256+J258+J266+J269+J285+J302+J305+J308+J314+J328+J334+J349+J360+J370+J376+J379+J385+J392+J397+J409 -> 27 | ... T10: =T11+T213+T218+T227+T234+T256+T258+T266+T269+T285+T302+T305+T308+T314+T328+T334+T349+T360+T370+T376+T379+T385+T392+T397+T409 -> 0
A11: Итого по городскому округу "Город Чита": | C11: =SUM(C12:C212) -> 8.8843731e+08 | D11: =SUM(D12:D212) -> 2.4071567e+08 | E11: =SUM(E12:E212) -> 78379232 | F11: =SUM(F12:F212) -> 1.1529781e+08 | G11: =SUM(G12:G212) -> 29732906 | H11: =SUM(H12:H212) -> 9778836.8 | I11: =SUM(I12:I212) -> 7526880.9 | J11: =SUM(J12:J212) -> 27 | ... T11: =SUM(T12:T212) -> 0
A12: 1 | B12: г. Чита, б-р. Украинский, д. 1(1) | C12: =D12+K12+L12+M12+N12+O12+P12+Q12+R12+S12+T12 -> 314576.99 | D12: =SUM(E12:I12) -> 0 | E12: 0 | F12: 0 | G12: 0 | H12: 0 | I12: 0 | J12: 0 | K12: 0 | L12: 0 | M12: 0 | N12: 0 | O12: 0 | P12: 314576.99 | Q12: 0 | R12: 0 | S12: 0 | T12: 0
A13: 2 | B13: г. Чита, б-р. Украинский, д. 10(4) | C13: =D13+K13+L13+M13+N13+O13+P13+Q13+R13+S13+T13 -> 5950906.6 | D13: =SUM(E13:I13) -> 5675335.3 | E13: 0 | F13: 5675335.3 | G13: 0 | H13: 0 | I13: 0 | J13: 0 | K13: 0 | L13: 0 | M13: 0 | N13: 0 | O13: 0 | P13: 275571.27 | Q13: 0 | R13: 0 | S13: 0 | T13: 0
A14: 3 | B14: г. Чита, б-р. Украинский, д. 14(8) | C14: =D14+K14+L14+M14+N14+O14+P14+Q14+R14+S14+T14 -> 171672.69 | D14: =SUM(E14:I14) -> 0 | E14: 0 | F14: 0 | G14: 0 | H14: 0 | I14: 0 | J14: 0 | K14: 0 | L14: 0 | M14: 0 | N14: 0 | O14: 0 | P14: 171672.69 | Q14: 0 | R14: 0 | S14: 0 | T14: 0
A15: 4 | B15: г. Чита, б-р. Украинский, д. 18(2) | C15: =D15+K15+L15+M15+N15+O15+P15+Q15+R15+S15+T15 -> 5669424.5 | D15: =SUM(E15:I15) -> 0 | E15: 0 | F15: 0 | G15: 0 | H15: 0 | I15: 0 | J15: 0 | K15: 0 | L15: 0 | M15: 0 | N15: 5391200.8 | O15: 0 | P15: 278223.67 | Q15: 0 | R15: 0 | S15: 0 | T15: 0
A16: 5 | B16: г. Чита, б-р. Украинский, д. 22(1,4) | C16: =D16+K16+L16+M16+N16+O16+P16+Q16+R16+S16+T16 -> 6739721.1 | D16: =SUM(E16:I16) -> 6165882.9 | E16: 0 | F16: 6165882.9 | G16: 0 | H16: 0 | I16: 0 | J16: 0 | K16: 0 | L16: 0 | M16: 0 | N16: 0 | O16: 0 | P16: 573838.19 | Q16: 0 | R16: 0 | S16: 0 | T16: 0
A17: 6 | B17: г. Чита, б-р. Украинский, д. 24(1) | C17: =D17+K17+L17+M17+N17+O17+P17+Q17+R17+S17+T17 -> 16977504 | D17: =SUM(E17:I17) -> 4547938.8 | E17: 0 | F17: 4547938.8 | G17: 0 | H17: 0 | I17: 0 | J17: 0 | K17: 0 | L17: 12140761 | M17: 0 | N17: 0 | O17: 0 | P17: 288803.93 | Q17: 0 | R17: 0 | S17: 0 | T17: 0
A18: 7 | B18: г. Чита, б-р. Украинский, д. 28(1,4) | C18: =D18+K18+L18+M18+N18+O18+P18+Q18+R18+S18+T18 -> 15896527 | D18: =SUM(E18:I18) -> 5686206.4 | E18: 0 | F18: 5686206.4 | G18: 0 | H18: 0 | I18: 0 | J18: 0 | K18: 0 | L18: 9662889.4 | M18: 0 | N18: 0 | O18: 0 | P18: 547430.76 | Q18: 0 | R18: 0 | S18: 0 | T18: 0
A19: 8 | B19: г. Чита, б-р. Украинский, д. 3(4) | C19: =D19+K19+L19+M19+N19+O19+P19+Q19+R19+S19+T19 -> 16333474 | D19: =SUM(E19:I19) -> 4821190 | E19: 0 | F19: 4821190 | G19: 0 | H19: 0 | I19: 0 | J19: 0 | K19: 0 | L19: 11246005 | M19: 0 | N19: 0 | O19: 0 | P19: 266278.92 | Q19: 0 | R19: 0 | S19: 0 | T19: 0
A20: 9 | B20: г. Чита, б-р Украинский, д. 7 | C20: =D20+K20+L20+M20+N20+O20+P20+Q20+R20+S20+T20 -> 391899.61 | D20: =SUM(E20:I20) -> 391899.61 | E20: 0 | F20: 0 | G20: 0 | H20: 0 | I20: 391899.61 | J20: 0 | K20: 0 | L20: 0 | M20: 0 | N20: 0 | O20: 0 | P20: 0 | Q20: 0 | R20: 0 | S20: 0 | T20: 0
A21: 10 | B21: г. Чита, б-р. Украинский, д. 8(1) | C21: =D21+K21+L21+M21+N21+O21+P21+Q21+R21+S21+T21 -> 10953603 | D21: =SUM(E21:I21) -> 3170574 | E21: 0 | F21: 3170574 | G21: 0 | H21: 0 | I21: 0 | J21: 0 | K21: 0 | L21: 7516156.3 | M21: 0 | N21: 0 | O21: 0 | P21: 266873.14 | Q21: 0 | R21: 0 | S21: 0 | T21: 0
A22: 11 | B22: г. Чита, мкр. 1-й, д. 28 | C22: =D22+K22+L22+M22+N22+O22+P22+Q22+R22+S22+T22 -> 458721.95 | D22: =SUM(E22:I22) -> 458721.95 | E22: 0 | F22: 0 | G22: 0 | H22: 0 | I22: 458721.95 | J22: 0 | K22: 0 | L22: 0 | M22: 0 | N22: 0 | O22: 0 | P22: 0 | Q22: 0 | R22: 0 | S22: 0 | T22: 0
A23: 12 | B23: г. Чита, мкр. 1-й, д. 6(2) | C23: =D23+K23+L23+M23+N23+O23+P23+Q23+R23+S23+T23 -> 13855160 | D23: =SUM(E23:I23) -> 4061635.2 | E23: 4061635.2 | F23: 0 | G23: 0 | H23: 0 | I23: 0 | J23: 0 | K23: 0 | L23: 0 | M23: 0 | N23: 9504063 | O23: 0 | P23: 289461.42 | Q23: 0 | R23: 0 | S23: 0 | T23: 0
... A26: 15 | B26: г. Чита, мкр. 5-й, д. 29(2) | C26: =D26+K26+L26+M26+N26+O26+P26+Q26+R26+S26+T26 -> 9757581 | D26: =SUM(E26:I26) -> 0 | E26: 0 | F26: 0 | G26: 0 | H26: 0 | I26: 0 | J26: 0 | K26: 0 | L26: 0 | M26: 0 | N26: 9458188.7 | O26: 0 | P26: 299392.3 | Q26: 0 | R26: 0 | S26: 0 | T26: 0
A27: 16 | B27: г. Чита, мкр. 6-й, д. 15(2,8) | C27: =D27+K27+L27+M27+N27+O27+P27+Q27+R27+S27+T27 -> 4739370.8 | D27: =SUM(E27:I27) -> 4271871.6 | E27: 4271871.6 | F27: 0 | G27: 0 | H27: 0 | I27: 0 | J27: 0 | K27: 0 | L27: 0 | M27: 0 | N27: 0 | O27: 0 | P27: =207661.14+259838.08 -> 467499.22 | Q27: 0 | R27: 0 | S27: 0 | T27: 0
A28: 17 | B28: г. Чита, мкр. Агрогородок Опытный, д. 3 | C28: =D28+K28+L28+M28+N28+O28+P28+Q28+R28+S28+T28 -> 2859484.8 | D28: =SUM(E28:I28) -> 2859484.8 | E28: 2859484.8 | F28: 0 | G28: 0 | H28: 0 | I28: 0 | J28: 0 | K28: 0 | L28: 0 | M28: 0 | N28: 0 | O28: 0 | P28: 0 | Q28: 0 | R28: 0 | S28: 0 | T28: 0
A29: 18 | B29: г. Чита, мкр. Батарейный, д. 11(8) | C29: =D29+K29+L29+M29+N29+O29+P29+Q29+R29+S29+T29 -> 5306725.6 | D29: =SUM(E29:I29) -> 5008368.1 | E29: 1861308.7 | F29: 0 | G29: 2703427.4 | H29: 443631.98 | I29: 0 | J29: 0 | K29: 0 | L29: 0 | M29: 0 | N29: 0 | O29: 0 | P29: 298357.49 | Q29: 0 | R29: 0 | S29: 0 | T29: 0
A30: 19 | B30: г. Чита, мкр. Батарейный, д. 4 | C30: =D30+K30+L30+M30+N30+O30+P30+Q30+R30+S30+T30 -> 2477673.8 | D30: =SUM(E30:I30) -> 2477673.8 | E30: 2477673.8 | F30: 0 | G30: 0 | H30: 0 | I30: 0 | J30: 0 | K30: 0 | L30: 0 | M30: 0 | N30: 0 | O30: 0 | P30: 0 | Q30: 0 | R30: 0 | S30: 0 | T30: 0
A31: 20 | B31: г. Чита, мкр. Батарейный, д. 5(2,6) | C31: =D31+K31+L31+M31+N31+O31+P31+Q31+R31+S31+T31 -> 2207923.4 | D31: =SUM(E31:I31) -> 1565714.4 | E31: 1565714.4 | F31: 0 | G31: 0 | H31: 0 | I31: 0 | J31: 0 | K31: 0 | L31: 0 | M31: 0 | N31: 0 | O31: 0 | P31: 642209.03 | Q31: 0 | R31: 0 | S31: 0 | T31: 0
A32: 21 | B32: г. Чита, мкр. Батарейный, д. 7(2,4) | C32: =D32+K32+L32+M32+N32+O32+P32+Q32+R32+S32+T32 -> 21520750 | D32: =SUM(E32:I32) -> 9102267.1 | E32: 0 | F32: 9102267.1 | G32: 0 | H32: 0 | I32: 0 | J32: 0 | K32: 0 | L32: 0 | M32: 0 | N32: 11782164 | O32: 0 | P32: =325603.07+310716.05 -> 636319.12 | Q32: 0 | R32: 0 | S32: 0 | T32: 0
A33: 22 | B33: г. Чита, мкр. Гвардейский, д. 12 | C33: =D33+K33+L33+M33+N33+O33+P33+Q33+R33+S33+T33 -> 2497643.8 | D33: =SUM(E33:I33) -> 2497643.8 | E33: 2497643.8 | F33: 0 | G33: 0 | H33: 0 | I33: 0 | J33: 0 | K33: 0 | L33: 0 | M33: 0 | N33: 0 | O33: 0 | P33: 0 | Q33: 0 | R33: 0 | S33: 0 | T33: 0
A34: 23 | B34: г. Чита, мкр. Гвардейский, д. 7(2) | C34: =D34+K34+L34+M34+N34+O34+P34+Q34+R34+S34+T34 -> 210912.43 | D34: =SUM(E34:I34) -> 0 | E34: 0 | F34: 0 | G34: 0 | H34: 0 | I34: 0 | J34: 0 | K34: 0 | L34: 0 | M34: 0 | N34: 0 | O34: 0 | P34: 210912.43 | Q34: 0 | R34: 0 | S34: 0 | T34: 0
A35: 24 | B35: г. Чита, мкр. Геофизический, д. 5(1) | C35: =D35+K35+L35+M35+N35+O35+P35+Q35+R35+S35+T35 -> 257335.74 | D35: =SUM(E35:I35) -> 0 | E35: 0 | F35: 0 | G35: 0 | H35: 0 | I35: 0 | J35: 0 | K35: 0 | L35: 0 | M35: 0 | N35: 0 | O35: 0 | P35: 257335.74 | Q35: 0 | R35: 0 | S35: 0 | T35: 0
A36: 25 | B36: г. Чита, мкр. Геофизический, д. 7(2) | C36: =D36+K36+L36+M36+N36+O36+P36+Q36+R36+S36+T36 -> 260604.32 | D36: =SUM(E36:I36) -> 0 | E36: 0 | F36: 0 | G36: 0 | H36: 0 | I36: 0 | J36: 0 | K36: 0 | L36: 0 | M36: 0 | N36: 0 | O36: 0 | P36: 260604.32 | Q36: 0 | R36: 0 | S36: 0 | T36: 0
A37: 26 | B37: г. Чита, мкр. Геофизический, д. 8(1/1) | C37: =D37+K37+L37+M37+N37+O37+P37+Q37+R37+S37+T37 -> 254122.85 | D37: =SUM(E37:I37) -> 0 | E37: 0 | F37: 0 | G37: 0 | H37: 0 | I37: 0 | J37: 0 | K37: 0 | L37: 0 | M37: 0 | N37: 0 | O37: 0 | P37: 254122.85 | Q37: 0 | R37: 0 | S37: 0 | T37: 0
A38: 27 | B38: г. Чита, мкр. Осетровка, д. 12(1,4) | C38: =D38+K38+L38+M38+N38+O38+P38+Q38+R38+S38+T38 -> 9222818 | D38: =SUM(E38:I38) -> 0 | E38: 0 | F38: 0 | G38: 0 | H38: 0 | I38: 0 | J38: 0 | K38: 0 | L38: 8755801.4 | M38: 0 | N38: 0 | O38: 0 | P38: =275867.2+191149.4 -> 467016.6 | Q38: 0 | R38: 0 | S38: 0 | T38: 0
A39: 28 | B39: г. Чита, мкр. Осетровка, д. 19(1,4) | C39: =D39+K39+L39+M39+N39+O39+P39+Q39+R39+S39+T39 -> 15219490 | D39: =SUM(E39:I39) -> 5167955.6 | E39: 0 | F39: 5167955.6 | G39: 0 | H39: 0 | I39: 0 | J39: 0 | K39: 0 | L39: 9478378.5 | M39: 0 | N39: 0 | O39: 0 | P39: =296289.41+276866.31 -> 573155.72 | Q39: 0 | R39: 0 | S39: 0 | T39: 0
A40: 29 | B40: г. Чита, мкр. Северный, д. 13(4) | C40: =D40+K40+L40+M40+N40+O40+P40+Q40+R40+S40+T40 -> 2438379.8 | D40: =SUM(E40:I40) -> 2177283.8 | E40: 2177283.8 | F40: 0 | G40: 0 | H40: 0 | I40: 0 | J40: 0 | K40: 0 | L40: 0 | M40: 0 | N40: 0 | O40: 0 | P40: 261095.97 | Q40: 0 | R40: 0 | S40: 0 | T40: 0
A41: 30 | B41: г. Чита, мкр. Северный, д. 40 | C41: =D41+K41+L41+M41+N41+O41+P41+Q41+R41+S41+T41 -> 2126097.6 | D41: =SUM(E41:I41) -> 2126097.6 | E41: 2126097.6 | F41: 0 | G41: 0 | H41: 0 | I41: 0 | J41: 0 | K41: 0 | L41: 0 | M41: 0 | N41: 0 | O41: 0 | P41: 0 | Q41: 0 | R41: 0 | S41: 0 | T41: 0
A42: 31 | B42: г. Чита, мкр. Северный, д. 60 | C42: =D42+K42+L42+M42+N42+O42+P42+Q42+R42+S42+T42 -> 12828641 | D42: =SUM(E42:I42) -> 0 | E42: 0 | F42: 0 | G42: 0 | H42: 0 | I42: 0 | J42: 4 | K42: 12828641 | L42: 0 | M42: 0 | N42: 0 | O42: 0 | P42: 0 | Q42: 0 | R42: 0 | S42: 0 | T42: 0
A43: 32 | B43: г. Чита, мкр. Северный, д. 61 | C43: =D43+K43+L43+M43+N43+O43+P43+Q43+R43+S43+T43 -> 8751660 | D43: =SUM(E43:I43) -> 0 | E43: 0 | F43: 0 | G43: 0 | H43: 0 | I43: 0 | J43: 3 | K43: 8751660 | L43: 0 | M43: 0 | N43: 0 | O43: 0 | P43: 0 | Q43: 0 | R43: 0 | S43: 0 | T43: 0
A44: 33 | B44: г. Чита, мкр. ТУСМ-4, д. 1(6) | C44: =D44+K44+L44+M44+N44+O44+P44+Q44+R44+S44+T44 -> 265575.2 | D44: =SUM(E44:I44) -> 0 | E44: 0 | F44: 0 | G44: 0 | H44: 0 | I44: 0 | J44: 0 | K44: 0 | L44: 0 | M44: 0 | N44: 0 | O44: 0 | P44: 265575.2 | Q44: 0 | R44: 0 | S44: 0 | T44: 0
A45: 34 | B45: г. Чита, п. Ясный, д. 1 | C45: =D45+K45+L45+M45+N45+O45+P45+Q45+R45+S45+T45 -> 6058818.7 | D45: =SUM(E45:I45) -> 6058818.7 | E45: 0 | F45: 3905147.9 | G45: 1132752 | H45: 610309.14 | I45: 410609.69 | J45: 0 | K45: 0 | L45: 0 | M45: 0 | N45: 0 | O45: 0 | P45: 0 | Q45: 0 | R45: 0 | S45: 0 | T45: 0
A46: 35 | B46: г. Чита, п. Ясный, д. 17 | C46: =D46+K46+L46+M46+N46+O46+P46+Q46+R46+S46+T46 -> 1301702.4 | D46: =SUM(E46:I46) -> 1301702.4 | E46: 0 | F46: 0 | G46: 1301702.4 | H46: 0 | I46: 0 | J46: 0 | K46: 0 | L46: 0 | M46: 0 | N46: 0 | O46: 0 | P46: 0 | Q46: 0 | R46: 0 | S46: 0 | T46: 0
A47: 36 | B47: г. Чита, п. Ясный, д. 3(4) | C47: =D47+K47+L47+M47+N47+O47+P47+Q47+R47+S47+T47 -> 2742180 | D47: =SUM(E47:I47) -> 2531105.3 | E47: 2531105.3 | F47: 0 | G47: 0 | H47: 0 | I47: 0 | J47: 0 | K47: 0 | L47: 0 | M47: 0 | N47: 0 | O47: 0 | P47: 211074.66 | Q47: 0 | R47: 0 | S47: 0 | T47: 0
A48: 37 | B48: г. Чита, п. Ясный, д. 4(4) | C48: =D48+K48+L48+M48+N48+O48+P48+Q48+R48+S48+T48 -> 473467.08 | D48: =SUM(E48:I48) -> 304154.43 | E48: 304154.43 | F48: 0 | G48: 0 | H48: 0 | I48: 0 | J48: 0 | K48: 0 | L48: 0 | M48: 0 | N48: 0 | O48: 0 | P48: 169312.65 | Q48: 0 | R48: 0 | S48: 0 | T48: 0
A49: 38 | B49: г. Чита, п. Ясный, д. 5(4) | C49: =D49+K49+L49+M49+N49+O49+P49+Q49+R49+S49+T49 -> 423649.33 | D49: =SUM(E49:I49) -> 267529.08 | E49: 267529.08 | F49: 0 | G49: 0 | H49: 0 | I49: 0 | J49: 0 | K49: 0 | L49: 0 | M49: 0 | N49: 0 | O49: 0 | P49: 156120.25 | Q49: 0 | R49: 0 | S49: 0 | T49: 0
A50: 39 | B50: г. Чита, п. Ясный, д. 6(4) | C50: =D50+K50+L50+M50+N50+O50+P50+Q50+R50+S50+T50 -> 426814.43 | D50: =SUM(E50:I50) -> 267529.08 | E50: 267529.08 | F50: 0 | G50: 0 | H50: 0 | I50: 0 | J50: 0 | K50: 0 | L50: 0 | M50: 0 | N50: 0 | O50: 0 | P50: 159285.35 | Q50: 0 | R50: 0 | S50: 0 | T50: 0
A51: 40 | B51: г. Чита, п. Ясный, д. 7 | C51: =D51+K51+L51+M51+N51+O51+P51+Q51+R51+S51+T51 -> 487666.6 | D51: =SUM(E51:I51) -> 487666.6 | E51: 487666.6 | F51: 0 | G51: 0 | H51: 0 | I51: 0 | J51: 0 | K51: 0 | L51: 0 | M51: 0 | N51: 0 | O51: 0 | P51: 0 | Q51: 0 | R51: 0 | S51: 0 | T51: 0
... A56: 45 | B56: г. Чита, пер. Промышленный, д. 5(1) | C56: =D56+K56+L56+M56+N56+O56+P56+Q56+R56+S56+T56 -> 166822.21 | D56: =SUM(E56:I56) -> 0 | E56: 0 | F56: 0 | G56: 0 | H56: 0 | I56: 0 | J56: 0 | K56: 0 | L56: 0 | M56: 0 | N56: 0 | O56: 0 | P56: 166822.21 | Q56: 0 | R56: 0 | S56: 0 | T56: 0
A57: 46 | B57: г. Чита, пр-кт. Советов, д. 5(6) | C57: =D57+K57+L57+M57+N57+O57+P57+Q57+R57+S57+T57 -> 3206846.2 | D57: =SUM(E57:I57) -> 2606228.4 | E57: 2606228.4 | F57: 0 | G57: 0 | H57: 0 | I57: 0 | J57: 0 | K57: 0 | L57: 0 | M57: 0 | N57: 0 | O57: 0 | P57: =334651.44+265966.37 -> 600617.81 | Q57: 0 | R57: 0 | S57: 0 | T57: 0
A58: 47 | B58: г. Чита, пр-кт. Фадеева, д. 24(7) | C58: =D58+K58+L58+M58+N58+O58+P58+Q58+R58+S58+T58 -> 134171 | D58: =SUM(E58:I58) -> 0 | E58: 0 | F58: 0 | G58: 0 | H58: 0 | I58: 0 | J58: 0 | K58: 0 | L58: 0 | M58: 0 | N58: 0 | O58: 0 | P58: 134171 | Q58: 0 | R58: 0 | S58: 0 | T58: 0
A59: 48 | B59: г. Чита, проезд Александра Булгакова, д. 50 | C59: =D59+K59+L59+M59+N59+O59+P59+Q59+R59+S59+T59 -> 219362.54 | D59: =SUM(E59:I59) -> 219362.54 | E59: 0 | F59: 0 | G59: 0 | H59: 219362.54 | I59: 0 | J59: 0 | K59: 0 | L59: 0 | M59: 0 | N59: 0 | O59: 0 | P59: 0 | Q59: 0 | R59: 0 | S59: 0 | T59: 0
A60: 49 | B60: г. Чита, тр-кт. Молоковский, д. 114(6) | C60: =D60+K60+L60+M60+N60+O60+P60+Q60+R60+S60+T60 -> 377981.1 | D60: =SUM(E60:I60) -> 0 | E60: 0 | F60: 0 | G60: 0 | H60: 0 | I60: 0 | J60: 0 | K60: 0 | L60: 0 | M60: 0 | N60: 0 | O60: 0 | P60: =196922.5+181058.6 -> 377981.1 | Q60: 0 | R60: 0 | S60: 0 | T60: 0
A61: 50 | B61: г. Чита, ул. 1-я Московская, д. 56 | C61: =D61+K61+L61+M61+N61+O61+P61+Q61+R61+S61+T61 -> 1546459.7 | D61: =SUM(E61:I61) -> 1546459.7 | E61: 0 | F61: 0 | G61: 1546459.7 | H61: 0 | I61: 0 | J61: 0 | K61: 0 | L61: 0 | M61: 0 | N61: 0 | O61: 0 | P61: 0 | Q61: 0 | R61: 0 | S61: 0 | T61: 0
A62: 51 | B62: г. Чита, ул. 2-я Коммунальная, д. 39(2) | C62: =D62+K62+L62+M62+N62+O62+P62+Q62+R62+S62+T62 -> 11659431 | D62: =SUM(E62:I62) -> 0 | E62: 0 | F62: 0 | G62: 0 | H62: 0 | I62: 0 | J62: 0 | K62: 0 | L62: 0 | M62: 0 | N62: 11373659 | O62: 0 | P62: 285772.05 | Q62: 0 | R62: 0 | S62: 0 | T62: 0
A63: 52 | B63: г. Чита, ул. 2-я Коммунальная, д. 45 | C63: =D63+K63+L63+M63+N63+O63+P63+Q63+R63+S63+T63 -> 379523.8 | D63: =SUM(E63:I63) -> 379523.8 | E63: 379523.8 | F63: 0 | G63: 0 | H63: 0 | I63: 0 | J63: 0 | K63: 0 | L63: 0 | M63: 0 | N63: 0 | O63: 0 | P63: 0 | Q63: 0 | R63: 0 | S63: 0 | T63: 0
A64: 53 | B64: г. Чита, ул. 2-я Малая, д. 10(1) | C64: =D64+K64+L64+M64+N64+O64+P64+Q64+R64+S64+T64 -> 145370.03 | D64: =SUM(E64:I64) -> 0 | E64: 0 | F64: 0 | G64: 0 | H64: 0 | I64: 0 | J64: 0 | K64: 0 | L64: 0 | M64: 0 | N64: 0 | O64: 0 | P64: 145370.03 | Q64: 0 | R64: 0 | S64: 0 | T64: 0
A65: 54 | B65: г. Чита, ул. 5-я Малая, д. 1а(1) | C65: =D65+K65+L65+M65+N65+O65+P65+Q65+R65+S65+T65 -> 147350.51 | D65: =SUM(E65:I65) -> 0 | E65: 0 | F65: 0 | G65: 0 | H65: 0 | I65: 0 | J65: 0 | K65: 0 | L65: 0 | M65: 0 | N65: 0 | O65: 0 | P65: 147350.51 | Q65: 0 | R65: 0 | S65: 0 | T65: 0
A66: 55 | B66: г. Чита, ул. 5-я Малая, д. 1б(4) | C66: =D66+K66+L66+M66+N66+O66+P66+Q66+R66+S66+T66 -> 140658.88 | D66: =SUM(E66:I66) -> 0 | E66: 0 | F66: 0 | G66: 0 | H66: 0 | I66: 0 | J66: 0 | K66: 0 | L66: 0 | M66: 0 | N66: 0 | O66: 0 | P66: 140658.88 | Q66: 0 | R66: 0 | S66: 0 | T66: 0
A67: 56 | B67: г. Чита, ул. 9 Января, д. 55(1) | C67: =D67+K67+L67+M67+N67+O67+P67+Q67+R67+S67+T67 -> 292575.33 | D67: =SUM(E67:I67) -> 0 | E67: 0 | F67: 0 | G67: 0 | H67: 0 | I67: 0 | J67: 0 | K67: 0 | L67: 0 | M67: 0 | N67: 0 | O67: 0 | P67: 292575.33 | Q67: 0 | R67: 0 | S67: 0 | T67: 0
A68: 57 | B68: г. Чита, ул. 40 лет Октября, д. 13 | C68: =D68+K68+L68+M68+N68+O68+P68+Q68+R68+S68+T68 -> 1650674 | D68: =SUM(E68:I68) -> 1650674 | E68: 0 | F68: 1400367.6 | G68: 0 | H68: 90221.12 | I68: 160085.29 | J68: 0 | K68: 0 | L68: 0 | M68: 0 | N68: 0 | O68: 0 | P68: 0 | Q68: 0 | R68: 0 | S68: 0 | T68: 0
A69: 58 | B69: г. Чита, ул. Автогенная, д. 19 | C69: =D69+K69+L69+M69+N69+O69+P69+Q69+R69+S69+T69 -> 1658604.5 | D69: =SUM(E69:I69) -> 1658604.5 | E69: 0 | F69: 0 | G69: 1658604.5 | H69: 0 | I69: 0 | J69: 0 | K69: 0 | L69: 0 | M69: 0 | N69: 0 | O69: 0 | P69: 0 | Q69: 0 | R69: 0 | S69: 0 | T69: 0
A70: 59 | B70: г. Чита, ул. Автогенная, д. 5 | C70: =D70+K70+L70+M70+N70+O70+P70+Q70+R70+S70+T70 -> 997039.41 | D70: =SUM(E70:I70) -> 997039.41 | E70: 0 | F70: 0 | G70: 0 | H70: 417794.76 | I70: 579244.65 | J70: 0 | K70: 0 | L70: 0 | M70: 0 | N70: 0 | O70: 0 | P70: 0 | Q70: 0 | R70: 0 | S70: 0 | T70: 0
A71: 60 | B71: г. Чита, ул. Автозаводская, д. 7(6) | C71: =D71+K71+L71+M71+N71+O71+P71+Q71+R71+S71+T71 -> 419368.34 | D71: =SUM(E71:I71) -> 0 | E71: 0 | F71: 0 | G71: 0 | H71: 0 | I71: 0 | J71: 0 | K71: 0 | L71: 0 | M71: 0 | N71: 0 | O71: 0 | P71: =267084.49+152283.85 -> 419368.34 | Q71: 0 | R71: 0 | S71: 0 | T71: 0
A72: 61 | B72: г. Чита, ул. Александро-Заводская, д. 13(1) | C72: =D72+K72+L72+M72+N72+O72+P72+Q72+R72+S72+T72 -> 259180.81 | D72: =SUM(E72:I72) -> 0 | E72: 0 | F72: 0 | G72: 0 | H72: 0 | I72: 0 | J72: 0 | K72: 0 | L72: 0 | M72: 0 | N72: 0 | O72: 0 | P72: 259180.81 | Q72: 0 | R72: 0 | S72: 0 | T72: 0
A73: 62 | B73: г. Чита, ул. Амурская, д. 48 | C73: =D73+K73+L73+M73+N73+O73+P73+Q73+R73+S73+T73 -> 11751749 | D73: =SUM(E73:I73) -> 0 | E73: 0 | F73: 0 | G73: 0 | H73: 0 | I73: 0 | J73: 0 | K73: 0 | L73: 0 | M73: 0 | N73: 11751749 | O73: 0 | P73: 0 | Q73: 0 | R73: 0 | S73: 0 | T73: 0
A74: 63 | B74: г. Чита, ул. Амурская, д. 82(4) | C74: =D74+K74+L74+M74+N74+O74+P74+Q74+R74+S74+T74 -> 198651.11 | D74: =SUM(E74:I74) -> 0 | E74: 0 | F74: 0 | G74: 0 | H74: 0 | I74: 0 | J74: 0 | K74: 0 | L74: 0 | M74: 0 | N74: 0 | O74: 0 | P74: 198651.11 | Q74: 0 | R74: 0 | S74: 0 | T74: 0
A75: 64 | B75: г. Чита, ул. Анохина, д. 3(1,6) | C75: =D75+K75+L75+M75+N75+O75+P75+Q75+R75+S75+T75 -> 4521682.2 | D75: =SUM(E75:I75) -> 3805593 | E75: 0 | F75: 2327458.4 | G75: 1152838.7 | H75: 325296 | I75: 0 | J75: 0 | K75: 0 | L75: 0 | M75: 0 | N75: 0 | O75: 0 | P75: =247668.01+269548.72+198872.4 -> 716089.13 | Q75: 0 | R75: 0 | S75: 0 | T75: 0
A76: 65 | B76: г. Чита, ул. Анохина, д. 43 | C76: =D76+K76+L76+M76+N76+O76+P76+Q76+R76+S76+T76 -> 1190490.9 | D76: =SUM(E76:I76) -> 1190490.9 | E76: 0 | F76: 0 | G76: 1190490.9 | H76: 0 | I76: 0 | J76: 0 | K76: 0 | L76: 0 | M76: 0 | N76: 0 | O76: 0 | P76: 0 | Q76: 0 | R76: 0 | S76: 0 | T76: 0
A77: 66 | B77: г. Чита, ул. Анохина, д. 96(1/1) | C77: =D77+K77+L77+M77+N77+O77+P77+Q77+R77+S77+T77 -> 6511803.1 | D77: =SUM(E77:I77) -> 954307.2 | E77: 954307.2 | F77: 0 | G77: 0 | H77: 0 | I77: 0 | J77: 0 | K77: 0 | L77: 0 | M77: 0 | N77: 0 | O77: 0 | P77: 240604.22 | Q77: 0 | R77: 0 | S77: 5316891.7 | T77: 0
A78: 67 | B78: г. Чита, ул. Бабушкина, д. 11(4) | C78: =D78+K78+L78+M78+N78+O78+P78+Q78+R78+S78+T78 -> 372048.24 | D78: =SUM(E78:I78) -> 0 | E78: 0 | F78: 0 | G78: 0 | H78: 0 | I78: 0 | J78: 0 | K78: 0 | L78: 0 | M78: 0 | N78: 0 | O78: 0 | P78: 372048.24 | Q78: 0 | R78: 0 | S78: 0 | T78: 0
A79: 68 | B79: г. Чита, ул. Бабушкина, д. 30(6) | C79: =D79+K79+L79+M79+N79+O79+P79+Q79+R79+S79+T79 -> 557624.08 | D79: =SUM(E79:I79) -> 194824 | E79: 0 | F79: 0 | G79: 194824 | H79: 0 | I79: 0 | J79: 0 | K79: 0 | L79: 0 | M79: 0 | N79: 0 | O79: 0 | P79: 362800.08 | Q79: 0 | R79: 0 | S79: 0 | T79: 0
A80: 69 | B80: г. Чита, ул. Бабушкина, д. 32(2) | C80: =D80+K80+L80+M80+N80+O80+P80+Q80+R80+S80+T80 -> 292381.36 | D80: =SUM(E80:I80) -> 0 | E80: 0 | F80: 0 | G80: 0 | H80: 0 | I80: 0 | J80: 0 | K80: 0 | L80: 0 | M80: 0 | N80: 0 | O80: 0 | P80: 292381.36 | Q80: 0 | R80: 0 | S80: 0 | T80: 0
A81: 70 | B81: г. Чита, ул. Бабушкина, д. 34(7) | C81: =D81+K81+L81+M81+N81+O81+P81+Q81+R81+S81+T81 -> 10820678 | D81: =SUM(E81:I81) -> 0 | E81: 0 | F81: 0 | G81: 0 | H81: 0 | I81: 0 | J81: 3 | K81: 10736126 | L81: 0 | M81: 0 | N81: 0 | O81: 0 | P81: 84551.86 | Q81: 0 | R81: 0 | S81: 0 | T81: 0
A82: 71 | B82: г. Чита, ул. Бабушкина, д. 36(8) | C82: =D82+K82+L82+M82+N82+O82+P82+Q82+R82+S82+T82 -> 1270282.4 | D82: =SUM(E82:I82) -> 978938.23 | E82: 0 | F82: 0 | G82: 0 | H82: 557644.6 | I82: 421293.63 | J82: 0 | K82: 0 | L82: 0 | M82: 0 | N82: 0 | O82: 0 | P82: 291344.22 | Q82: 0 | R82: 0 | S82: 0 | T82: 0
A83: 72 | B83: г. Чита, ул. Бабушкина, д. 5(1,4) | C83: =D83+K83+L83+M83+N83+O83+P83+Q83+R83+S83+T83 -> 16876022 | D83: =SUM(E83:I83) -> 5296349.8 | E83: 0 | F83: 5296349.8 | G83: 0 | H83: 0 | I83: 0 | J83: 0 | K83: 0 | L83: 11016809 | M83: 0 | N83: 0 | O83: 0 | P83: 562863.29 | Q83: 0 | R83: 0 | S83: 0 | T83: 0
A84: 73 | B84: г. Чита, ул. Байкальская, д. 15(4) | C84: =D84+K84+L84+M84+N84+O84+P84+Q84+R84+S84+T84 -> 5205688.4 | D84: =SUM(E84:I84) -> 4949125.5 | E84: 0 | F84: 4949125.5 | G84: 0 | H84: 0 | I84: 0 | J84: 0 | K84: 0 | L84: 0 | M84: 0 | N84: 0 | O84: 0 | P84: 256562.91 | Q84: 0 | R84: 0 | S84: 0 | T84: 0
A85: 74 | B85: г. Чита, ул. Балябина, д. 45(1) | C85: =D85+K85+L85+M85+N85+O85+P85+Q85+R85+S85+T85 -> 312220.88 | D85: =SUM(E85:I85) -> 0 | E85: 0 | F85: 0 | G85: 0 | H85: 0 | I85: 0 | J85: 0 | K85: 0 | L85: 0 | M85: 0 | N85: 0 | O85: 0 | P85: 312220.88 | Q85: 0 | R85: 0 | S85: 0 | T85: 0
A86: 75 | B86: г. Чита, ул. Баргузинская, д. 12(1) | C86: =D86+K86+L86+M86+N86+O86+P86+Q86+R86+S86+T86 -> 200481.33 | D86: =SUM(E86:I86) -> 0 | E86: 0 | F86: 0 | G86: 0 | H86: 0 | I86: 0 | J86: 0 | K86: 0 | L86: 0 | M86: 0 | N86: 0 | O86: 0 | P86: 200481.33 | Q86: 0 | R86: 0 | S86: 0 | T86: 0
A87: 76 | B87: г. Чита, ул. Бекетова, д. 38 | C87: =D87+K87+L87+M87+N87+O87+P87+Q87+R87+S87+T87 -> 6117132.2 | D87: =SUM(E87:I87) -> 0 | E87: 0 | F87: 0 | G87: 0 | H87: 0 | I87: 0 | J87: 0 | K87: 0 | L87: 0 | M87: 0 | N87: 0 | O87: 0 | P87: 0 | Q87: 0 | R87: 0 | S87: 6117132.2 | T87: 0
... A102: 91 | B102: г. Чита, ул. Гагарина, д. 9 | C102: =D102+K102+L102+M102+N102+O102+P102+Q102+R102+S102+T102 -> 5782289.3 | D102: =SUM(E102:I102) -> 5782289.3 | E102: 0 | F102: 4867946.9 | G102: 458850 | H102: 455492.4 | I102: 0 | J102: 0 | K102: 0 | L102: 0 | M102: 0 | N102: 0 | O102: 0 | P102: 0 | Q102: 0 | R102: 0 | S102: 0 | T102: 0
A103: 92 | B103: г. Чита, ул. Горького, д. 38(6) | C103: =D103+K103+L103+M103+N103+O103+P103+Q103+R103+S103+T103 -> 1377774.7 | D103: =SUM(E103:I103) -> 844569.06 | E103: 0 | F103: 0 | G103: 0 | H103: 462002.66 | I103: 382566.4 | J103: 0 | K103: 0 | L103: 0 | M103: 0 | N103: 0 | O103: 0 | P103: =304146.21+229059.41 -> 533205.62 | Q103: 0 | R103: 0 | S103: 0 | T103: 0
A104: 93 | B104: г. Чита, ул. Дивизионная, д. 4(2) | C104: =D104+K104+L104+M104+N104+O104+P104+Q104+R104+S104+T104 -> 14706691 | D104: =SUM(E104:I104) -> 0 | E104: 0 | F104: 0 | G104: 0 | H104: 0 | I104: 0 | J104: 0 | K104: 0 | L104: 0 | M104: 0 | N104: 14408263 | O104: 0 | P104: 298428.3 | Q104: 0 | R104: 0 | S104: 0 | T104: 0
A105: 94 | B105: г. Чита, ул. Дивизионная, д. 8а(1) | C105: =D105+K105+L105+M105+N105+O105+P105+Q105+R105+S105+T105 -> 249341.12 | D105: =SUM(E105:I105) -> 0 | E105: 0 | F105: 0 | G105: 0 | H105: 0 | I105: 0 | J105: 0 | K105: 0 | L105: 0 | M105: 0 | N105: 0 | O105: 0 | P105: 249341.12 | Q105: 0 | R105: 0 | S105: 0 | T105: 0
A106: 95 | B106: г. Чита, ул. Евгения Гаюсана, д. 28(4) | C106: =D106+K106+L106+M106+N106+O106+P106+Q106+R106+S106+T106 -> 2901295.6 | D106: =SUM(E106:I106) -> 2598898.5 | E106: 2319699.4 | F106: 0 | G106: 0 | H106: 0 | I106: 279199.04 | J106: 0 | K106: 0 | L106: 0 | M106: 0 | N106: 0 | O106: 0 | P106: 302397.15 | Q106: 0 | R106: 0 | S106: 0 | T106: 0
A107: 96 | B107: г. Чита, ул. Евгения Гаюсана, д. 30(1) | C107: =D107+K107+L107+M107+N107+O107+P107+Q107+R107+S107+T107 -> 272569.13 | D107: =SUM(E107:I107) -> 0 | E107: 0 | F107: 0 | G107: 0 | H107: 0 | I107: 0 | J107: 0 | K107: 0 | L107: 0 | M107: 0 | N107: 0 | O107: 0 | P107: 272569.13 | Q107: 0 | R107: 0 | S107: 0 | T107: 0
A108: 97 | B108: г. Чита, ул. Железобетонная, д 16(4) | C108: =D108+K108+L108+M108+N108+O108+P108+Q108+R108+S108+T108 -> 285156.97 | D108: =SUM(E108:I108) -> 0 | E108: 0 | F108: 0 | G108: 0 | H108: 0 | I108: 0 | J108: 0 | K108: 0 | L108: 0 | M108: 0 | N108: 0 | O108: 0 | P108: 285156.97 | Q108: 0 | R108: 0 | S108: 0 | T108: 0
A109: 98 | B109: г. Чита, ул. Железобетонная, д. 22 | C109: =D109+K109+L109+M109+N109+O109+P109+Q109+R109+S109+T109 -> 2290444.3 | D109: =SUM(E109:I109) -> 2290444.3 | E109: 0 | F109: 2290444.3 | G109: 0 | H109: 0 | I109: 0 | J109: 0 | K109: 0 | L109: 0 | M109: 0 | N109: 0 | O109: 0 | P109: 0 | Q109: 0 | R109: 0 | S109: 0 | T109: 0
A110: 99 | B110: г. Чита, ул. Журавлева, д. 112(1) | C110: =D110+K110+L110+M110+N110+O110+P110+Q110+R110+S110+T110 -> 8786046 | D110: =SUM(E110:I110) -> 0 | E110: 0 | F110: 0 | G110: 0 | H110: 0 | I110: 0 | J110: 0 | K110: 0 | L110: 8604155.5 | M110: 0 | N110: 0 | O110: 0 | P110: 181890.58 | Q110: 0 | R110: 0 | S110: 0 | T110: 0
A111: 100 | B111: г. Чита, ул. Забайкальская, д. 10(1) | C111: =D111+K111+L111+M111+N111+O111+P111+Q111+R111+S111+T111 -> 163729.58 | D111: =SUM(E111:I111) -> 0 | E111: 0 | F111: 0 | G111: 0 | H111: 0 | I111: 0 | J111: 0 | K111: 0 | L111: 0 | M111: 0 | N111: 0 | O111: 0 | P111: 163729.58 | Q111: 0 | R111: 0 | S111: 0 | T111: 0
A112: 101 | B112: г. Чита, ул. Забайкальская, д. 5(4) | C112: =D112+K112+L112+M112+N112+O112+P112+Q112+R112+S112+T112 -> 220295.2 | D112: =SUM(E112:I112) -> 0 | E112: 0 | F112: 0 | G112: 0 | H112: 0 | I112: 0 | J112: 0 | K112: 0 | L112: 0 | M112: 0 | N112: 0 | O112: 0 | P112: 220295.2 | Q112: 0 | R112: 0 | S112: 0 | T112: 0
A113: 102 | B113: г. Чита, ул. Забайкальского Рабочего, д. 34 | C113: =D113+K113+L113+M113+N113+O113+P113+Q113+R113+S113+T113 -> 5559673.5 | D113: =SUM(E113:I113) -> 0 | E113: 0 | F113: 0 | G113: 0 | H113: 0 | I113: 0 | J113: 0 | K113: 0 | L113: 0 | M113: 0 | N113: 5559673.5 | O113: 0 | P113: 0 | Q113: 0 | R113: 0 | S113: 0 | T113: 0
A114: 103 | B114: г. Чита, ул. Забайкальского Рабочего, д. 38(7) | C114: =D114+K114+L114+M114+N114+O114+P114+Q114+R114+S114+T114 -> 6562018.7 | D114: =SUM(E114:I114) -> 0 | E114: 0 | F114: 0 | G114: 0 | H114: 0 | I114: 0 | J114: 2 | K114: 6447135.8 | L114: 0 | M114: 0 | N114: 0 | O114: 0 | P114: 114882.86 | Q114: 0 | R114: 0 | S114: 0 | T114: 0
A115: 104 | B115: г. Чита, ул. Забайкальского Рабочего, д. 4(6) | C115: =D115+K115+L115+M115+N115+O115+P115+Q115+R115+S115+T115 -> 5559998.7 | D115: =SUM(E115:I115) -> 4964117.5 | E115: 4964117.5 | F115: 0 | G115: 0 | H115: 0 | I115: 0 | J115: 0 | K115: 0 | L115: 0 | M115: 0 | N115: 0 | O115: 0 | P115: =275160.04+320721.14 -> 595881.18 | Q115: 0 | R115: 0 | S115: 0 | T115: 0
A116: 105 | B116: г. Чита, ул. Кайдаловская, д. 10(2) | C116: =D116+K116+L116+M116+N116+O116+P116+Q116+R116+S116+T116 -> 200350.98 | D116: =SUM(E116:I116) -> 0 | E116: 0 | F116: 0 | G116: 0 | H116: 0 | I116: 0 | J116: 0 | K116: 0 | L116: 0 | M116: 0 | N116: 0 | O116: 0 | P116: 200350.98 | Q116: 0 | R116: 0 | S116: 0 | T116: 0
A117: 106 | B117: г. Чита, ул. Кайдаловская, д. 19(1,6) | C117: =D117+K117+L117+M117+N117+O117+P117+Q117+R117+S117+T117 -> 17165455 | D117: =SUM(E117:I117) -> 0 | E117: 0 | F117: 0 | G117: 0 | H117: 0 | I117: 0 | J117: 0 | K117: 0 | L117: 16380806 | M117: 0 | N117: 0 | O117: 0 | P117: =229396.52+173266.34+381986.39 -> 784649.25 | Q117: 0 | R117: 0 | S117: 0 | T117: 0
A118: 107 | B118: г. Чита, ул. Калангуйская, д. 38 а(6) | C118: =D118+K118+L118+M118+N118+O118+P118+Q118+R118+S118+T118 -> 189520 | D118: =SUM(E118:I118) -> 0 | E118: 0 | F118: 0 | G118: 0 | H118: 0 | I118: 0 | J118: 0 | K118: 0 | L118: 0 | M118: 0 | N118: 0 | O118: 0 | P118: 189520 | Q118: 0 | R118: 0 | S118: 0 | T118: 0
A119: 108 | B119: г. Чита, ул. Каларская, д. 4(4) | C119: =D119+K119+L119+M119+N119+O119+P119+Q119+R119+S119+T119 -> 221624.47 | D119: =SUM(E119:I119) -> 0 | E119: 0 | F119: 0 | G119: 0 | H119: 0 | I119: 0 | J119: 0 | K119: 0 | L119: 0 | M119: 0 | N119: 0 | O119: 0 | P119: 221624.47 | Q119: 0 | R119: 0 | S119: 0 | T119: 0
A120: 109 | B120: г. Чита, ул. Карла Маркса, д. 14(4) | C120: =D120+K120+L120+M120+N120+O120+P120+Q120+R120+S120+T120 -> 6353757.8 | D120: =SUM(E120:I120) -> 6080434.3 | E120: 2773249.2 | F120: 2646851.4 | G120: 0 | H120: 332717.41 | I120: 327616.36 | J120: 0 | K120: 0 | L120: 0 | M120: 0 | N120: 0 | O120: 0 | P120: 273323.45 | Q120: 0 | R120: 0 | S120: 0 | T120: 0
A121: 110 | B121: г. Чита, ул. Кирова, д. 2а(1) | C121: =D121+K121+L121+M121+N121+O121+P121+Q121+R121+S121+T121 -> 190384.1 | D121: =SUM(E121:I121) -> 0 | E121: 0 | F121: 0 | G121: 0 | H121: 0 | I121: 0 | J121: 0 | K121: 0 | L121: 0 | M121: 0 | N121: 0 | O121: 0 | P121: 190384.1 | Q121: 0 | R121: 0 | S121: 0 | T121: 0
A122: 111 | B122: г. Чита, ул. Кирова, д. 4а | C122: =D122+K122+L122+M122+N122+O122+P122+Q122+R122+S122+T122 -> 5555915.9 | D122: =SUM(E122:I122) -> 0 | E122: 0 | F122: 0 | G122: 0 | H122: 0 | I122: 0 | J122: 0 | K122: 0 | L122: 5555915.9 | M122: 0 | N122: 0 | O122: 0 | P122: 0 | Q122: 0 | R122: 0 | S122: 0 | T122: 0
...
